BEGIN:VCALENDAR
VERSION:2.0
PRODID:IEEE vTools.Events//EN
CALSCALE:GREGORIAN
BEGIN:VTIMEZONE
TZID:America/Los_Angeles
BEGIN:DAYLIGHT
DTSTART:20190310T030000
TZOFFSETFROM:-0800
TZOFFSETTO:-0700
RRULE:FREQ=YEARLY;BYDAY=2SU;BYMONTH=3
TZNAME:PDT
END:DAYLIGHT
BEGIN:STANDARD
DTSTART:20181104T010000
TZOFFSETFROM:-0700
TZOFFSETTO:-0800
RRULE:FREQ=YEARLY;BYDAY=1SU;BYMONTH=11
TZNAME:PST
END:STANDARD
END:VTIMEZONE
BEGIN:VEVENT
DTSTAMP:20190501T191311Z
UID:6B465CA1-1C31-4757-90CB-2FDBE13BD3EC
DTSTART;TZID=America/Los_Angeles:20190213T183000
DTEND;TZID=America/Los_Angeles:20190213T203000
DESCRIPTION:Modern purpose built race cars utilize specialized computers to
  control engine functions. This presentation looks at the requirements and
  design of Engine Control Units in general and specifically as installed i
 n an Elan NP01 race car. The process of dyno tuning the AEM brand ECU will
  be demonstrated\, as well as sharing some on track road racing experience
 s.\n\nSpeaker(s): Richard Gray\, \n\nAgenda: \nPizza/Refreshments: 6:30 PM
 \nPresentation: 7:00 PM\n\nRoom: Library\, Bldg: La Reina High School\, 10
 6 West Janss Road\, Thousand Oaks\, California\, United States\, 91360
LOCATION:Room: Library\, Bldg: La Reina High School\, 106 West Janss Road\,
  Thousand Oaks\, California\, United States\, 91360
ORGANIZER:events2019@computer.ieee-bv.org
SEQUENCE:3
SUMMARY:Engine Control Units for Race Cars
URL;VALUE=URI:https://events.vtools.ieee.org/m/186873
X-ALT-DESC:Description: &lt;br /&gt;&lt;p&gt;Modern purpose built race cars utilize spe
 cialized computers to control engine functions. This presentation looks at
  the requirements and design of Engine Control Units in general and specif
 ically as installed in an Elan NP01 race car. The process of dyno tuning t
 he AEM brand ECU will be demonstrated\, as well as sharing some on track r
 oad racing experiences.&lt;/p&gt;&lt;br /&gt;&lt;br /&gt;Agenda: &lt;br /&gt;&lt;p&gt;Pizza/Refreshments
 : 6:30 PM&lt;br /&gt;Presentation: 7:00 PM&lt;/p&gt;
END:VEVENT
END:VCALENDAR

