BEGIN:VCALENDAR
VERSION:2.0
PRODID:IEEE vTools.Events//EN
CALSCALE:GREGORIAN
BEGIN:VTIMEZONE
TZID:Asia/Tokyo
BEGIN:STANDARD
DTSTART:19510909T000000
TZOFFSETFROM:+1000
TZOFFSETTO:+0900
TZNAME:JST
END:STANDARD
END:VTIMEZONE
BEGIN:VEVENT
DTSTAMP:20190211T043126Z
UID:813AC4EA-B853-4170-B46C-973593D3D254
DTSTART;TZID=Asia/Tokyo:20180710T160000
DTEND;TZID=Asia/Tokyo:20180710T170000
DESCRIPTION:Prof. Alison B. Flatau talked followings as IEEE DL program\n\n
 Title: Structural Magnetostrictive Alloys: From Flexible Sensors to Energy
  Harvesters and Magnetically Controlled Auxetics\n\nAbstract: Novel sensor
 s and energy harvesting transducers take advantage of the significantly ex
 panded design space made possible by recent advances in structural magneto
 strictive alloys. These alloys can be machined and welded\, have high frac
 ture toughness\, and can actuate\, sense\, and carry load while subjected 
 to tension\, compression\, and bending. The talk includes an introduction 
 to magnetostrictive materials and transduction\, and a discussion on the u
 se of low-cost rolling and annealing methods in lieu of more costly crysta
 l growth methods for making bulk iron-gallium (Galfenol) and iron-aluminum
  (Alfenol) alloys. The process of using magnetostrictive materials to conv
 ert mechanical energy into magnetic energy and then into electrical energy
  is explained and demonstrated using sensors and energy harvesting devices
  as examples. Examples of magnetostrictive devices include prototypes rang
 ing in size from nanowire-based pressure sensors to huge structures floati
 ng in the ocean that convert wave energy into electrical power for “comm
 unity-scale” energy needs. The recent discovery of a particularly unique
  attribute of these alloys\, their auxetic behavior\, will also be discuss
 ed. In both Galfenol and Alfenol\, both strain and magnetic fields can pro
 duce simultaneous increases in lateral and longitudinal dimensions\, with 
 measured values of the resulting Poisson ratio being not only negative\, b
 ut as low as -2.0 in some cases. Mechanical\, aerospace and civil engineer
 s should find the discussion on the use of magnetic fields to control auxe
 tic behavior quite interesting\n\nSpeaker(s): ALISON B. FLATAU\, \n\nYokoh
 ama\, Kanagawa\, Japan
LOCATION:Yokohama\, Kanagawa\, Japan
ORGANIZER:mitsumata.chiharu@nims.go.jp
SEQUENCE:5
SUMMARY:SPECIAL LECTURE MEETING OF MAGNETIC SOCIETY DISTINGUISHED LECTURER
URL;VALUE=URI:https://events.vtools.ieee.org/m/186967
X-ALT-DESC:Description: &lt;br /&gt;&lt;p&gt;Prof. Alison B. Flatau&amp;nbsp\;talked follow
 ings as IEEE DL program&lt;/p&gt;\n&lt;p&gt;Title: Structural Magnetostrictive Alloys:
  From Flexible Sensors to Energy Harvesters and Magnetically Controlled Au
 xetics&lt;/p&gt;\n&lt;p&gt;Abstract:&amp;nbsp\;Novel sensors and energy harvesting transdu
 cers take advantage of the significantly expanded design space made possib
 le by recent advances in structural magnetostrictive alloys. These alloys 
 can be machined and welded\, have high fracture toughness\, and can actuat
 e\, sense\, and carry load while subjected to tension\, compression\, and 
 bending. The talk includes an introduction to magnetostrictive materials a
 nd transduction\, and a discussion on the use of low-cost rolling and anne
 aling methods in lieu of more costly crystal growth methods for making bul
 k iron-gallium (Galfenol) and iron-aluminum (Alfenol) alloys. The process 
 of using magnetostrictive materials to convert mechanical energy into magn
 etic energy and then into electrical energy is explained and demonstrated 
 using sensors and energy harvesting devices as examples. Examples of magne
 tostrictive devices include prototypes ranging in size from nanowire-based
  pressure sensors to huge structures floating in the ocean that convert wa
 ve energy into electrical power for &amp;ldquo\;community-scale&amp;rdquo\; energy
  needs. The recent discovery of a particularly unique attribute of these a
 lloys\, their auxetic behavior\, will also be discussed. In both Galfenol 
 and Alfenol\, both strain and magnetic fields can produce simultaneous inc
 reases in lateral and longitudinal dimensions\, with measured values of th
 e resulting Poisson ratio being not only negative\, but as low as&amp;nbsp\;-2
 .0 in some cases. Mechanical\, aerospace and civil engineers should find t
 he discussion on the use of magnetic fields to control auxetic behavior qu
 ite interesting&lt;/p&gt;
END:VEVENT
END:VCALENDAR

