BEGIN:VCALENDAR
VERSION:2.0
PRODID:IEEE vTools.Events//EN
CALSCALE:GREGORIAN
BEGIN:VTIMEZONE
TZID:America/New_York
BEGIN:DAYLIGHT
DTSTART:20190310T030000
TZOFFSETFROM:-0500
TZOFFSETTO:-0400
RRULE:FREQ=YEARLY;BYDAY=2SU;BYMONTH=3
TZNAME:EDT
END:DAYLIGHT
BEGIN:STANDARD
DTSTART:20191103T010000
TZOFFSETFROM:-0400
TZOFFSETTO:-0500
RRULE:FREQ=YEARLY;BYDAY=1SU;BYMONTH=11
TZNAME:EST
END:STANDARD
END:VTIMEZONE
BEGIN:VEVENT
DTSTAMP:20191206T001626Z
UID:CABA2D03-34D4-4FA9-B2E7-8D4DC249D77B
DTSTART;TZID=America/New_York:20190413T100000
DTEND;TZID=America/New_York:20190413T170000
DESCRIPTION:Rambotics pits college students and teams against each other in
  robotic time trials. Teams compete on a pair of courses - line-following 
 and maze/obstacle course\, and the fastest robot wins.\n\nRoom: Atrium\, B
 ldg: VCU East Engineering Hall\, 401 W. Main Street\, Richmond\, Virginia\
 , United States\, 23284
LOCATION:Room: Atrium\, Bldg: VCU East Engineering Hall\, 401 W. Main Stree
 t\, Richmond\, Virginia\, United States\, 23284
ORGANIZER:andy.fabian@ieee.org
SEQUENCE:6
SUMMARY:Rambotics Robotics Competition
URL;VALUE=URI:https://events.vtools.ieee.org/m/187169
X-ALT-DESC:Description: &lt;br /&gt;&lt;p&gt;Rambotics pits college students and teams 
 against each other in robotic time trials.&amp;nbsp\; Teams compete on a pair 
 of courses - line-following and maze/obstacle course\, and the fastest rob
 ot wins.&lt;/p&gt;
END:VEVENT
END:VCALENDAR

