BEGIN:VCALENDAR
VERSION:2.0
PRODID:IEEE vTools.Events//EN
CALSCALE:GREGORIAN
BEGIN:VTIMEZONE
TZID:Asia/Kolkata
BEGIN:STANDARD
DTSTART:19451014T230000
TZOFFSETFROM:+0630
TZOFFSETTO:+0530
TZNAME:IST
END:STANDARD
END:VTIMEZONE
BEGIN:VEVENT
DTSTAMP:20190205T180731Z
UID:911EFA04-4850-439B-BD61-39DADB7B51D3
DTSTART;TZID=Asia/Kolkata:20190201T090000
DTEND;TZID=Asia/Kolkata:20190202T170000
DESCRIPTION:Happy Pongal !!\nHappy Sankranthi !!\n\n“You are an essential
  ingredient in our ongoing effort to reduce Security Risk”\n- Kristen Ma
 nthorne\n\nWomen in Engineering Affinity Group (WIE-AG)\, IEEE Hyderabad S
 ection conducting two day workshop on &quot;Professional Leadership &amp; Cyber Sec
 urity Challenges&quot; at Geethanjali College of Engineering and Technology\, H
 yderabad. The theme of the event is “Aware &amp; Explore to Build a Strong N
 ew Woman of yourself&quot;. So\, my dear friends are you ready to join in order
  to create yourself &quot;A New Woman with Confidence&quot; to encourage yourself an
 d to excel beyond any obstacles facing in your life. So\, come and join us
  on 1st &amp; 2nd February 2019\, in order to get awareness of crimes- causes 
 and finding a solution to develop a technical career for safe India throug
 h professional leadership to &quot;Explore your World &amp; Explore your Life\,&quot; fr
 om 9 AM to 4 PM at CSE Seminar Hall\, Geethanjali College of Engineering a
 nd Technology\, Cheeryal\, Keesara (M)\, Medchal (Dist.)-501301\, Hyderaba
 d.\n\nThe last date for registration is 30th January\, 2019.\n\nNo. of par
 ticipants are limited. First come first based.\n\nSpot registration is ava
 ilable based on availability.\n\nEmail communication needed for spot regis
 tration.\n\nRegistration Fee:\n\nFor IEEE Professional and Student members
 : Rs. 300\n\nFor non-IEEE Professional and Student members: Rs. 500\n\nThe
  event is for both men and women. Anyone can join.\n\nThe poster link is a
 ttached:\n\n[https://drive.google.com/open…](https://drive.google.com/op
 en?id=16hWNDc46ySyUy4wlFc1s3NACqAmYmA2n&amp;fbclid=IwAR2M9ZxpsOqaZHm-BgQGEcFWf
 2tbA2zUFdo7INZcZxlMAz4Q-p-2zvHowF4)\n\nRegistration Link:\n\n[https://even
 ts.vtools.ieee.org/m/187496](https://events.vtools.ieee.org/m/187496?fbcli
 d=IwAR3mGmR5H--AhgqaYwhLZaz0jnVBvRFfCF-HDq6sDQ_zUc3ojExVnftOBoc)\n\nPaymen
 t Details:\n\nGCET Bank account details:\n\nBeneficiary Name: M/S IEEE SB-
 GCET\n\nBank: State Bank of India\n\nBranch address: Cheriyal\,1-66\,Main 
 Road\, Cheriyal village\,Keesara Mandal\,Medchal district.\n\nIFSC code: S
 BIN0020435\n\nAccount Number: 62460763080\n\nAccount type: Saving account\
 n\nIEEE Student branch code: 05841\n\nContact Details:\n\nFaculty Coordina
 tors:\n\nDr. M. Aruna Bharathi\nProfessor EEE Dept.\nIEEE WIE Advisor\nGCE
 T Hyderabad\nPh: 9908325596\nEmail: arunabharathi916@gmail.com\n\nMs. T. J
 yothirmaye\nAssociate Professor\nECE Department\nSB Counsellor\nGCET Hyder
 abad\nPh: 9966812220\nEmail: jyocol2011@gmail.com\n\nStudent Coordinators:
 \n\nAleshia.Avinash\nIEEE WIE Student Chair\nGCET Hyderabad\nPh: 960349295
 0\nEmail: aleshia@ieee.org\n\nVishwa Prakash Chary\nGECT Hyderabad\nPh:798
 9800935\nEmail: vishwaprakashchary@ieee.org\n\nCo-sponsored by: Geethanjal
 i  College of Engineering and Technology\,  Cheeryal\,  Keesara (M)\, Medc
 hal (Dist.)\n\nSpeaker(s): Mrs. Sunitha\, MR. Sudarshan Chakrapani\n\nAgen
 da: \nTalks on Professional Leadership\n\nCyber Security Challenges\n\nBld
 g: CSE Seminar Hall\, Geethanjali  College of Engineering and Technology\,
   Cheeryal\,  Keesara (M)\, Medchal (Dist.)\, Hyderabad\, Andhra Pradesh\,
  India\, 501301
LOCATION:Bldg: CSE Seminar Hall\, Geethanjali  College of Engineering and T
 echnology\,  Cheeryal\,  Keesara (M)\, Medchal (Dist.)\, Hyderabad\, Andhr
 a Pradesh\, India\, 501301
ORGANIZER:wie@ieeehyd.org
SEQUENCE:3
SUMMARY:Professional Leadership &amp; Cyber Security Challenges
URL;VALUE=URI:https://events.vtools.ieee.org/m/187496
X-ALT-DESC:Description: &lt;br /&gt;&lt;p&gt;Happy Pongal !!&lt;br /&gt;Happy Sankranthi !!&lt;/
 p&gt;\n&lt;p&gt;&amp;ldquo\;You are an essential ingredient in our ongoing effort to re
 duce Security Risk&amp;rdquo\;&lt;br /&gt;- Kristen Manthorne&lt;/p&gt;\n&lt;div class=&quot;text_
 exposed_show&quot;&gt;\n&lt;p&gt;Women in Engineering Affinity Group (WIE-AG)\, IEEE Hyd
 erabad Section conducting two day workshop on &quot;Professional Leadership &amp;am
 p\; Cyber Security Challenges&quot; at Geethanjali College of Engineering and T
 echnology\, Hyderabad. The theme of the event is &amp;ldquo\;Aware &amp;amp\; Expl
 ore to Build a Strong New Woman of yourself&quot;. So\, my dear friends are you
  ready to join in order to create yourself &quot;A New Woman with Confidence&quot; t
 o encourage yourself and to excel beyond any obstacles facing in your life
 . So\, come and join us on 1st &amp;amp\; 2nd February 2019\, in order to get 
 awareness of crimes- causes and finding a solution to develop a technical 
 career for safe India through professional leadership to &quot;Explore your Wor
 ld &amp;amp\; Explore your Life\,&quot; from 9 AM to 4 PM at CSE Seminar Hall\, Gee
 thanjali College of Engineering and Technology\, Cheeryal\, Keesara (M)\, 
 Medchal (Dist.)-501301\, Hyderabad.&lt;/p&gt;\n&lt;p&gt;The last date for registration
  is 30th January\, 2019.&lt;/p&gt;\n&lt;p&gt;No. of participants are limited. First co
 me first based.&lt;/p&gt;\n&lt;p&gt;Spot registration is available based on availabili
 ty.&lt;/p&gt;\n&lt;p&gt;Email communication needed for spot registration.&lt;/p&gt;\n&lt;p&gt;Regi
 stration Fee:&lt;/p&gt;\n&lt;p&gt;For IEEE Professional and Student members: Rs. 300&lt;/
 p&gt;\n&lt;p&gt;For non-IEEE Professional and Student members: Rs. 500&lt;/p&gt;\n&lt;p&gt;The 
 event is for both men and women. Anyone can join.&lt;/p&gt;\n&lt;p&gt;The poster link 
 is attached:&lt;/p&gt;\n&lt;p&gt;&lt;a href=&quot;https://drive.google.com/open?id=16hWNDc46yS
 yUy4wlFc1s3NACqAmYmA2n&amp;amp\;fbclid=IwAR2M9ZxpsOqaZHm-BgQGEcFWf2tbA2zUFdo7I
 NZcZxlMAz4Q-p-2zvHowF4&quot; target=&quot;_blank&quot; rel=&quot;noopener nofollow&quot; data-ft=&quot;{
 &amp;quot\;tn&amp;quot\;:&amp;quot\;-U&amp;quot\;}&quot; data-lynx-mode=&quot;asynclazy&quot; data-lynx-u
 ri=&quot;https://l.facebook.com/l.php?u=https%3A%2F%2Fdrive.google.com%2Fopen%3
 Fid%3D16hWNDc46ySyUy4wlFc1s3NACqAmYmA2n%26fbclid%3DIwAR2M9ZxpsOqaZHm-BgQGE
 cFWf2tbA2zUFdo7INZcZxlMAz4Q-p-2zvHowF4&amp;amp\;h=AT3U4i48YmPHZrjAMY0dbVVRimom
 qxYf9DAK_4maCGQvj7_BQ1E0Yf4eGsLM5VRnUsjQCW21hjU8QWE3OinQU53ulFHLu2nAbaaZJz
 0yjb6oUuyCC_UdBaeBt9cM3nYOqAv1JphhXOaaBkTSi49k2hzQ8VDc&quot;&gt;https://drive.goog
 le.com/open&amp;hellip\;&lt;/a&gt;&lt;/p&gt;\n&lt;p&gt;Registration Link:&lt;/p&gt;\n&lt;p&gt;&lt;a href=&quot;https
 ://events.vtools.ieee.org/m/187496?fbclid=IwAR3mGmR5H--AhgqaYwhLZaz0jnVBvR
 FfCF-HDq6sDQ_zUc3ojExVnftOBoc&quot; target=&quot;_blank&quot; rel=&quot;noopener nofollow&quot; dat
 a-ft=&quot;{&amp;quot\;tn&amp;quot\;:&amp;quot\;-U&amp;quot\;}&quot; data-lynx-mode=&quot;asynclazy&quot; data
 -lynx-uri=&quot;https://l.facebook.com/l.php?u=https%3A%2F%2Fevents.vtools.ieee
 .org%2Fm%2F187496%3Ffbclid%3DIwAR3mGmR5H--AhgqaYwhLZaz0jnVBvRFfCF-HDq6sDQ_
 zUc3ojExVnftOBoc&amp;amp\;h=AT3lgCpUBTMdF486L6CPSDD2LJvQ0CEk3UHykY7hGPxNI4RSNC
 58tDLXwTd1bpsj0s4Mw148MwcIjUUROWh4ASpsPrubkxq-FGfz2vg_eXKwm8HVCr5VNMdJRnD4
 9qsIWtEtX8Ucd5bnXRYems0p8TderyeR&quot;&gt;https://events.vtools.ieee.org/m/187496&lt;
 /a&gt;&lt;/p&gt;\n&lt;p&gt;Payment Details:&lt;/p&gt;\n&lt;p&gt;GCET Bank account details:&lt;/p&gt;\n&lt;p&gt;Be
 neficiary Name: M/S IEEE SB-GCET&lt;/p&gt;\n&lt;p&gt;Bank: State Bank of India&lt;/p&gt;\n&lt;p
 &gt;Branch address: Cheriyal\,1-66\,Main Road\, Cheriyal village\,Keesara Man
 dal\,Medchal district.&lt;/p&gt;\n&lt;p&gt;IFSC code: SBIN0020435&lt;/p&gt;\n&lt;p&gt;Account Numb
 er: 62460763080&lt;/p&gt;\n&lt;p&gt;Account type: Saving account&lt;/p&gt;\n&lt;p&gt;IEEE Student 
 branch code: 05841&lt;/p&gt;\n&lt;p&gt;Contact Details:&lt;/p&gt;\n&lt;p&gt;Faculty Coordinators:&lt;
 /p&gt;\n&lt;p&gt;Dr. M. Aruna Bharathi&lt;br /&gt;Professor EEE Dept.&lt;br /&gt;IEEE WIE Advis
 or&lt;br /&gt;GCET Hyderabad&lt;br /&gt;Ph: 9908325596&lt;br /&gt;Email: arunabharathi916@gm
 ail.com&lt;/p&gt;\n&lt;p&gt;Ms. T. Jyothirmaye&lt;br /&gt;Associate Professor&lt;br /&gt;ECE Depar
 tment&lt;br /&gt;SB Counsellor&lt;br /&gt;GCET Hyderabad&lt;br /&gt;Ph: 9966812220&lt;br /&gt;Emai
 l: jyocol2011@gmail.com&lt;/p&gt;\n&lt;p&gt;Student Coordinators:&lt;/p&gt;\n&lt;p&gt;Aleshia.Avin
 ash&lt;br /&gt;IEEE WIE Student Chair&lt;br /&gt;GCET Hyderabad&lt;br /&gt;Ph: 9603492950&lt;br
  /&gt;Email: aleshia@ieee.org&lt;/p&gt;\n&lt;p&gt;Vishwa Prakash Chary&lt;br /&gt;GECT Hyderaba
 d&lt;br /&gt;Ph:7989800935&lt;br /&gt;Email: vishwaprakashchary@ieee.org&lt;/p&gt;\n&lt;/div&gt;&lt;b
 r /&gt;&lt;br /&gt;Agenda: &lt;br /&gt;&lt;p&gt;Talks on Professional Leadership&lt;/p&gt;\n&lt;p&gt;Cyber 
 Security Challenges&lt;/p&gt;
END:VEVENT
END:VCALENDAR

