BEGIN:VCALENDAR
VERSION:2.0
PRODID:IEEE vTools.Events//EN
CALSCALE:GREGORIAN
BEGIN:VTIMEZONE
TZID:US/Pacific
BEGIN:DAYLIGHT
DTSTART:20190310T030000
TZOFFSETFROM:-0800
TZOFFSETTO:-0700
RRULE:FREQ=YEARLY;BYDAY=2SU;BYMONTH=3
TZNAME:PDT
END:DAYLIGHT
BEGIN:STANDARD
DTSTART:20181104T010000
TZOFFSETFROM:-0700
TZOFFSETTO:-0800
RRULE:FREQ=YEARLY;BYDAY=1SU;BYMONTH=11
TZNAME:PST
END:STANDARD
END:VTIMEZONE
BEGIN:VEVENT
DTSTAMP:20190302T193012Z
UID:865C9500-CD5F-4761-A282-EBDA0E4D2764
DTSTART;TZID=US/Pacific:20190226T180000
DTEND;TZID=US/Pacific:20190226T200000
DESCRIPTION:The IEEE Blockchain Initiative (BCI) was created to act as the 
 hub for all IEEE blockchain projects and activities. The BCI encompasses a
  comprehensive set of projects and activities supported by the following c
 ore subcommittees: Pre/Standards\, Education\, Conferences and Events\, Co
 mmunity Development and Outreach\, Publications\, and Special Projects. Th
 e San Diego IEEE Blockchain Group formed in January 2019 and is interested
  in learning what activities the community is interested in and will overv
 iew the different BCI Activities as well as the current planned events in 
 San Diego.\n\nCo-sponsored by: San Diego Supercomputer Center\n\nRoom: E-B
 143\, Bldg: SDSC Synthesis Center\, 10100 Hopkins Drive \, La Jolla\, Cali
 fornia\, United States\, 92093 
LOCATION:Room: E-B143\, Bldg: SDSC Synthesis Center\, 10100 Hopkins Drive \
 , La Jolla\, California\, United States\, 92093 
ORGANIZER:kmiyachi@ieee.org
SEQUENCE:4
SUMMARY:San Diego Blockchain Group Inaugural Event
URL;VALUE=URI:https://events.vtools.ieee.org/m/189655
X-ALT-DESC:Description: &lt;br /&gt;&lt;p&gt;The IEEE Blockchain Initiative (BCI) was c
 reated to act as the hub for all IEEE blockchain projects and activities. 
 The BCI encompasses a comprehensive set of projects and activities support
 ed by the following core subcommittees: Pre/Standards\, Education\, Confer
 ences and Events\, Community Development and Outreach\, Publications\, and
  Special Projects. The San Diego IEEE Blockchain Group formed in January 2
 019 and is interested in learning what activities the community is interes
 ted in and will overview the different BCI Activities as well as the curre
 nt planned events in San Diego.&lt;/p&gt;
END:VEVENT
END:VCALENDAR

