BEGIN:VCALENDAR
VERSION:2.0
PRODID:IEEE vTools.Events//EN
CALSCALE:GREGORIAN
BEGIN:VTIMEZONE
TZID:America/New_York
BEGIN:DAYLIGHT
DTSTART:20190310T030000
TZOFFSETFROM:-0500
TZOFFSETTO:-0400
RRULE:FREQ=YEARLY;BYDAY=2SU;BYMONTH=3
TZNAME:EDT
END:DAYLIGHT
BEGIN:STANDARD
DTSTART:20191103T010000
TZOFFSETFROM:-0400
TZOFFSETTO:-0500
RRULE:FREQ=YEARLY;BYDAY=1SU;BYMONTH=11
TZNAME:EST
END:STANDARD
END:VTIMEZONE
BEGIN:VEVENT
DTSTAMP:20200131T221710Z
UID:BE86589B-32A8-4C73-B640-22BF1E94A8A3
DTSTART;TZID=America/New_York:20190418T080000
DTEND;TZID=America/New_York:20190418T200000
DESCRIPTION:Engineers\, Managers\, Students and Technical Professionals int
 erested in the latest trends in Microwave\, Millimeter wave &amp; RF Technolog
 y are all invited.\n\nSpeaker(s): Simone Bastioli\, Dr. Shiban Kishen Koul
 \n\nAgenda: \n08:00AM– 09:45 AM Workshop #1\n10:00AM – 12:00PM Worksho
 p #2\n12:00 - 1:00 PM Complimentary Networking Lunch\n1:00 - 1:30 PM Welco
 me &amp; Keynote Address\n\n1:30 - 2:30 PM Technical Lecture #1\n1:30 - 3:00 P
 M Workshop #3\n2:30 - 3:30 PM Technical Lecture #2\n3:30 - 4:30 PM Technic
 al Lecture #3\n3:30 - 5:30 PM Workshop #4\n4:30 - 5:30 PM Technical Lectur
 e #4\n5:30 - 6:00 PM Acknowledgments &amp; Closing Remarks\n6:00 - 8:00 PM Com
 plimentary Networking Dinner with Cash Bar\n\nRadisson Hotel Hauppauge-Lon
 g Island\, 110 Vanderbilt Motor Pkwy\, Hauppauge\, New York\, United State
 s\, 11788
LOCATION:Radisson Hotel Hauppauge-Long Island\, 110 Vanderbilt Motor Pkwy\,
  Hauppauge\, New York\, United States\, 11788
ORGANIZER:gmwave1@gmail.com
SEQUENCE:2
SUMMARY:2019 LI RF/Microwave Symposium &amp; Exhibits - Sponsor Registration ON
 LY
URL;VALUE=URI:https://events.vtools.ieee.org/m/191088
X-ALT-DESC:Description: &lt;br /&gt;&lt;p&gt;Engineers\, Managers\, Students and Techni
 cal Professionals interested in the latest trends in Microwave\, Millimete
 r wave &amp;amp\; RF Technology are all invited.&lt;/p&gt;\n&lt;p&gt;&amp;nbsp\;&lt;/p&gt;&lt;br /&gt;&lt;br 
 /&gt;Agenda: &lt;br /&gt;&lt;p&gt;08:00AM&amp;ndash\; 09:45 AM &amp;nbsp\;&amp;nbsp\;&amp;nbsp\;&amp;nbsp\;Wo
 rkshop #1 &lt;br /&gt;10:00AM &amp;ndash\; 12:00PM &amp;nbsp\;&amp;nbsp\;&amp;nbsp\;&amp;nbsp\;&amp;nbsp
 \;Workshop #2&lt;br /&gt;12:00 - 1:00 PM&amp;nbsp\;&amp;nbsp\;&amp;nbsp\;&amp;nbsp\;&amp;nbsp\; Comp
 limentary Networking Lunch&lt;br /&gt;1:00 - 1:30 PM&amp;nbsp\;&amp;nbsp\;&amp;nbsp\; Welcom
 e &amp;amp\; Keynote Address&lt;/p&gt;\n&lt;p&gt;1:30 - 2:30 PM Technical Lecture #1&lt;br /&gt;
 1:30 - 3:00 PM&amp;nbsp\; Workshop #3&lt;br /&gt;2:30 - 3:30 PM&amp;nbsp\; Technical Lec
 ture #2 &lt;br /&gt;3:30 - 4:30 PM Technical Lecture #3 &lt;br /&gt;3:30 - 5:30 PM Wor
 kshop #4&lt;br /&gt;4:30 - 5:30 PM&amp;nbsp\;Technical Lecture #4 &lt;br /&gt;5:30 - 6:00 
 PM &amp;nbsp\;&amp;nbsp\;&amp;nbsp\;Acknowledgments &amp;amp\; Closing Remarks&lt;br /&gt;6:00 -
  8:00 PM &amp;nbsp\;&amp;nbsp\;&amp;nbsp\;Complimentary Networking Dinner with Cash Ba
 r&lt;/p&gt;
END:VEVENT
END:VCALENDAR

