BEGIN:VCALENDAR
VERSION:2.0
PRODID:IEEE vTools.Events//EN
CALSCALE:GREGORIAN
BEGIN:VTIMEZONE
TZID:America/Costa_Rica
BEGIN:STANDARD
DTSTART:19920314T230000
TZOFFSETFROM:-0500
TZOFFSETTO:-0600
TZNAME:CST
END:STANDARD
END:VTIMEZONE
BEGIN:VEVENT
DTSTAMP:20190526T194543Z
UID:41D0AC12-FAD4-4B6E-AF48-8C9218862C79
DTSTART;TZID=America/Costa_Rica:20190522T080000
DTEND;TZID=America/Costa_Rica:20190522T120000
DESCRIPTION:Curso de actualización de la norma IEEE 1584-2018\, sobre todo
  en los métodos de cálculo de la energía incidente.\n\n¡Ingenieros rea
 lizando estudios de arco (Arc Flash) tienen un nuevo reto! La nueva guía 
 IEEE Std. 1584\, “Guía Para Cálculos Sobre Peligros del Arco Eléctric
 o” fue publicada en noviembre 2018. Ingenieros alrededor del mundo deben
  aprender a aplicar este nuevo y más complejo método para calcular corri
 ente de arco y energía con la cual el arco pone al trabajador en peligro.
  Después de casi dos décadas de usar el viejo modelo\, muchos se pregunt
 arán\; ¿por qué el nuevo modelo es tan diferente?\n\nEl nuevo modelo re
 sultó de un esfuerzo de colaboración de las NFPA e IEEE para mejorar la 
 exactitud de los cálculos de energía incidente y mejorar la forma en que
  los cálculos reflejan situaciones reales. Al implementar el modelo de 20
 02\, muchos se dieron cuenta de que ese modelo no reflejaba todas las conf
 iguraciones de equipo encontradas de manera potencialmente importante. El 
 proyecto de investigación\, que involucró ~ 2000 pruebas de cortocircuit
 o\, resultó en el nuevo modelo publicado en 2018. Los conductores vertica
 les previamente modelados en una caja y al aire libre\, ahora se expanden 
 con 3 nuevas configuraciones\; conductores verticales en una caja que term
 ina en una barrera aislante (VCBB)\, conductores horizontales en una caja 
 (HCB) apuntando hacia al trabajador y en al aire libre (HOA). Estas config
 uraciones\, si encontradas\, pueden causar que la energía que afecta al t
 rabajador sea más que previamente calculado\, por lo cual puede requerir 
 selección de EPP con más capacidad protectora. Las nuevas pruebas de lab
 oratorio realizadas por las IEEE y NFPA llevaron al desarrollo de un nuevo
  modelo para representar el comportamiento físico de la corriente de arco
  y la energía incidente en las 5 configuraciones diferentes. También inc
 luye un modelo más refinado para la corriente de arco en relación a la p
 otencia de falla disponible\, la variación de corriente de arco asociada\
 , así como los efectos del tamaño de la caja alrededor del arco sobre la
  energía incidente. Sin embargo\, el modelo solamente refleja el comporta
 miento dentro del laboratorio y eso también debe ser considerado.\n\nEl c
 urso contará con información de primera mano sobre los antecedentes de l
 as pruebas de laboratorio y el desarrollo del modelo para ayudar a los ing
 enieros a entender cómo y por qué los resultados de energía de corrient
 e de arco e incidente pueden ser diferentes en comparación con el modelo 
 IEEE 1584-2002. Además\, la discusión incluirá lo que quizás sea el pr
 oblema de aplicación más difícil del nuevo modelo\; que es la decisión
  sobre la clasificación del equipo en una de las cinco configuraciones de
  electrodos.\n\nCo-sponsored by: Tel: +506 8381-1030\n\nSpeaker(s): Albert
  Marroquin\, \n\nAgenda: \n7:00 Inscripción en sitio +25%\n\n8:00 Present
 ación de Alberto Marroquin\n\n10:00 Refrigerio\n\n12:00 Final del Curso.\
 n\nINVERSIÓN\n\nEstudiante IEEE US$50\n\nMiembros IAS US$ 75\n\nMiembros 
 IEEE US$100\n\nMiembros YP US$50\n\nMiembros LM US$50\n\nMiembros CIEMI US
 $200\n\nMiembros CFIA US$250\n\nPúblico General US$300\n\nBldg: Hotel Wyn
 dahm Herradura\, Autopista General Cañas\, San Antonio de Belén\, Heredi
 a\, Costa Rica
LOCATION:Bldg: Hotel Wyndahm Herradura\, Autopista General Cañas\, San Ant
 onio de Belén\, Heredia\, Costa Rica
ORGANIZER:g.moya@ieee.org
SEQUENCE:14
SUMMARY:Curso Tutorial: Método Nuevo y Mejorado para el Cálculo de Arc Fl
 ash - Standard IEEE 1584-2018
URL;VALUE=URI:https://events.vtools.ieee.org/m/192247
X-ALT-DESC:Description: &lt;br /&gt;&lt;p&gt;Curso de actualizaci&amp;oacute\;n de la norma
  IEEE 1584-2018\, sobre todo en los m&amp;eacute\;todos de c&amp;aacute\;lculo de 
 la energ&amp;iacute\;a incidente.&lt;/p&gt;\n&lt;p&gt;&amp;iexcl\;Ingenieros realizando estudi
 os de arco (Arc Flash) tienen un nuevo reto! La nueva gu&amp;iacute\;a IEEE St
 d. 1584\, &amp;ldquo\;Gu&amp;iacute\;a Para C&amp;aacute\;lculos Sobre Peligros del Ar
 co El&amp;eacute\;ctrico&amp;rdquo\; fue publicada en noviembre 2018. Ingenieros a
 lrededor del mundo deben aprender a aplicar este nuevo y m&amp;aacute\;s compl
 ejo m&amp;eacute\;todo para calcular corriente de arco y energ&amp;iacute\;a con l
 a cual el arco pone al trabajador en peligro. Despu&amp;eacute\;s de casi dos 
 d&amp;eacute\;cadas de usar el viejo modelo\, muchos se preguntar&amp;aacute\;n\; 
 &amp;iquest\;por qu&amp;eacute\; el nuevo modelo es tan diferente?&lt;/p&gt;\n&lt;p&gt;El nuev
 o modelo result&amp;oacute\; de un esfuerzo de colaboraci&amp;oacute\;n de las NFP
 A e IEEE para mejorar la exactitud de los c&amp;aacute\;lculos de energ&amp;iacute
 \;a incidente y mejorar la forma en que los c&amp;aacute\;lculos reflejan situ
 aciones reales. Al implementar el modelo de 2002\, muchos se dieron cuenta
  de que ese modelo no reflejaba todas las configuraciones de equipo encont
 radas de manera potencialmente importante. El proyecto de investigaci&amp;oacu
 te\;n\, que involucr&amp;oacute\; ~ 2000 pruebas de cortocircuito\, result&amp;oac
 ute\; en el nuevo modelo publicado en 2018. Los conductores verticales pre
 viamente modelados en una caja y al aire libre\, ahora se expanden con 3 n
 uevas configuraciones\; conductores verticales en una caja que termina en 
 una barrera aislante (VCBB)\, conductores horizontales en una caja (HCB) a
 puntando hacia al trabajador y en al aire libre (HOA). Estas configuracion
 es\, si encontradas\, pueden causar que la energ&amp;iacute\;a que afecta al t
 rabajador sea m&amp;aacute\;s que previamente calculado\, por lo cual puede re
 querir selecci&amp;oacute\;n de EPP con m&amp;aacute\;s capacidad protectora. Las 
 nuevas pruebas de laboratorio realizadas por las IEEE y NFPA llevaron al d
 esarrollo de un nuevo modelo para representar el comportamiento f&amp;iacute\;
 sico de la corriente de arco y la energ&amp;iacute\;a incidente en las 5 confi
 guraciones diferentes. Tambi&amp;eacute\;n incluye un modelo m&amp;aacute\;s refin
 ado para la corriente de arco en relaci&amp;oacute\;n a la potencia de falla d
 isponible\, la variaci&amp;oacute\;n de corriente de arco asociada\, as&amp;iacute
 \; como los efectos del tama&amp;ntilde\;o de la caja alrededor del arco sobre
  la energ&amp;iacute\;a incidente. Sin embargo\, el modelo solamente refleja e
 l comportamiento dentro del laboratorio y eso tambi&amp;eacute\;n debe ser con
 siderado.&lt;/p&gt;\n&lt;p&gt;El curso contar&amp;aacute\; con informaci&amp;oacute\;n de prim
 era mano sobre los antecedentes de las pruebas de laboratorio y el desarro
 llo del modelo para ayudar a los ingenieros a entender c&amp;oacute\;mo y por 
 qu&amp;eacute\; los resultados de energ&amp;iacute\;a de corriente de arco e incid
 ente pueden ser diferentes en comparaci&amp;oacute\;n con el modelo IEEE 1584-
 2002. Adem&amp;aacute\;s\, la discusi&amp;oacute\;n incluir&amp;aacute\; lo que quiz&amp;a
 acute\;s sea el problema de aplicaci&amp;oacute\;n m&amp;aacute\;s dif&amp;iacute\;cil
  del nuevo modelo\; que es la decisi&amp;oacute\;n sobre la clasificaci&amp;oacute
 \;n del equipo en una de las cinco configuraciones de electrodos.&lt;/p&gt;&lt;br /
 &gt;&lt;br /&gt;Agenda: &lt;br /&gt;&lt;p&gt;7:00 Inscripci&amp;oacute\;n en sitio +25%&lt;/p&gt;\n&lt;p&gt;8:0
 0 Presentaci&amp;oacute\;n de Alberto Marroquin&lt;/p&gt;\n&lt;p&gt;10:00 Refrigerio&lt;/p&gt;\n
 &lt;p&gt;12:00 Final del Curso.&lt;/p&gt;\n&lt;p&gt;&amp;nbsp\;&lt;/p&gt;\n&lt;p&gt;&lt;span style=&quot;font-size: 
 14pt\; color: #0000ff\;&quot;&gt;&lt;strong&gt;INVERSI&amp;Oacute\;N&lt;/strong&gt;&lt;/span&gt;&lt;/p&gt;\n&lt;p
 &gt;Estudiante IEEE US$50&lt;/p&gt;\n&lt;p&gt;Miembros IAS US$ 75&lt;/p&gt;\n&lt;p&gt;Miembros IEEE U
 S$100&lt;/p&gt;\n&lt;p&gt;Miembros YP US$50&lt;/p&gt;\n&lt;p&gt;Miembros LM US$50&lt;/p&gt;\n&lt;p&gt;Miembros
  CIEMI US$200&lt;/p&gt;\n&lt;p&gt;Miembros CFIA US$250&lt;/p&gt;\n&lt;p&gt;P&amp;uacute\;blico General
  US$300&lt;/p&gt;
END:VEVENT
END:VCALENDAR

