BEGIN:VCALENDAR
VERSION:2.0
PRODID:IEEE vTools.Events//EN
CALSCALE:GREGORIAN
BEGIN:VTIMEZONE
TZID:US/Michigan
BEGIN:DAYLIGHT
DTSTART:20190310T030000
TZOFFSETFROM:-0500
TZOFFSETTO:-0400
RRULE:FREQ=YEARLY;BYDAY=2SU;BYMONTH=3
TZNAME:EDT
END:DAYLIGHT
BEGIN:STANDARD
DTSTART:20191103T010000
TZOFFSETFROM:-0400
TZOFFSETTO:-0500
RRULE:FREQ=YEARLY;BYDAY=1SU;BYMONTH=11
TZNAME:EST
END:STANDARD
END:VTIMEZONE
BEGIN:VEVENT
DTSTAMP:20190425T122905Z
UID:9746EC28-6DEE-45E6-88C6-46CCF1557437
DTSTART;TZID=US/Michigan:20190418T180000
DTEND;TZID=US/Michigan:20190418T200000
DESCRIPTION:Southeastern Michigan IEEE EMC Chapter technical meeting.\n\nNO
 TE START TIME IS 6 PM\n\n[EVENT SLIDES](http://www.emcsociety.org/wp/wp-co
 ntent/uploads/2019/04/Field-Probes-DL2019.pdf)\n\nPizza &amp; Beverage Sponsor
 :\n\n[Epic Tek LLC](http://epictek-llc.com) (ETS Lindgren Representative)\
 n\n[][]\n\nSpeaker(s): Zhong Chen\, \n\nRoom: Regency\, Bldg: Embassy Suit
 es\, 19525 Victor Parkway\, Livonia\, Michigan\, United States\, 48152
LOCATION:Room: Regency\, Bldg: Embassy Suites\, 19525 Victor Parkway\, Livo
 nia\, Michigan\, United States\, 48152
ORGANIZER:scott@emcsociety.org
SEQUENCE:9
SUMMARY:Optimizing Results from Electric Field Probes during EMC Testing 
URL;VALUE=URI:https://events.vtools.ieee.org/m/195246
X-ALT-DESC:Description: &lt;br /&gt;&lt;p&gt;Southeastern Michigan IEEE EMC Chapter tec
 hnical meeting.&lt;/p&gt;\n&lt;p&gt;&lt;span style=&quot;font-size: 24pt\; color: #0000ff\; ba
 ckground-color: #ff0000\;&quot;&gt;NOTE START TIME IS 6 PM&lt;/span&gt;&lt;/p&gt;\n&lt;p&gt;&amp;nbsp\;&lt;
 /p&gt;\n&lt;p&gt;&lt;a href=&quot;http://www.emcsociety.org/wp/wp-content/uploads/2019/04/F
 ield-Probes-DL2019.pdf&quot; target=&quot;_blank&quot; rel=&quot;noopener&quot;&gt;&lt;span style=&quot;font-s
 ize: 24pt\; color: #0000ff\; background-color: #ffff00\;&quot;&gt;EVENT SLIDES&lt;/sp
 an&gt;&lt;/a&gt;&lt;/p&gt;\n&lt;p&gt;&lt;span style=&quot;font-size: 24pt\; color: #0000ff\;&quot;&gt;P&lt;/span&gt;&lt;
 span style=&quot;font-size: 24pt\; color: #0000ff\;&quot;&gt;izza &amp;amp\; Beverage Spons
 or:&amp;nbsp\;&lt;/span&gt;&lt;/p&gt;\n&lt;p&gt;&lt;span style=&quot;font-size: 24pt\; color: #0000ff\;&quot;
 &gt; &lt;a href=&quot;http://epictek-llc.com&quot;&gt;Epic Tek LLC&lt;/a&gt;&amp;nbsp\;&amp;nbsp\;(ETS Lind
 gren&amp;nbsp\;Representative)&lt;/span&gt;&lt;/p&gt;\n&lt;p&gt;&amp;nbsp\;&lt;/p&gt;\n&lt;p&gt;&amp;nbsp\;&lt;/p&gt;\n&lt;p&gt;
 &amp;nbsp\;&amp;nbsp\;&lt;/p&gt;\n&lt;p&gt;&lt;img src=&quot;http://www.emcsociety.org/big_iee.jpg&quot; al
 t=&quot;&quot; /&gt;&lt;img src=&quot;http://www.emcsociety.org/emcsociety.jpg&quot; alt=&quot;&quot; /&gt;&lt;/p&gt;
END:VEVENT
END:VCALENDAR

