BEGIN:VCALENDAR
VERSION:2.0
PRODID:IEEE vTools.Events//EN
CALSCALE:GREGORIAN
BEGIN:VTIMEZONE
TZID:Asia/Calcutta
BEGIN:STANDARD
DTSTART:19451014T230000
TZOFFSETFROM:+0630
TZOFFSETTO:+0530
TZNAME:IST
END:STANDARD
END:VTIMEZONE
BEGIN:VEVENT
DTSTAMP:20190315T013435Z
UID:535945DB-E67E-4BF7-AC43-31E9240CBC5B
DTSTART;TZID=Asia/Calcutta:20190318T110000
DTEND;TZID=Asia/Calcutta:20190318T140000
DESCRIPTION:POPULAR JOSH TALK ON KNOW YOUR RIGHTS A CSR ACTIVITY INITIATED 
 BY ITC VIVEL IN ASSOCIATION WITH JOSH TALK.THE OBJECTIVE IS TO CHANGE THE 
 COLLECTIVE CONSCIOUSNESS THROUGH AN INCREASED PERCEPTIVENESS ON GENDER SEN
 SITIVE ISSUES\,ENABLE GENDER RESPONSIVE ACTIONS AT A PERSONAL LEVEL AND BU
 ILD CONFIDENCE THROUGH THE KNOWLEDGE OF RIGHTS.THE SESSION COMPRISES OF A 
 TRAINER FROM JOSH TALKS AND ADDRESSING STUDENTS.TALK WILL BE ON VARIOUS LE
 GAL RIGHTS WOMEN HAVE IN OUR CONSTITUTION THROUGH THROUGH AN INTERACTIVE P
 RESENTATION AND ACTIVITIES.\n\nCo-sponsored by: WOMENS DEVELOPMENT CELL GE
 C DAHOD\n\nAgenda: \nTALKS ON VARIOUS LEGAL RIGHTS WOMEN HAVE IN OUR CONST
 ITUTION THROUGH AN INTERACTIVE PRESENTATION AND ACTIVITIES.THE CONCEPT OF 
 GENDER EQUALITY\,CYBER SAFETY\,RIGHTS AND DEFINITION OF CONSENT AS PROVIDE
 D BY LAW.\n\nRoom: CONFERENCE ROOM\, Bldg: ADMIN BUILDING\, ZHALOD ROAD\, 
 COLLEGE CAMPUS\, DAHOD\, Gujarat\, India\, 389151
LOCATION:Room: CONFERENCE ROOM\, Bldg: ADMIN BUILDING\, ZHALOD ROAD\, COLLE
 GE CAMPUS\, DAHOD\, Gujarat\, India\, 389151
ORGANIZER:ishqsheikh4u@gmail.com
SEQUENCE:0
SUMMARY:JOSH TALK~ KNOW YOUR RIGHTS
URL;VALUE=URI:https://events.vtools.ieee.org/m/195376
X-ALT-DESC:Description: &lt;br /&gt;&lt;p&gt;POPULAR JOSH TALK ON KNOW YOUR RIGHTS A CS
 R ACTIVITY INITIATED BY ITC VIVEL IN ASSOCIATION WITH JOSH TALK.THE OBJECT
 IVE IS TO CHANGE THE COLLECTIVE CONSCIOUSNESS THROUGH AN INCREASED PERCEPT
 IVENESS ON GENDER SENSITIVE ISSUES\,ENABLE GENDER RESPONSIVE ACTIONS AT A 
 PERSONAL LEVEL AND BUILD CONFIDENCE THROUGH THE KNOWLEDGE OF RIGHTS.THE SE
 SSION COMPRISES OF A TRAINER FROM JOSH TALKS AND ADDRESSING STUDENTS.TALK 
 WILL BE ON VARIOUS LEGAL RIGHTS WOMEN HAVE IN OUR CONSTITUTION THROUGH THR
 OUGH AN INTERACTIVE PRESENTATION AND ACTIVITIES.&lt;/p&gt;&lt;br /&gt;&lt;br /&gt;Agenda: &lt;b
 r /&gt;&lt;p&gt;TALKS ON VARIOUS LEGAL RIGHTS WOMEN HAVE IN OUR CONSTITUTION THROUG
 H AN INTERACTIVE PRESENTATION AND ACTIVITIES.THE CONCEPT OF GENDER EQUALIT
 Y\,CYBER SAFETY\,RIGHTS AND DEFINITION OF CONSENT AS PROVIDED BY LAW.&lt;/p&gt;
END:VEVENT
END:VCALENDAR

