BEGIN:VCALENDAR
VERSION:2.0
PRODID:IEEE vTools.Events//EN
CALSCALE:GREGORIAN
BEGIN:VTIMEZONE
TZID:Asia/Riyadh
BEGIN:DAYLIGHT
DTSTART:20380119T061407
TZOFFSETFROM:+0300
TZOFFSETTO:+0300
RRULE:FREQ=YEARLY;BYDAY=3TU;BYMONTH=1
TZNAME:+03
END:DAYLIGHT
BEGIN:STANDARD
DTSTART:19470313T235308
TZOFFSETFROM:+0306
TZOFFSETTO:+0300
RRULE:FREQ=YEARLY;BYDAY=2TH;BYMONTH=3
TZNAME:+03
END:STANDARD
END:VTIMEZONE
BEGIN:VEVENT
DTSTAMP:20200217T113946Z
UID:2E152A6B-ACC4-4EF3-8DAE-9A0CDFAB2AE4
DTSTART;TZID=Asia/Riyadh:20190409T073000
DTEND;TZID=Asia/Riyadh:20190409T160000
DESCRIPTION:Power system engineers are working to make the electrical syste
 m safer\, more reliable\, more intelligent and more robust. Several techno
 logies can be applied to achieve these goals including technologies that w
 ill be introduced in this one-day event.\n\n- IEEE Members: 100SR\n- IEEE 
 Non-members: 150SR\n- IEEE Students Members: 50SR\n\nCo-sponsored by: Powe
 ll\n\nSpeaker(s): Linn Cooper\, Kevin Ruiz\n\nAgenda: \nThe event will dis
 cuss various technical subjects related to the different electrical equipm
 ent including:\n\n- Power Control Room Technology\n- Arc Resistant ANSI Sw
 itchgear\n- SF6 Pad Mounted Switches\n- Circuit Breakers Intelligent Solut
 ions\n- High Resistance Grounding\n- Defintie Purpose Circuit Breakers\n- 
 Enhance Reliability &amp; Life Expectancy\n\nMovenpick Hotel Al Khobar\, Khoba
 r\, Al Mintaqah ash Sharqiyah\, Saudi Arabia
LOCATION:Movenpick Hotel Al Khobar\, Khobar\, Al Mintaqah ash Sharqiyah\, S
 audi Arabia
ORGANIZER:mashhour.alqahtani@aramco.com
SEQUENCE:4
SUMMARY:MV Equipment Solutions &amp; Technologies
URL;VALUE=URI:https://events.vtools.ieee.org/m/195944
X-ALT-DESC:Description: &lt;br /&gt;&lt;p&gt;Power system engineers are working to make
  the electrical system safer\, more reliable\, more intelligent and more r
 obust. Several technologies can be applied to achieve these goals includin
 g technologies that will be introduced in this one-day event.&lt;/p&gt;\n&lt;ul&gt;\n&lt;
 li&gt;IEEE Members: 100SR&lt;/li&gt;\n&lt;li&gt;IEEE Non-members: 150SR&lt;/li&gt;\n&lt;li&gt;IEEE St
 udents Members: 50SR&lt;/li&gt;\n&lt;/ul&gt;&lt;br /&gt;&lt;br /&gt;Agenda: &lt;br /&gt;&lt;p&gt;The event wil
 l discuss various technical subjects related to the different electrical e
 quipment including:&lt;/p&gt;\n&lt;ul&gt;\n&lt;li&gt;Power Control Room Technology&lt;/li&gt;\n&lt;li
 &gt;Arc Resistant ANSI Switchgear&lt;/li&gt;\n&lt;li&gt;SF6 Pad Mounted Switches&lt;/li&gt;\n&lt;l
 i&gt;Circuit Breakers Intelligent Solutions&lt;/li&gt;\n&lt;li&gt;High Resistance Groundi
 ng&lt;/li&gt;\n&lt;li&gt;Defintie Purpose Circuit Breakers&lt;/li&gt;\n&lt;li&gt;Enhance Reliabili
 ty &amp;amp\; Life Expectancy&lt;/li&gt;\n&lt;/ul&gt;
END:VEVENT
END:VCALENDAR

