BEGIN:VCALENDAR
VERSION:2.0
PRODID:IEEE vTools.Events//EN
CALSCALE:GREGORIAN
BEGIN:VTIMEZONE
TZID:US/Central
BEGIN:DAYLIGHT
DTSTART:20190310T030000
TZOFFSETFROM:-0600
TZOFFSETTO:-0500
RRULE:FREQ=YEARLY;BYDAY=2SU;BYMONTH=3
TZNAME:CDT
END:DAYLIGHT
BEGIN:STANDARD
DTSTART:20191103T010000
TZOFFSETFROM:-0500
TZOFFSETTO:-0600
RRULE:FREQ=YEARLY;BYDAY=1SU;BYMONTH=11
TZNAME:CST
END:STANDARD
END:VTIMEZONE
BEGIN:VEVENT
DTSTAMP:20190426T020054Z
UID:7866DA2C-81D4-4785-9388-8B9748AE434E
DTSTART;TZID=US/Central:20190425T180000
DTEND;TZID=US/Central:20190425T210000
DESCRIPTION:Join us for the April 2019 Section meeting\n\nSpeaker(s): Mike 
 Hertz\, \n\nAgenda: \n6:00 PM Networking\n\n6:30 PM Dinner\n\n7:15 PM Pres
 entation\n\nRoom: WTC1308\, Bldg: Woodward Technology Center\, Rock Valley
  College\, 3301 N. Mulford Rd\, Rockford\, Illinois\, United States\, 6111
 4
LOCATION:Room: WTC1308\, Bldg: Woodward Technology Center\, Rock Valley Col
 lege\, 3301 N. Mulford Rd\, Rockford\, Illinois\, United States\, 61114
ORGANIZER:rrvsieee@gmail.com
SEQUENCE:2
SUMMARY:RRVS April 2019 Section Meeting
URL;VALUE=URI:https://events.vtools.ieee.org/m/196010
X-ALT-DESC:Description: &lt;br /&gt;&lt;p&gt;Join us for the April 2019 Section meeting
 &lt;/p&gt;&lt;br /&gt;&lt;br /&gt;Agenda: &lt;br /&gt;&lt;p&gt;6:00 PM Networking&lt;/p&gt;\n&lt;p&gt;6:30 PM Dinner
 &lt;/p&gt;\n&lt;p&gt;7:15 PM Presentation&lt;/p&gt;
END:VEVENT
END:VCALENDAR

