BEGIN:VCALENDAR
VERSION:2.0
PRODID:IEEE vTools.Events//EN
CALSCALE:GREGORIAN
BEGIN:VTIMEZONE
TZID:Asia/Kolkata
BEGIN:STANDARD
DTSTART:19451014T230000
TZOFFSETFROM:+0630
TZOFFSETTO:+0530
TZNAME:IST
END:STANDARD
END:VTIMEZONE
BEGIN:VEVENT
DTSTAMP:20190507T162225Z
UID:582AE1EB-E743-49CC-BB3C-A41444135B1B
DTSTART;TZID=Asia/Kolkata:20190406T094200
DTEND;TZID=Asia/Kolkata:20190406T134200
DESCRIPTION:We are proud to present ‘Synergy 2019’ \, a hardware and so
 ftware project presentation competition\, on 6th April 2019 at DA-IICT\, G
 andhinagar.\n\nTracks :\n\n1 . Hardware Project\n\n2. Software Project\n\n
 - Mobile Application\n\n- Web Application\n\n- Machine Learning project\n\
 ngandhinagar\, Gujarat\, India
LOCATION:gandhinagar\, Gujarat\, India
ORGANIZER:wie.ieee.daiict@gmail.com
SEQUENCE:2
SUMMARY:SYNERGY 2019
URL;VALUE=URI:https://events.vtools.ieee.org/m/196093
X-ALT-DESC:Description: &lt;br /&gt;&lt;div style=&quot;background-color: transparent\; c
 olor: #000000\; font-family: arial\,helvetica\,sans-serif\; font-size: 16p
 x\; font-style: normal\; font-variant: normal\; font-weight: 400\; letter-
 spacing: normal\; orphans: 2\; text-align: left\; text-decoration: none\; 
 text-indent: 0px\; text-transform: none\; -webkit-text-stroke-width: 0px\;
  white-space: normal\; word-spacing: 0px\;&quot;&gt;\n&lt;p dir=&quot;ltr&quot; style=&quot;backgrou
 nd-color: transparent\; color: #222222\; font-family: arial\,helvetica\,sa
 ns-serif\; font-size: 13.33px\; font-size-adjust: none\; font-stretch: 100
 %\; font-style: normal\; font-variant: normal\; font-weight: 400\; letter-
 spacing: normal\; line-height: 18.39px\; text-align: left\; text-decoratio
 n: none\; text-indent: 0px\; text-transform: none\; white-space: normal\; 
 word-spacing: 0px\; margin: 0px\;&quot;&gt;&lt;span style=&quot;font-family: arial\; font-
 size: 14.66px\; vertical-align: baseline\; white-space: pre-wrap\;&quot;&gt;We are
  proud to present &amp;nbsp\;&amp;lsquo\;&lt;/span&gt;&lt;span style=&quot;font-family: arial\; 
 font-size: 14.66px\; font-weight: bold\; vertical-align: baseline\; white-
 space: pre-wrap\;&quot;&gt;Synergy 2019&amp;rsquo\;&lt;/span&gt;&lt;span style=&quot;font-family: ar
 ial\; font-size: 14.66px\; vertical-align: baseline\; white-space: pre-wra
 p\;&quot;&gt; \, a hardware and software project presentation competition\, on &lt;/s
 pan&gt;&lt;span style=&quot;font-family: arial\; font-size: 14.66px\; font-weight: bo
 ld\; vertical-align: baseline\; white-space: pre-wrap\;&quot;&gt;6th &lt;span id=&quot;gma
 il-m_-5850610528405033619OBJ_PREFIX_DWT48_com_zimbra_date&quot; class=&quot;gmail-m_
 -5850610528405033619Object-hover&quot; style=&quot;color: #005a95\; text-decoration:
  underline\;&quot;&gt;&lt;span id=&quot;OBJ_PREFIX_DWT47_com_zimbra_date&quot; class=&quot;Object&quot; s
 tyle=&quot;color: #005a95\; cursor: pointer\; text-decoration: underline\;&quot; rol
 e=&quot;link&quot;&gt;April 2019&lt;/span&gt;&lt;/span&gt;&lt;/span&gt;&lt;span style=&quot;font-family: arial\; 
 font-size: 14.66px\; vertical-align: baseline\; white-space: pre-wrap\;&quot;&gt; 
 at DA-IICT\, Gandhinagar.&lt;/span&gt;&lt;/p&gt;\n&lt;/div&gt;\n&lt;div style=&quot;background-color
 : transparent\; color: #000000\; font-family: arial\,helvetica\,sans-serif
 \; font-size: 16px\; font-style: normal\; font-variant: normal\; font-weig
 ht: 400\; letter-spacing: normal\; orphans: 2\; text-align: left\; text-de
 coration: none\; text-indent: 0px\; text-transform: none\; -webkit-text-st
 roke-width: 0px\; white-space: normal\; word-spacing: 0px\;&quot;&gt;\n&lt;p dir=&quot;ltr
 &quot; style=&quot;background-color: transparent\; color: #222222\; font-family: ari
 al\,helvetica\,sans-serif\; font-size: 13.33px\; font-size-adjust: none\; 
 font-stretch: 100%\; font-style: normal\; font-variant: normal\; font-weig
 ht: 400\; letter-spacing: normal\; line-height: 18.39px\; text-align: left
 \; text-decoration: none\; text-indent: 0px\; text-transform: none\; white
 -space: normal\; word-spacing: 0px\; margin: 0px\;&quot;&gt;&lt;strong&gt;&lt;span style=&quot;f
 ont-family: arial\; font-size: 14.66px\; vertical-align: baseline\; white-
 space: pre-wrap\;&quot;&gt;Tracks :&lt;/span&gt;&lt;/strong&gt;&lt;/p&gt;\n&lt;p dir=&quot;ltr&quot; style=&quot;backg
 round-color: transparent\; color: #222222\; font-family: arial\,helvetica\
 ,sans-serif\; font-size: 13.33px\; font-size-adjust: none\; font-stretch: 
 100%\; font-style: normal\; font-variant: normal\; font-weight: 400\; lett
 er-spacing: normal\; line-height: 18.39px\; text-align: left\; text-decora
 tion: none\; text-indent: 0px\; text-transform: none\; white-space: normal
 \; word-spacing: 0px\; margin: 0px\;&quot;&gt;&lt;strong&gt;&lt;span style=&quot;font-family: ar
 ial\; font-size: 14.66px\; vertical-align: baseline\; white-space: pre-wra
 p\;&quot;&gt; 1 . Hardware Project&lt;/span&gt;&lt;/strong&gt;&lt;/p&gt;\n&lt;p dir=&quot;ltr&quot; style=&quot;backgr
 ound-color: transparent\; color: #222222\; font-family: arial\,helvetica\,
 sans-serif\; font-size: 13.33px\; font-size-adjust: none\; font-stretch: 1
 00%\; font-style: normal\; font-variant: normal\; font-weight: 400\; lette
 r-spacing: normal\; line-height: 18.39px\; text-align: left\; text-decorat
 ion: none\; text-indent: 0px\; text-transform: none\; white-space: normal\
 ; word-spacing: 0px\; margin: 0px\;&quot;&gt;&lt;strong&gt;&lt;span style=&quot;font-family: ari
 al\; font-size: 14.66px\; vertical-align: baseline\; white-space: pre-wrap
 \;&quot;&gt; 2. Software Project &lt;/span&gt;&lt;/strong&gt;&lt;/p&gt;\n&lt;p dir=&quot;ltr&quot; style=&quot;backgro
 und-color: transparent\; color: #222222\; font-size-adjust: none\; font-st
 retch: 100%\; font-style: normal\; font-variant: normal\; letter-spacing: 
 normal\; line-height: 18.39px\; text-align: left\; text-decoration: none\;
  text-indent: 0px\; text-transform: none\; white-space: normal\; word-spac
 ing: 0px\; margin: 0px\;&quot;&gt;&lt;span style=&quot;font-family: arial\;&quot;&gt;&amp;nbsp\;&lt;/span
 &gt;&lt;/p&gt;\n&lt;p dir=&quot;ltr&quot; style=&quot;background-color: transparent\; color: #222222\
 ; font-family: arial\,helvetica\,sans-serif\; font-size: 13.33px\; font-si
 ze-adjust: none\; font-stretch: 100%\; font-style: normal\; font-variant: 
 normal\; font-weight: 400\; letter-spacing: normal\; line-height: 18.39px\
 ; text-align: left\; text-decoration: none\; text-indent: 0px\; text-trans
 form: none\; white-space: normal\; word-spacing: 0px\; margin: 0px\;&quot;&gt;&lt;str
 ong&gt;&lt;span style=&quot;font-family: arial\; font-size: 14.66px\; vertical-align:
  baseline\; white-space: pre-wrap\;&quot;&gt;&amp;nbsp\;&amp;nbsp\;&amp;nbsp\;&amp;nbsp\; - Mobile
  Application&lt;/span&gt;&lt;/strong&gt;&lt;/p&gt;\n&lt;p dir=&quot;ltr&quot; style=&quot;background-color: tr
 ansparent\; color: #222222\; font-family: arial\,helvetica\,sans-serif\; f
 ont-size: 13.33px\; font-size-adjust: none\; font-stretch: 100%\; font-sty
 le: normal\; font-variant: normal\; font-weight: 400\; letter-spacing: nor
 mal\; line-height: 18.39px\; text-align: left\; text-decoration: none\; te
 xt-indent: 0px\; text-transform: none\; white-space: normal\; word-spacing
 : 0px\; margin: 0px\;&quot;&gt;&lt;strong&gt;&lt;span style=&quot;font-family: arial\; font-size
 : 14.66px\; vertical-align: baseline\; white-space: pre-wrap\;&quot;&gt;&amp;nbsp\;&amp;nb
 sp\;&amp;nbsp\;&amp;nbsp\; - Web Application&lt;/span&gt;&lt;/strong&gt;&lt;/p&gt;\n&lt;p dir=&quot;ltr&quot; sty
 le=&quot;background-color: transparent\; color: #222222\; font-family: arial\,h
 elvetica\,sans-serif\; font-size: 13.33px\; font-size-adjust: none\; font-
 stretch: 100%\; font-style: normal\; font-variant: normal\; font-weight: 4
 00\; letter-spacing: normal\; line-height: 18.39px\; text-align: left\; te
 xt-decoration: none\; text-indent: 0px\; text-transform: none\; white-spac
 e: normal\; word-spacing: 0px\; margin: 0px\;&quot;&gt;&lt;strong&gt;&lt;span style=&quot;font-f
 amily: arial\; font-size: 14.66px\; vertical-align: baseline\; white-space
 : pre-wrap\;&quot;&gt;&amp;nbsp\;&amp;nbsp\;&amp;nbsp\;&amp;nbsp\; - Machine Learning project&lt;/spa
 n&gt;&lt;/strong&gt;&lt;/p&gt;\n&lt;/div&gt;\n&lt;div style=&quot;background-color: transparent\; color
 : #000000\; font-family: arial\,helvetica\,sans-serif\; font-size: 16px\; 
 font-style: normal\; font-variant: normal\; font-weight: 400\; letter-spac
 ing: normal\; orphans: 2\; text-align: left\; text-decoration: none\; text
 -indent: 0px\; text-transform: none\; -webkit-text-stroke-width: 0px\; whi
 te-space: normal\; word-spacing: 0px\;&quot;&gt;\n&lt;p dir=&quot;ltr&quot; style=&quot;background-c
 olor: transparent\; color: #222222\; font-family: arial\,helvetica\,sans-s
 erif\; font-size: 13.33px\; font-size-adjust: none\; font-stretch: 100%\; 
 font-style: normal\; font-variant: normal\; font-weight: 400\; letter-spac
 ing: normal\; line-height: 18.39px\; text-align: left\; text-decoration: n
 one\; text-indent: 0px\; text-transform: none\; white-space: normal\; word
 -spacing: 0px\; margin: 0px\;&quot;&gt;&amp;nbsp\;&lt;/p&gt;\n&lt;/div&gt;
END:VEVENT
END:VCALENDAR

