BEGIN:VCALENDAR
VERSION:2.0
PRODID:IEEE vTools.Events//EN
CALSCALE:GREGORIAN
BEGIN:VTIMEZONE
TZID:America/New_York
BEGIN:DAYLIGHT
DTSTART:20190310T030000
TZOFFSETFROM:-0500
TZOFFSETTO:-0400
RRULE:FREQ=YEARLY;BYDAY=2SU;BYMONTH=3
TZNAME:EDT
END:DAYLIGHT
BEGIN:STANDARD
DTSTART:20191103T010000
TZOFFSETFROM:-0400
TZOFFSETTO:-0500
RRULE:FREQ=YEARLY;BYDAY=1SU;BYMONTH=11
TZNAME:EST
END:STANDARD
END:VTIMEZONE
BEGIN:VEVENT
DTSTAMP:20190425T102916Z
UID:ECC30B20-2576-4633-88D2-591CF4681759
DTSTART;TZID=America/New_York:20190423T183000
DTEND;TZID=America/New_York:20190423T203000
DESCRIPTION:The potential of quantum computing to achieve exponential impro
 vements in computational power can only be realized by manufacturable circ
 uit design and fabrication processes. The two talks at this event describe
  recent advances in superconducting CPU and memory elements necessary for 
 a Reciprocal Quantum Logic (RQL) processor.\n\nCo-sponsored by: Electron D
 evices Society/Baltimore Chapter\n\nSpeaker(s): Michael J. Vesely\, Dr. Ia
 n M. Dayton\n\nAgenda: \n6:30 PM - 7:00 PM Arrivals and Networking\n\n7:00
  PM - 7:05 PM Announcements and Introduction of Speakers\n\n7:05 PM - 8:00
  PM Presentations\n\n8:00 PM - 8:15 PM Questions and Answers\n\nRoom: Rm. 
 2460\, Bldg: A. V. Williams Bldg.\, University of Maryland\, 8223 Paint Br
 anch Dr.\, College Park\, Maryland\, United States\, 20742
LOCATION:Room: Rm. 2460\, Bldg: A. V. Williams Bldg.\, University of Maryla
 nd\, 8223 Paint Branch Dr.\, College Park\, Maryland\, United States\, 207
 42
ORGANIZER:nfhaddad@aol.com
SEQUENCE:15
SUMMARY:Superconducting Electronics for Quantum Computing
URL;VALUE=URI:https://events.vtools.ieee.org/m/196286
X-ALT-DESC:Description: &lt;br /&gt;&lt;p&gt;The potential of quantum computing to achi
 eve exponential improvements in computational power can only be realized b
 y manufacturable circuit design and fabrication processes. The two talks a
 t this event describe recent advances in superconducting CPU and memory el
 ements necessary for a Reciprocal Quantum Logic (RQL) processor.&lt;/p&gt;\n&lt;p&gt;&amp;
 nbsp\;&lt;/p&gt;&lt;br /&gt;&lt;br /&gt;Agenda: &lt;br /&gt;&lt;p&gt;6:30 PM - 7:00 PM Arrivals and Netw
 orking&lt;/p&gt;\n&lt;p&gt;7:00 PM - 7:05 PM Announcements and Introduction of Speaker
 s&lt;/p&gt;\n&lt;p&gt;7:05 PM - 8:00 PM Presentations&lt;/p&gt;\n&lt;p&gt;8:00 PM - 8:15 PM Questi
 ons and Answers&lt;/p&gt;
END:VEVENT
END:VCALENDAR

