BEGIN:VCALENDAR
VERSION:2.0
PRODID:IEEE vTools.Events//EN
CALSCALE:GREGORIAN
BEGIN:VTIMEZONE
TZID:America/New_York
BEGIN:DAYLIGHT
DTSTART:20190310T030000
TZOFFSETFROM:-0500
TZOFFSETTO:-0400
RRULE:FREQ=YEARLY;BYDAY=2SU;BYMONTH=3
TZNAME:EDT
END:DAYLIGHT
BEGIN:STANDARD
DTSTART:20191103T010000
TZOFFSETFROM:-0400
TZOFFSETTO:-0500
RRULE:FREQ=YEARLY;BYDAY=1SU;BYMONTH=11
TZNAME:EST
END:STANDARD
END:VTIMEZONE
BEGIN:VEVENT
DTSTAMP:20190522T145508Z
UID:9BC4C233-0D54-447F-9E9F-34ABF4FC56D0
DTSTART;TZID=America/New_York:20190517T180000
DTEND;TZID=America/New_York:20190517T220000
DESCRIPTION:The 2019 Joint IEEE Princeton/Central Jersey and New Jersey Coa
 st Section Awards Banquet will be held at the Grand Ballroom\, Colts Neck 
 Inn\, Colts Neck\, NJ\, on Friday\, May 17\, 2019. The event will start at
  6 pm. The IEEE Princeton/Central Jersey Section and the IEEE New Jersey C
 oast Section organize this joint event to pay tribute to the new IEEE Fell
 ows in the Sections\, the IEEE Region 1 and Section Award recipients\, and
  to celebrate the IEEE Milestone for the DIANA project - Detection of Rada
 r Signals Reflected from the Moon. The significance of this milestone is s
 ummarized by the citation: On 10 January 1946\, a team of military and civ
 ilian personnel at Camp Evans\, Fort Monmouth\, New Jersey\, USA\, reflect
 ed the first radar signals off the Moon using a specially modified SCR-270
 /1 radar. The signals took 2.5 seconds to travel to the Moon and back to t
 he Earth. This achievement\, Project Diana\, marked the beginning of radar
  astronomy and space communications.\n\nPlease join us in recognizing the 
 achievements of our members and their contributions to the engineering pro
 fession\, our community\, and the IEEE Princeton/Central Jersey and New Je
 rsey Coast Section activities. The Banquet provides a unique opportunity f
 or companies and organizations to meet and congratulate the awardees and s
 howcase their local presence.\n\nBanquet Notes\n\n- Limited capacity - reg
 ister early! Send e-mail to avw@ieee.org if you are unable to attend.\n- N
 otes on food allergy\, etc. will be passed on to Colts Neck Inn. It is the
  attendee&#39;s responsibility to check with the service staff.\n- Separate re
 gistration is required for an accompanying guest. Dinner seating is pre-as
 signed\, so include a note in the comment field\, in particular if the las
 t name of your guest is different.\n- During dinner\, wine\, beer\, and so
 da will be self service - an accompanying adult must supervise underage gu
 est.\n\nSpeaker(s): Al Kerecman\, Gregory Wright\, PhD\n\nAgenda: \nAwards
  Banquet Program\n\n06:00-07:00 PM\nRegistration and Networking\n\n07:00-0
 9:45 PM\nDinner\, Keynote Presentation\, and Presentation of Awards\n\nBld
 g: Colts Neck Inn\, 191 County Rd 537\, Colts Neck\, New Jersey\, United S
 tates\, 07722
LOCATION:Bldg: Colts Neck Inn\, 191 County Rd 537\, Colts Neck\, New Jersey
 \, United States\, 07722
ORGANIZER:kit.august@gmail.com
SEQUENCE:20
SUMMARY:Joint Princeton/Central Jersey and New Jersey Coast Awards Banquet 
 and IEEE Milestone DIANA Celebration
URL;VALUE=URI:https://events.vtools.ieee.org/m/196362
X-ALT-DESC:Description: &lt;br /&gt;&lt;p align=&quot;justify&quot;&gt;The &lt;strong&gt;2019 Joint IEE
 E Princeton/Central Jersey and New Jersey Coast Section Awards Banquet&lt;/st
 rong&gt; will be held at the &lt;strong&gt;Grand Ballroom\, Colts Neck Inn&lt;/strong&gt;
 \, Colts Neck\, NJ\, on &lt;strong&gt;Friday&lt;/strong&gt;\, &lt;strong&gt;May 17\, 2019&lt;/s
 trong&gt;. The event will start at &lt;strong&gt;6 pm&lt;/strong&gt;. The IEEE Princeton/
 Central Jersey Section and the IEEE New Jersey Coast Section organize this
  joint event to pay tribute to the new IEEE Fellows in the Sections\, the 
 IEEE Region 1 and Section Award recipients\, and to celebrate the &lt;strong&gt;
 IEEE Milestone&lt;/strong&gt; for the &lt;strong&gt;DIANA project - Detection of Radar
  Signals Reflected from the Moon&lt;/strong&gt;. The significance of this milest
 one is summarized by the citation: &lt;em&gt;On 10 January 1946\, a team of mili
 tary and civilian personnel at Camp Evans\, Fort Monmouth\, New Jersey\, U
 SA\, reflected the first radar signals off the Moon using a specially modi
 fied SCR-270/1 radar. The signals took 2.5 seconds to travel to the Moon a
 nd back to the Earth. This achievement\, Project Diana\, marked the beginn
 ing of radar astronomy and space communications.&lt;/em&gt;&lt;/p&gt;\n&lt;p align=&quot;justi
 fy&quot;&gt;Please join us in recognizing the achievements of our members and thei
 r contributions to the engineering profession\, our community\, and the IE
 EE Princeton/Central Jersey and New Jersey Coast Section activities. The B
 anquet provides a unique opportunity for companies and organizations to me
 et and congratulate the awardees and showcase their local presence.&lt;/p&gt;\n&lt;
 p&gt;&lt;strong&gt;Banquet Notes&lt;/strong&gt;&lt;/p&gt;\n&lt;ul&gt;\n&lt;li&gt;Limited capacity - registe
 r early! Send e-mail to avw@ieee.org if you are unable to attend.&lt;/li&gt;\n&lt;l
 i&gt;Notes on food allergy\, etc. will be passed on to Colts Neck Inn. It is 
 the attendee&#39;s responsibility to check with the service staff.&lt;/li&gt;\n&lt;li&gt;S
 eparate registration is required for an accompanying guest. Dinner seating
  is pre-assigned\, so include a note in the comment field\, in particular 
 if the last name of your guest is different.&lt;/li&gt;\n&lt;li&gt;During dinner\, win
 e\, beer\, and soda will be self service - an accompanying adult must supe
 rvise underage guest.&lt;/li&gt;\n&lt;/ul&gt;\n&lt;p&gt;&amp;nbsp\;&lt;/p&gt;\n&lt;p&gt;&amp;nbsp\;&lt;/p&gt;&lt;br /&gt;&lt;br
  /&gt;Agenda: &lt;br /&gt;&lt;p&gt;&lt;strong&gt;Awards Banquet Program&lt;/strong&gt;&lt;/p&gt;\n&lt;table&gt;\n
 &lt;tbody&gt;\n&lt;tr&gt;\n&lt;td&gt;&amp;nbsp\;&lt;/td&gt;\n&lt;td&gt;&amp;nbsp\;&lt;/td&gt;\n&lt;/tr&gt;\n&lt;tr&gt;\n&lt;td&gt;06:00-
 07:00 PM&lt;/td&gt;\n&lt;td&gt;\n&lt;p&gt;&amp;nbsp\;Registration and Networking&amp;nbsp\;&amp;nbsp\;&lt;/
 p&gt;\n&lt;/td&gt;\n&lt;/tr&gt;\n&lt;tr&gt;\n&lt;td&gt;07:00-09:45 PM&lt;/td&gt;\n&lt;td&gt;\n&lt;p&gt;&amp;nbsp\;Dinner\, 
 Keynote Presentation\, and Presentation of Awards&amp;nbsp\;&amp;nbsp\;&lt;/p&gt;\n&lt;/td&gt;
 \n&lt;/tr&gt;\n&lt;/tbody&gt;\n&lt;/table&gt;
END:VEVENT
END:VCALENDAR

