BEGIN:VCALENDAR
VERSION:2.0
PRODID:IEEE vTools.Events//EN
CALSCALE:GREGORIAN
BEGIN:VTIMEZONE
TZID:Canada/Eastern
BEGIN:DAYLIGHT
DTSTART:20180311T030000
TZOFFSETFROM:-0500
TZOFFSETTO:-0400
RRULE:FREQ=YEARLY;BYDAY=2SU;BYMONTH=3
TZNAME:EDT
END:DAYLIGHT
BEGIN:STANDARD
DTSTART:20181104T010000
TZOFFSETFROM:-0400
TZOFFSETTO:-0500
RRULE:FREQ=YEARLY;BYDAY=1SU;BYMONTH=11
TZNAME:EST
END:STANDARD
END:VTIMEZONE
BEGIN:VEVENT
DTSTAMP:20190325T193745Z
UID:9C701D60-0996-44A9-A255-5006E839B266
DTSTART;TZID=Canada/Eastern:20180624T090000
DTEND;TZID=Canada/Eastern:20180627T202700
DESCRIPTION:The Chapter supported the IEEE NEWCAS Conference held in Montre
 al\, June 24-27\, 2018\n\nhttp://newcas2018.org/\n\nBldg: La Plaza Congres
 s center\, Montreal\, Quebec\, Canada
LOCATION:Bldg: La Plaza Congress center\, Montreal\, Quebec\, Canada
ORGANIZER:benoit.gosselin@gel.ulaval.ca
SEQUENCE:0
SUMMARY:COMMANDITE DU CHAPITRE IEEE CAS/EMB - IEEE NEWCAS Conference held i
 n Montreal\, June 24-27\, 2018
URL;VALUE=URI:https://events.vtools.ieee.org/m/196474
X-ALT-DESC:Description: &lt;br /&gt;&lt;p&gt;The Chapter supported the IEEE NEWCAS Conf
 erence held in Montreal\, June 24-27\, 2018&lt;/p&gt;\n&lt;p&gt;http://newcas2018.org/
 &lt;/p&gt;
END:VEVENT
END:VCALENDAR

