BEGIN:VCALENDAR
VERSION:2.0
PRODID:IEEE vTools.Events//EN
CALSCALE:GREGORIAN
BEGIN:VTIMEZONE
TZID:Canada/Eastern
BEGIN:DAYLIGHT
DTSTART:20190310T030000
TZOFFSETFROM:-0500
TZOFFSETTO:-0400
RRULE:FREQ=YEARLY;BYDAY=2SU;BYMONTH=3
TZNAME:EDT
END:DAYLIGHT
BEGIN:STANDARD
DTSTART:20191103T010000
TZOFFSETFROM:-0400
TZOFFSETTO:-0500
RRULE:FREQ=YEARLY;BYDAY=1SU;BYMONTH=11
TZNAME:EST
END:STANDARD
END:VTIMEZONE
BEGIN:VEVENT
DTSTAMP:20190505T184621Z
UID:BD7007B2-9F2D-415B-80EF-D0F772ADA0FC
DTSTART;TZID=Canada/Eastern:20190401T193000
DTEND;TZID=Canada/Eastern:20190401T210000
DESCRIPTION:Josh Bersin\, world class industry analyst &amp;amp\; founder of Be
 rsin by Deloitte cited Diversity &amp;amp\;\nInclusion as one of the hottest t
 opics for 2019 technology companies. Through this presentation\,\nwe will 
 uncover what diversity &amp;amp\; inclusion really means\, why it matters and 
 what strategies can\nbe used to foster inclusion. We will explore some cas
 e studies showing best practices and listen\nto a testimonial from a perso
 n living with a disability. Students will learn the ways diversity and\nin
 clusion is protected under the Ontario Human Rights Code\, participate in 
 a rich discussion on\ncommon misconceptions and leave with a deepened unde
 rstanding on how the technology\nsector can leverage diversity to become a
  more successful industry as a whole.\n\nCo-sponsored by: Mehrdad Tirandaz
 ian\n\nSpeaker(s): Aislin O&#39;Hara\, \n\nRoom: ENG 103\, Bldg: George Vari E
 ngineering and Computing Centre\, Ryerson University\, 245 Church Street\,
  Toronto\, Ontario\, Canada\, M5B 2K3
LOCATION:Room: ENG 103\, Bldg: George Vari Engineering and Computing Centre
 \, Ryerson University\, 245 Church Street\, Toronto\, Ontario\, Canada\, M
 5B 2K3
ORGANIZER:mehrdad.tirandazian@ieee.org
SEQUENCE:2
SUMMARY:Diversity and Inclusion in Computing
URL;VALUE=URI:https://events.vtools.ieee.org/m/196718
X-ALT-DESC:Description: &lt;br /&gt;&lt;p&gt;Josh Bersin\, world class industry analyst
  &amp;amp\;amp\; founder of Bersin by Deloitte cited Diversity &amp;amp\;amp\;&lt;br 
 /&gt;Inclusion as one of the hottest topics for 2019 technology companies. Th
 rough this presentation\,&lt;br /&gt;we will uncover what diversity &amp;amp\;amp\; 
 inclusion really means\, why it matters and what strategies can&lt;br /&gt;be us
 ed to foster inclusion. We will explore some case studies showing best pra
 ctices and listen&lt;br /&gt;to a testimonial from a person living with a disabi
 lity. Students will learn the ways diversity and&lt;br /&gt;inclusion is protect
 ed under the Ontario Human Rights Code\, participate in a rich discussion 
 on&lt;br /&gt;common misconceptions and leave with a deepened understanding on h
 ow the technology&lt;br /&gt;sector can leverage diversity to become a more succ
 essful industry as a whole.&lt;/p&gt;
END:VEVENT
END:VCALENDAR

