BEGIN:VCALENDAR
VERSION:2.0
PRODID:IEEE vTools.Events//EN
CALSCALE:GREGORIAN
BEGIN:VTIMEZONE
TZID:US/Central
BEGIN:DAYLIGHT
DTSTART:20190310T030000
TZOFFSETFROM:-0600
TZOFFSETTO:-0500
RRULE:FREQ=YEARLY;BYDAY=2SU;BYMONTH=3
TZNAME:CDT
END:DAYLIGHT
BEGIN:STANDARD
DTSTART:20191103T010000
TZOFFSETFROM:-0500
TZOFFSETTO:-0600
RRULE:FREQ=YEARLY;BYDAY=1SU;BYMONTH=11
TZNAME:CST
END:STANDARD
END:VTIMEZONE
BEGIN:VEVENT
DTSTAMP:20191119T191528Z
UID:0CF1A40F-A736-44EF-A70E-6594FE127372
DTSTART;TZID=US/Central:20190502T180000
DTEND;TZID=US/Central:20190502T203000
DESCRIPTION:Overview of the Electric Power System from the generating stati
 on to the wall sockets in your house…\n\n--how the transmission systems 
 and distribution systems are put together\n\n--interesting facts about the
  transmission system network\, communications systems used for protective 
 relaying\n\n--interesting facts about the distribution system network\n\n-
 -what makes a “smart grid” so smart?\n\nCo-sponsored by: Rock River Va
 lley Section\n\nSpeaker(s): Steve Wickman\, \n\nAgenda: \n6:00pm Networkin
 g\n6:30pm Dinner ($0 IEEE Members\, $10 Non-Members)\n7:15pm Presentation\
 n\nRoom: 1308\, Bldg: WTC\, Rock Valley College\, Rockford\, Illinois\, Un
 ited States
LOCATION:Room: 1308\, Bldg: WTC\, Rock Valley College\, Rockford\, Illinois
 \, United States
ORGANIZER:ieeerrvs@ieee.org
SEQUENCE:4
SUMMARY:IEEE Chicago/Rockford Consultants&#39; Network\; ABCs of Electric Utili
 ties for the non-power Electrical Engineer
URL;VALUE=URI:https://events.vtools.ieee.org/m/197127
X-ALT-DESC:Description: &lt;br /&gt;&lt;p&gt;&lt;strong&gt;&lt;em&gt;Overview of the Electric Power
  System from the generating station to the wall sockets in your house&amp;hell
 ip\;&lt;/em&gt;&lt;/strong&gt;&lt;/p&gt;\n&lt;p&gt;&lt;strong&gt;&lt;em&gt;--how the transmission systems and 
 distribution systems are put together&lt;/em&gt;&lt;/strong&gt;&lt;/p&gt;\n&lt;p&gt;&lt;strong&gt;&lt;em&gt;--
 interesting facts about the transmission system network\, communications s
 ystems used for protective relaying&lt;/em&gt;&lt;/strong&gt;&lt;/p&gt;\n&lt;p&gt;&lt;strong&gt;&lt;em&gt;--in
 teresting facts about the distribution system network&lt;/em&gt;&lt;/strong&gt;&lt;/p&gt;\n&lt;
 p&gt;&lt;strong&gt;&lt;em&gt;--what makes a &amp;ldquo\;smart grid&amp;rdquo\; so smart?&lt;/em&gt;&lt;/st
 rong&gt;&lt;/p&gt;\n&lt;p&gt;&amp;nbsp\;&lt;/p&gt;&lt;br /&gt;&lt;br /&gt;Agenda: &lt;br /&gt;&lt;div&gt;6:00pm Networking&lt;
 /div&gt;\n&lt;div&gt;6:30pm&amp;nbsp\;Dinner ($0 IEEE Members\, $10 Non-Members)&lt;/div&gt;\
 n&lt;div&gt;7:15pm&amp;nbsp\;Presentation&lt;/div&gt;
END:VEVENT
END:VCALENDAR

