BEGIN:VCALENDAR
VERSION:2.0
PRODID:IEEE vTools.Events//EN
CALSCALE:GREGORIAN
BEGIN:VTIMEZONE
TZID:US/Eastern
BEGIN:DAYLIGHT
DTSTART:20190310T030000
TZOFFSETFROM:-0500
TZOFFSETTO:-0400
RRULE:FREQ=YEARLY;BYDAY=2SU;BYMONTH=3
TZNAME:EDT
END:DAYLIGHT
BEGIN:STANDARD
DTSTART:20191103T010000
TZOFFSETFROM:-0400
TZOFFSETTO:-0500
RRULE:FREQ=YEARLY;BYDAY=1SU;BYMONTH=11
TZNAME:EST
END:STANDARD
END:VTIMEZONE
BEGIN:VEVENT
DTSTAMP:20191118T035538Z
UID:7E588650-E34F-45CD-9B43-FC27627648D7
DTSTART;TZID=US/Eastern:20190805T183000
DTEND;TZID=US/Eastern:20190805T203000
DESCRIPTION:What do Mars exploration and Minimally Invasive Robotic Surgery
  (MIRS) have in common? In some ways\, the technology and communication re
 quirements couldn&#39;t be more different.\n\nThis provocative talk will exami
 ne a wide range of challenges for designing modern robotic systems\, based
  on real-life lessons learned from NASA&#39;s Human Robotic Systems project an
 d MIRO Lab\, an advanced robotic assistance research laboratory.\n\nLearn 
 why Robot Operating System (ROS) 2.0 and robotic systems like NASA&#39;s and M
 IRO Lab&#39;s chose to implement a data-centric architecture using Data Distri
 bution Service (DDS)\, a communication protocol standard for real-time and
  embedded systems.\n\nSpeaker:\nJohn Breitenbach currently works as a Fiel
 d Applications Engineering Manager in Real-Time Innovations\, Inc.\n\nJohn
  spent 25 years designing communications software for real-time embedded s
 ystems before joining RTI as an applications engineer. He’s worked on in
 dustrial\, medical\, consumer\, and military products - everything from ar
 tificial hearts to microgrids. As a protocol geek his focus is on helping 
 RTI’s customers get their systems talking to each other and working as o
 ne.\n\nIEEE RA24 appreciates John Breitenbach and Real-Time Innovations\, 
 Inc.\, for their technical contributions to the community.\n\nParking Info
 rmation:\n\nPlenty of free parking available at following locations adjace
 nt to EB1 Building.\n\n911 Partners Way\, Raleigh NC 27606 (EB1 entry)\n\n
 890 Oval Drive\, Raleigh\, NC 27606 (EB2 entry)\n\n1070 Partners Way\, Ral
 eigh\, NC 27606 (Hunts library 0.2m away)\n\nAgenda: \n6:30-7:00pm Network
 ing with pizza and soda\n\nThe times below are approximate and are given j
 ust as a guideline:\n\n7:00-7:10pm News and Announcements\n\n7:10-8:10pm S
 pace rovers and surgical robots: system architecture lessons from Mars - s
 ession from John Breitenbach\n\n8:10-8:35pm Show &amp; tell by interested hobb
 yists\n\nRoom: 1005\, Bldg: Engineering Building 1 (EB1)\, 911 Partners Wa
 y\, Raleigh\, North Carolina\, United States\, 27606
LOCATION:Room: 1005\, Bldg: Engineering Building 1 (EB1)\, 911 Partners Way
 \, Raleigh\, North Carolina\, United States\, 27606
ORGANIZER:maheshba@ieee.org
SEQUENCE:5
SUMMARY:Space rovers and surgical robots: system architecture lessons from 
 Mars
URL;VALUE=URI:https://events.vtools.ieee.org/m/197395
X-ALT-DESC:Description: &lt;br /&gt;&lt;div class=&quot;post-content&quot;&gt;\n&lt;p&gt;What do Mars e
 xploration and Minimally Invasive Robotic Surgery (MIRS) have in common? I
 n some ways\, the technology and communication requirements couldn&#39;t be mo
 re different.&lt;/p&gt;\n&lt;p&gt;This provocative talk will examine a wide range of c
 hallenges for designing modern robotic systems\, based on real-life lesson
 s learned from NASA&#39;s Human Robotic Systems project and MIRO Lab\, an adva
 nced robotic assistance research laboratory.&lt;/p&gt;\n&lt;p&gt;Learn why Robot Opera
 ting System (ROS) 2.0 and robotic systems like NASA&#39;s and MIRO Lab&#39;s chose
  to implement a data-centric architecture using Data Distribution Service 
 (DDS)\, a communication protocol standard for real-time and embedded syste
 ms.&lt;/p&gt;\n&lt;p&gt;&lt;span style=&quot;text-decoration: underline\;&quot;&gt;&lt;strong&gt;Speake&lt;/str
 ong&gt;&lt;/span&gt;&lt;strong&gt;&lt;span style=&quot;text-decoration: underline\;&quot;&gt;r&lt;/span&gt;:&lt;/s
 trong&gt;&lt;br /&gt;John Breitenbach currently works as a Field Applications Engin
 eering Manager in Real-Time Innovations\, Inc.&lt;/p&gt;\n&lt;p&gt;John spent 25 years
  designing communications software for real-time embedded systems before j
 oining RTI as an applications engineer. He&amp;rsquo\;s worked on industrial\,
  medical\, consumer\, and military products - everything from artificial h
 earts to microgrids. As a protocol geek his focus is on helping RTI&amp;rsquo\
 ;s customers get their systems talking to each other and working as one.&lt;/
 p&gt;\n&lt;p&gt;IEEE RA24 appreciates John Breitenbach and Real-Time Innovations\, 
 Inc.\, for their technical contributions to the community.&lt;/p&gt;\n&lt;/div&gt;\n&lt;p
 &gt;&lt;strong&gt;&lt;span style=&quot;text-decoration: underline\;&quot;&gt;Parking&amp;nbsp\;Informat
 ion:&lt;/span&gt;&lt;/strong&gt;&lt;/p&gt;\n&lt;p&gt;&lt;strong&gt;Plenty of free parking available at f
 ollowing locations adjacent to EB1 Building.&lt;/strong&gt;&lt;/p&gt;\n&lt;p&gt;911 Partners
  Way\, Raleigh NC 27606 (EB1 entry)&lt;/p&gt;\n&lt;p&gt;890 Oval Drive\, Raleigh\, NC 
 27606&amp;nbsp\; &amp;nbsp\;(EB2 entry)&lt;/p&gt;\n&lt;p&gt;1070 Partners Way\, Raleigh\, NC 2
 7606 (Hunts library 0.2m away)&lt;/p&gt;&lt;br /&gt;&lt;br /&gt;Agenda: &lt;br /&gt;&lt;p&gt;6:30-7:00pm
  Networking with pizza and soda&lt;/p&gt;\n&lt;p&gt;The times below are approximate an
 d are given just as a guideline:&lt;/p&gt;\n&lt;p&gt;&lt;span style=&quot;font-size: 10pt\;&quot;&gt;7
 :00-7:10pm News and Announcements&lt;/span&gt;&lt;/p&gt;\n&lt;p&gt;&lt;span style=&quot;font-size: 1
 0pt\;&quot;&gt;7:10-8:10pm Space rovers and surgical robots: system architecture l
 essons from Mars - session from John&amp;nbsp\;Breitenbach&lt;/span&gt;&lt;/p&gt;\n&lt;p&gt;&lt;spa
 n style=&quot;font-size: 10pt\;&quot;&gt;8:10-8:35pm Show &amp;amp\; tell by interested hob
 byists&lt;/span&gt;&lt;/p&gt;
END:VEVENT
END:VCALENDAR

