BEGIN:VCALENDAR
VERSION:2.0
PRODID:IEEE vTools.Events//EN
CALSCALE:GREGORIAN
BEGIN:VTIMEZONE
TZID:US/Eastern
BEGIN:DAYLIGHT
DTSTART:20190310T030000
TZOFFSETFROM:-0500
TZOFFSETTO:-0400
RRULE:FREQ=YEARLY;BYDAY=2SU;BYMONTH=3
TZNAME:EDT
END:DAYLIGHT
BEGIN:STANDARD
DTSTART:20191103T010000
TZOFFSETFROM:-0400
TZOFFSETTO:-0500
RRULE:FREQ=YEARLY;BYDAY=1SU;BYMONTH=11
TZNAME:EST
END:STANDARD
END:VTIMEZONE
BEGIN:VEVENT
DTSTAMP:20191122T044519Z
UID:B3789E68-7F81-4CC8-97EB-6AFC645B6EA9
DTSTART;TZID=US/Eastern:20190420T070000
DTEND;TZID=US/Eastern:20190420T160000
DESCRIPTION:RARSfest - The Raleigh Hamfest event is happening today ie.\, A
 pril 20 2019. IEEE ENCS team will be present at Jim Graham Building of NC 
 State Fairgrounds. All are invited.\n\nCo-sponsored by: Mahesh Balasubrama
 niam\n\nBldg: Jim Graham Building\, RARSfest - Raleigh Hamfest\, 1025 Blue
  Ridge Rd\, Raleigh\, North Carolina\, United States
LOCATION:Bldg: Jim Graham Building\, RARSfest - Raleigh Hamfest\, 1025 Blue
  Ridge Rd\, Raleigh\, North Carolina\, United States
ORGANIZER:mbalasu@ncsu.edu
SEQUENCE:1
SUMMARY: IEEE ENCS RARSfest Raleigh Hamfest Outreach 
URL;VALUE=URI:https://events.vtools.ieee.org/m/198012
X-ALT-DESC:Description: &lt;br /&gt;&lt;p&gt;RARSfest - The Raleigh Hamfest event is ha
 ppening today ie.\, April 20 2019.&amp;nbsp\; IEEE ENCS team will be present a
 t Jim Graham Building of&amp;nbsp\;NC State Fairgrounds.&amp;nbsp\; All are invite
 d.&lt;/p&gt;
END:VEVENT
END:VCALENDAR

