BEGIN:VCALENDAR
VERSION:2.0
PRODID:IEEE vTools.Events//EN
CALSCALE:GREGORIAN
BEGIN:VTIMEZONE
TZID:US/Pacific
BEGIN:DAYLIGHT
DTSTART:20190310T030000
TZOFFSETFROM:-0800
TZOFFSETTO:-0700
RRULE:FREQ=YEARLY;BYDAY=2SU;BYMONTH=3
TZNAME:PDT
END:DAYLIGHT
BEGIN:STANDARD
DTSTART:20191103T010000
TZOFFSETFROM:-0700
TZOFFSETTO:-0800
RRULE:FREQ=YEARLY;BYDAY=1SU;BYMONTH=11
TZNAME:PST
END:STANDARD
END:VTIMEZONE
BEGIN:VEVENT
DTSTAMP:20190708T192412Z
UID:595ACCBC-172D-48DF-9776-3F30817CBF31
DTSTART;TZID=US/Pacific:20190515T183000
DTEND;TZID=US/Pacific:20190515T203000
DESCRIPTION:Event Details\n\nCutting through the hype\, Bryan Cunningham wi
 ll give a sober and realistic assessment of the cybersecurity threat envir
 onment over the next 10 years. He will combine several macro trends with r
 ecent legal\, technological\, national\, and economic security development
 s\, putting together the “big picture” to set the stage for the meetin
 g.\nSpeaker Bio\n\nAs the first Executive Director of UCI’s multidiscipl
 inary Cybersecurity Policy &amp; Research Institute\, Cunningham is focused on
  solution-oriented strategies address technical\, legal and policy challen
 ges to combat cyber threats\, protect individual privacy and civil liberti
 es\, maintain public safety and economic and national security and empower
  Americans to take better control of their digital security.\n\nCunningham
  is a leading international expert on cybersecurity law and policy\, a for
 mer White House lawyer and adviser and a media commentator on cybersecurit
 y\, technology and surveillance issues. He has appeared on Bloomberg\, ABC
 \, CBS\, CNN\, FOX and other networks.\n\nCunningham has extensive experie
 nce in senior U.S. government intelligence and law enforcement positions. 
 He served as Deputy Legal Adviser to then-National Security Advisor Condol
 eezza Rice. He also served six years in the Clinton Administration as a se
 nior CIA officer and federal prosecutor. He drafted significant portions o
 f the Homeland Security Act and related legislation\, helping to shepherd 
 them through Congress. He was a principal contributor to the first Nationa
 l Strategy to Secure Cyberspace\, worked closely with the 9/11 Commission 
 and provided legal advice to the President\, National Security Advisor\, t
 he National Security Council\, and other senior government officials on in
 telligence\, terrorism\, cybersecurity and other related matters.\n\nVenue
  &amp; Parking\n\nThis meeting will be at the Knobbe Martens&#39; Irvine offices. 
 Parking validation will be provided to attendees: parking tickets should b
 e validated at building reception desk upon arrival.\n\nCo-sponsored by: O
 C ACM\n\nAgenda: \n6:30 PM Doors Open &amp; Networking\n7:00 PM Announcements 
 and Presentation\n8:30 PM Meeting Adjourned\n\nRoom: 275W 2nd Floor\, Knob
 be Martens\, 2040 Main Street\, Irvine\, California\, United States\, 9261
 4
LOCATION:Room: 275W 2nd Floor\, Knobbe Martens\, 2040 Main Street\, Irvine\
 , California\, United States\, 92614
ORGANIZER:AWbrown@USC.edu
SEQUENCE:1
SUMMARY:IEEE OC Computer Society &amp; OCACM Meeting &quot;Cybersecurity: How Worrie
 d Should We Be?&quot;
URL;VALUE=URI:https://events.vtools.ieee.org/m/198684
X-ALT-DESC:Description: &lt;br /&gt;&lt;div align=&quot;left&quot;&gt;&lt;strong&gt;Event Details&lt;/stro
 ng&gt;&lt;br /&gt;\n&lt;p&gt;Cutting through the hype\, Bryan Cunningham will give a sobe
 r and realistic assessment of the cybersecurity threat environment over th
 e next 10 years. He will combine several macro trends with recent legal\, 
 technological\, national\, and economic security developments\, putting to
 gether the &amp;ldquo\;big picture&amp;rdquo\; to set the stage for the meeting.&lt;/
 p&gt;\n&lt;strong&gt;Speaker Bio&lt;/strong&gt;&lt;/div&gt;\n&lt;div align=&quot;left&quot;&gt;&amp;nbsp\;&lt;/div&gt;\n&lt;
 div align=&quot;left&quot;&gt;\n&lt;p&gt;As the first Executive Director of UCI&amp;rsquo\;s mult
 idisciplinary Cybersecurity Policy &amp;amp\; Research Institute\, Cunningham 
 is focused on solution-oriented strategies address technical\, legal and p
 olicy challenges to combat cyber threats\, protect individual privacy and 
 civil liberties\, maintain public safety and economic and national securit
 y and empower Americans to take better control of their digital security.&lt;
 /p&gt;\n&lt;p&gt;Cunningham is a leading international expert on cybersecurity law 
 and policy\, a former White House lawyer and adviser and a media commentat
 or on cybersecurity\, technology and surveillance issues. He has appeared 
 on Bloomberg\, ABC\, CBS\, CNN\, FOX and other networks.&lt;/p&gt;\n&lt;p&gt;Cunningha
 m has extensive experience in senior U.S. government intelligence and law 
 enforcement positions. He served as Deputy Legal Adviser to then-National 
 Security Advisor Condoleezza Rice. He also served six years in the Clinton
  Administration as a senior CIA officer and federal prosecutor. He drafted
  significant portions of the Homeland Security Act and related legislation
 \, helping to shepherd them through Congress. He was a principal contribut
 or to the first National Strategy to Secure Cyberspace\, worked closely wi
 th the 9/11 Commission and provided legal advice to the President\, Nation
 al Security Advisor\, the National Security Council\, and other senior gov
 ernment officials on intelligence\, terrorism\, cybersecurity and other re
 lated matters.&lt;/p&gt;\n&lt;/div&gt;\n&lt;div align=&quot;left&quot;&gt;&lt;strong&gt;Venue &amp;amp\; Parking
 &lt;/strong&gt;&lt;br /&gt;&lt;br /&gt;This meeting will be at the Knobbe Martens&#39; Irvine of
 fices. Parking validation will be provided to attendees:&amp;nbsp\; parking ti
 ckets should be validated at building reception desk upon arrival.&lt;/div&gt;&lt;b
 r /&gt;&lt;br /&gt;Agenda: &lt;br /&gt;&lt;p&gt;&lt;span class=&quot;aBn&quot; tabindex=&quot;0&quot; data-term=&quot;goog_
 557201552&quot;&gt;&lt;span class=&quot;aQJ&quot;&gt;6:30 PM&lt;/span&gt;&lt;/span&gt;&amp;nbsp\;Doors Open &amp;amp\;
  Networking&lt;br /&gt;&lt;span class=&quot;aBn&quot; tabindex=&quot;0&quot; data-term=&quot;goog_557201553&quot;
 &gt;&lt;span class=&quot;aQJ&quot;&gt;7:00 PM&lt;/span&gt;&lt;/span&gt;&amp;nbsp\;Announcements and Presentat
 ion&lt;br /&gt;8:30 PM Meeting Adjourned&lt;/p&gt;
END:VEVENT
END:VCALENDAR

