BEGIN:VCALENDAR
VERSION:2.0
PRODID:IEEE vTools.Events//EN
CALSCALE:GREGORIAN
BEGIN:VTIMEZONE
TZID:America/Edmonton
BEGIN:DAYLIGHT
DTSTART:20190310T030000
TZOFFSETFROM:-0700
TZOFFSETTO:-0600
RRULE:FREQ=YEARLY;BYDAY=2SU;BYMONTH=3
TZNAME:MDT
END:DAYLIGHT
BEGIN:STANDARD
DTSTART:20191103T010000
TZOFFSETFROM:-0600
TZOFFSETTO:-0700
RRULE:FREQ=YEARLY;BYDAY=1SU;BYMONTH=11
TZNAME:MST
END:STANDARD
END:VTIMEZONE
BEGIN:VEVENT
DTSTAMP:20190719T213629Z
UID:06CFD5E0-2E30-4819-851F-CC71744DCE4C
DTSTART;TZID=America/Edmonton:20190719T123000
DTEND;TZID=America/Edmonton:20190719T153000
DESCRIPTION:Tour is comprised of a 30-minute information session on the pow
 er plant equipment and operation by ENMAX followed by a 1-1.5 hour tour of
  the 800-megawatt combined-cycle natural gas-fired power plant. Enmax staf
 f will walk you through the power plant showing you the electric facility\
 , control centre\, generation and water treatment equipment\, steam turbin
 e and duct burners and much more. Tour is very informative and ranges in t
 echnical nature but encourages questions throughout tour. Enmax provides h
 eadsets during tour for ease of communication.\n\nPPE (Hard Hat\, Safety G
 lasses and Hearing Protection) provided by ENMAX. Closed toed shoes are re
 quired. There is approximately 4 flights of stairs to by climbed during a 
 portion of the tour. Transportation to the Shepard Energy Centre will not 
 be provided.\n\nSite orientation to be completed by participants prior to 
 arrival to Shepard Energy Centre. Instructions below:\n\nThe link [http://
 www.enmaxgenerationehs.com/](https://protect2.fireeye.com/url?k=4ed53403-1
 24777ab-4ed51f9d-002590f4637c-bf67190d63261ff7&amp;u=http://www.enmaxgeneratio
 nehs.com/) will direct you to the ENMAX Generation EHS Orientation website
 . From there:\n\n1. Click on “Log In” (top right)\n2. Click on “Sign
  Up Now”\n3. Complete the “Sign Up Information” form\n\nYou will the
 n be directed to the courses page and simply click on “Launch Course” 
 for the Shepard Energy Centre –ESCORTED Visitor Orientation.\nOnce compl
 eted\, you can get a printable certificate. You are not required to bring 
 it with you to your site visit.\n\nAgenda: \n12:30-1: Arrive at Shepard En
 ergy Centre\n\n1:00-1:30: Information session given by ENMAX Plant employe
 es\n\n1:30-3:00: Power Plant Escorted Tour\n\n9500 100 Street SE\, Calgary
 \, Alberta\, Canada\, T3S0A2
LOCATION:9500 100 Street SE\, Calgary\, Alberta\, Canada\, T3S0A2
ORGANIZER:surgenor.kyle@gmail.com
SEQUENCE:7
SUMMARY:Shepard Energy Centre (Ownership: ENMAX 50%/Capital Power 50%) - To
 ur
URL;VALUE=URI:https://events.vtools.ieee.org/m/199179
X-ALT-DESC:Description: &lt;br /&gt;&lt;p&gt;Tour is comprised of a 30-minute informati
 on session on the power plant equipment and operation by ENMAX followed by
  a 1-1.5 hour tour of the 800-megawatt combined-cycle natural gas-fired po
 wer plant. Enmax staff will walk you through the power plant showing you t
 he electric facility\, control centre\, generation and water treatment equ
 ipment\, steam turbine and duct burners and much more. Tour is very inform
 ative and ranges in technical nature but encourages questions throughout t
 our. Enmax provides headsets during tour for ease of communication.&amp;nbsp\;
 &lt;/p&gt;\n&lt;p&gt;PPE (Hard Hat\, Safety Glasses and Hearing Protection) provided b
 y ENMAX. Closed toed shoes are required. There is approximately 4 flights 
 of stairs to by climbed during a portion of the tour. Transportation to th
 e Shepard Energy Centre will not be provided.&lt;/p&gt;\n&lt;p&gt;Site orientation to 
 be completed by participants prior to arrival to Shepard Energy Centre. In
 structions below:&lt;/p&gt;\n&lt;p&gt;The link &lt;a href=&quot;https://protect2.fireeye.com/u
 rl?k=4ed53403-124777ab-4ed51f9d-002590f4637c-bf67190d63261ff7&amp;amp\;u=http:
 //www.enmaxgenerationehs.com/&quot;&gt;http://www.enmaxgenerationehs.com/&lt;/a&gt;&amp;nbsp
 \;will direct you to the ENMAX Generation EHS Orientation website. From th
 ere:&lt;br /&gt; &lt;br /&gt;1. Click on &amp;ldquo\;Log In&amp;rdquo\; (top right)&lt;br /&gt;2. Cl
 ick on &amp;ldquo\;Sign Up Now&amp;rdquo\;&lt;br /&gt;3. Complete the &amp;ldquo\;Sign Up In
 formation&amp;rdquo\; form&lt;br /&gt; &lt;br /&gt;You will then be directed to the course
 s page and simply click on &amp;ldquo\;Launch Course&amp;rdquo\; for the Shepard E
 nergy Centre &amp;ndash\;ESCORTED Visitor Orientation. &lt;br /&gt;Once completed\, 
 you can get a printable certificate. You are not required to bring it with
  you to your site visit.&lt;/p&gt;&lt;br /&gt;&lt;br /&gt;Agenda: &lt;br /&gt;&lt;p&gt;12:30-1: Arrive a
 t Shepard Energy Centre&lt;/p&gt;\n&lt;p&gt;1:00-1:30: Information session given by EN
 MAX Plant employees&lt;/p&gt;\n&lt;p&gt;1:30-3:00: Power Plant Escorted Tour&lt;/p&gt;
END:VEVENT
END:VCALENDAR

