BEGIN:VCALENDAR
VERSION:2.0
PRODID:IEEE vTools.Events//EN
CALSCALE:GREGORIAN
BEGIN:VTIMEZONE
TZID:America/Panama
BEGIN:STANDARD
DTSTART:19080422T001936
TZOFFSETFROM:-0640
TZOFFSETTO:-0500
TZNAME:EST
END:STANDARD
END:VTIMEZONE
BEGIN:VEVENT
DTSTAMP:20190629T140852Z
UID:4842B6B0-72E4-4AA0-8062-1341C9D1C3F3
DTSTART;TZID=America/Panama:20190628T170000
DTEND;TZID=America/Panama:20190628T210000
DESCRIPTION:Ante el inminente cambio en las regulaciones y el mercado eléc
 trico\, debido a las metas de cambio climático\, las nuevas tecnologías 
 de generación y operaciones de redes eléctricas que impulsan un futuro m
 ás limpio y eficiente\, hemos desarrollado un tema de conferencias para p
 romover el conocimiento de este importante campo de la ciencia\, la econom
 ía y la sociedad.\n\nEsta conferencia está diseñada para los profesiona
 les relacionados a Empresas de Servicios Eléctricos\, Abogados\, Contador
 es\, Periodistas\, Inversionistas\, Administradores\, Estudiantes universi
 tarios y público general. Y esperamos darle una perspectiva técnica\, qu
 e les ayude a tener una visión para mejorar sus planes administrativos\, 
 financieros y profesionales\, ante el más importante recurso de la modern
 idad\, la “Electricidad”.\n\nAgenda: \n- Conceptos Básicos de Energí
 a y Potencia\n- Sistema de Potencia Eléctrica\n- Generación\n- Transmisi
 ón y Distribución\n- Operación\n- Regulación\, Mercado Eléctrico y Ta
 rifas\n- Concepto de la Eficiencia Energética\n- Tecnologías de Vanguard
 ia (EV\, Microgrids\, DER\, Energy Storage\, blockchain)\n\nBldg: Hotel Gr
 an Via\, Avenida Bolivar\, A un costado del almacén El Campeón\, David\,
  Chiriqui\, Panama
LOCATION:Bldg: Hotel Gran Via\, Avenida Bolivar\, A un costado del almacén
  El Campeón\, David\, Chiriqui\, Panama
ORGANIZER:t.abrahams.pa@ieee.org
SEQUENCE:10
SUMMARY:Seminario para profesionales sobre Conceptos y Bases del Sistema de
  Potencia y Mercado Eléctrico
URL;VALUE=URI:https://events.vtools.ieee.org/m/199187
X-ALT-DESC:Description: &lt;br /&gt;&lt;p&gt;Ante el inminente cambio en las regulacion
 es y el mercado el&amp;eacute\;ctrico\, debido a las metas de cambio clim&amp;aacu
 te\;tico\, las nuevas tecnolog&amp;iacute\;as de generaci&amp;oacute\;n y operacio
 nes de redes el&amp;eacute\;ctricas que impulsan un futuro m&amp;aacute\;s limpio 
 y eficiente\, hemos desarrollado un tema de conferencias para promover el 
 conocimiento de este importante campo de la ciencia\, la econom&amp;iacute\;a 
 y la sociedad.&lt;/p&gt;\n&lt;p&gt;Esta conferencia est&amp;aacute\; dise&amp;ntilde\;ada para
  los profesionales relacionados a Empresas de Servicios El&amp;eacute\;ctricos
 \, Abogados\, Contadores\, Periodistas\, Inversionistas\, Administradores\
 , Estudiantes universitarios y p&amp;uacute\;blico general. Y esperamos darle 
 una perspectiva t&amp;eacute\;cnica\, que les ayude a tener una visi&amp;oacute\;n
  para mejorar sus planes administrativos\, financieros y profesionales\, a
 nte el m&amp;aacute\;s importante recurso de la modernidad\, la &amp;ldquo\;Electr
 icidad&amp;rdquo\;.&lt;/p&gt;&lt;br /&gt;&lt;br /&gt;Agenda: &lt;br /&gt;&lt;ul&gt;\n&lt;li&gt;Conceptos B&amp;aacute\
 ;sicos de Energ&amp;iacute\;a y Potencia&lt;/li&gt;\n&lt;li&gt;Sistema de Potencia El&amp;eacu
 te\;ctrica&lt;/li&gt;\n&lt;li&gt;Generaci&amp;oacute\;n&lt;/li&gt;\n&lt;li&gt;Transmisi&amp;oacute\;n y Di
 stribuci&amp;oacute\;n&lt;/li&gt;\n&lt;li&gt;Operaci&amp;oacute\;n&lt;/li&gt;\n&lt;li&gt;Regulaci&amp;oacute\;
 n\, Mercado El&amp;eacute\;ctrico y Tarifas&lt;/li&gt;\n&lt;li&gt;Concepto de la Eficienci
 a Energ&amp;eacute\;tica&lt;/li&gt;\n&lt;li&gt;Tecnolog&amp;iacute\;as de Vanguardia (EV\, Mic
 rogrids\, DER\, Energy Storage\, blockchain)&lt;/li&gt;\n&lt;/ul&gt;
END:VEVENT
END:VCALENDAR

