BEGIN:VCALENDAR
VERSION:2.0
PRODID:IEEE vTools.Events//EN
CALSCALE:GREGORIAN
BEGIN:VTIMEZONE
TZID:US/Michigan
BEGIN:DAYLIGHT
DTSTART:20190310T030000
TZOFFSETFROM:-0500
TZOFFSETTO:-0400
RRULE:FREQ=YEARLY;BYDAY=2SU;BYMONTH=3
TZNAME:EDT
END:DAYLIGHT
BEGIN:STANDARD
DTSTART:20191103T010000
TZOFFSETFROM:-0400
TZOFFSETTO:-0500
RRULE:FREQ=YEARLY;BYDAY=1SU;BYMONTH=11
TZNAME:EST
END:STANDARD
END:VTIMEZONE
BEGIN:VEVENT
DTSTAMP:20190806T172420Z
UID:E59EA389-3F09-46D6-8D53-DB6A7F861388
DTSTART;TZID=US/Michigan:20190620T173000
DTEND;TZID=US/Michigan:20190620T193000
DESCRIPTION:Southeastern Michigan IEEE EMC Chapter technical meeting.\n\nFo
 od Sponsor: Teledyne LeCroy www.Teledyne.com\n\n[Event Slides:](https://ww
 w.emcsociety.org/wp/wp-content/uploads/2019/08/fundamentals-and-advances-i
 n-power-integrity-analysis-methods_Michigan_EMCS_Chapter1.pdf)\n\n[][]\n\n
 Speaker(s): Ihsan Erdin\, \n\nAgenda: \n5:30 Pizza and Salad\n\n6:00 Prese
 ntation\n\nBldg: Teledyne LeCroy Automotive\, 27007 Hills Tech Ct\, Farmin
 gton Hills\, Michigan\, United States\,  48331
LOCATION:Bldg: Teledyne LeCroy Automotive\, 27007 Hills Tech Ct\, Farmingto
 n Hills\, Michigan\, United States\,  48331
ORGANIZER:scott@emcsociety.org
SEQUENCE:3
SUMMARY:Fundamentals and Advances in Power Integrity Modeling and Analysis 
 Methods
URL;VALUE=URI:https://events.vtools.ieee.org/m/199260
X-ALT-DESC:Description: &lt;br /&gt;&lt;p&gt;Southeastern Michigan IEEE EMC Chapter tec
 hnical meeting.&lt;/p&gt;\n&lt;p&gt;&lt;span style=&quot;color: #ff0000\; font-size: 18pt\;&quot;&gt;F
 ood Sponsor: Teledyne LeCroy &amp;nbsp\;&lt;a href=&quot;http://www.Teledyne.com&quot;&gt;&lt;str
 ong&gt;www.Teledyne.com&lt;/strong&gt;&lt;/a&gt;&lt;/span&gt;&lt;/p&gt;\n&lt;p&gt;&lt;a href=&quot;https://www.emcs
 ociety.org/wp/wp-content/uploads/2019/08/fundamentals-and-advances-in-powe
 r-integrity-analysis-methods_Michigan_EMCS_Chapter1.pdf&quot; target=&quot;_blank&quot; r
 el=&quot;noopener&quot;&gt;&amp;nbsp\;&lt;span style=&quot;font-size: 18pt\;&quot;&gt;Event Slides:&amp;nbsp\;&lt;
 /span&gt;&lt;/a&gt;&lt;/p&gt;\n&lt;p&gt;&lt;span style=&quot;color: #ff0000\; font-size: 18pt\;&quot;&gt;&lt;img s
 rc=&quot;http://www.emcsociety.org/wp/wp-content/uploads/2017/10/Teledyne_Lecro
 y.jpg&quot; /&gt;&lt;/span&gt;&lt;/p&gt;\n&lt;p&gt;&lt;strong&gt;&lt;span style=&quot;color: #336699\; font-size: 
 small\;&quot;&gt;&amp;nbsp\;&lt;/span&gt;&lt;/strong&gt;&lt;/p&gt;\n&lt;p&gt;&amp;nbsp\;&lt;/p&gt;\n&lt;p&gt;&lt;img src=&quot;http://
 www.emcsociety.org/big_iee.jpg&quot; alt=&quot;&quot; width=&quot;100&quot; height=&quot;100&quot; /&gt;&lt;img src
 =&quot;http://www.emcsociety.org/emcsociety.jpg&quot; alt=&quot;&quot; width=&quot;200&quot; height=&quot;100
 &quot; /&gt;&lt;/p&gt;&lt;br /&gt;&lt;br /&gt;Agenda: &lt;br /&gt;&lt;p&gt;5:30&amp;nbsp\; Pizza and Salad&lt;/p&gt;\n&lt;p&gt;6
 :00 Presentation&lt;/p&gt;
END:VEVENT
END:VCALENDAR

