BEGIN:VCALENDAR
VERSION:2.0
PRODID:IEEE vTools.Events//EN
CALSCALE:GREGORIAN
BEGIN:VTIMEZONE
TZID:America/Panama
BEGIN:STANDARD
DTSTART:19080422T001936
TZOFFSETFROM:-0640
TZOFFSETTO:-0500
TZNAME:EST
END:STANDARD
END:VTIMEZONE
BEGIN:VEVENT
DTSTAMP:20190607T045130Z
UID:144D5211-8431-4F70-B8F5-31ED7DA14AE6
DTSTART;TZID=America/Panama:20190606T180000
DTEND;TZID=America/Panama:20190606T193000
DESCRIPTION:El aprendizaje automático o aprendizaje automatizado o aprendi
 zaje de máquinas es el subcampo de las ciencias de la computación y una 
 rama de la inteligencia artificial\, cuyo objetivo es desarrollar técnica
 s que permitan que las computadoras aprendan.\n\nCo-sponsored by: Universi
 dad de Panamá\n\nPanamá\, Panamá\, Panamá\, Panama\, Panama
LOCATION:Panamá\, Panamá\, Panamá\, Panama\, Panama
ORGANIZER:cs.branchup08@gmail.com
SEQUENCE:1
SUMMARY:Jueves Tecnológico - Marchine Learning
URL;VALUE=URI:https://events.vtools.ieee.org/m/199718
X-ALT-DESC:Description: &lt;br /&gt;&lt;p&gt;El aprendizaje autom&amp;aacute\;tico o aprend
 izaje automatizado o aprendizaje de m&amp;aacute\;quinas es el subcampo de las
  ciencias de la computaci&amp;oacute\;n y una rama de la inteligencia artifici
 al\, cuyo objetivo es desarrollar t&amp;eacute\;cnicas que permitan que las co
 mputadoras aprendan.&lt;/p&gt;
END:VEVENT
END:VCALENDAR

