BEGIN:VCALENDAR
VERSION:2.0
PRODID:IEEE vTools.Events//EN
CALSCALE:GREGORIAN
BEGIN:VTIMEZONE
TZID:America/New_York
BEGIN:DAYLIGHT
DTSTART:20190310T030000
TZOFFSETFROM:-0500
TZOFFSETTO:-0400
RRULE:FREQ=YEARLY;BYDAY=2SU;BYMONTH=3
TZNAME:EDT
END:DAYLIGHT
BEGIN:STANDARD
DTSTART:20191103T010000
TZOFFSETFROM:-0400
TZOFFSETTO:-0500
RRULE:FREQ=YEARLY;BYDAY=1SU;BYMONTH=11
TZNAME:EST
END:STANDARD
END:VTIMEZONE
BEGIN:VEVENT
DTSTAMP:20191004T234246Z
UID:C2C51AD7-0A68-4F60-97CF-BEB6A4957BBC
DTSTART;TZID=America/New_York:20191004T083000
DTEND;TZID=America/New_York:20191004T170000
DESCRIPTION:[]The Western New York Image and Signal Processing Workshop (WN
 YISPW) is a venue for promoting image and signal processing research in ou
 r area and for facilitating interaction between academic researchers\, ind
 ustry researchers\, and students.\n\nThe workshop comprises both oral and 
 poster presentations.\n\nThe workshop\, building off of 21 successful year
 s of the Western New York Image Processing Workshop (WNYIPW)\, is sponsore
 d by the Rochester chapter of the IEEE Signal Processing Society with tech
 nical cooperation from the Rochester chapter of the Society for Imaging Sc
 ience and Technology.\n\nThe workshop will be held on Friday\, October 04\
 , 2019\, in Louise Slaughter Hall (Building SLA/078) at Rochester Institut
 e of Technology in Rochester\, NY.\n\nhttps://ewh.ieee.org/r1/rochester/sp
 /WNYISPW2019.html\n\nImportant Dates\n\nPaper/poster submission opens:	Aug
 ust 13\, 2019\nPaper submission closes:	September 13\, 2019\nPoster submis
 sion closes:	September 20\, 2019\nNotification of Acceptance:	September 18
 \, 2019\nEarly (online) registration deadline:	September 20\, 2019\nSubmis
 sion of camera-ready paper:	October 7\, 2019\nWorkshop:	October 04\, 2019\
 n\nAwards\n\nTo encourage student participation\, a best student paper and
  best student poster award will be given.\n\nRegistration\n\nOnsite regist
 ration will be also available\, with onsite registration fees payable by c
 ash or check. Fees enable attendance to all sessions and include breakfast
 \, lunch\, and afternoon snack. Registration fees are:\n\n- General Regist
 ration: $60 (with online registration by 09/20)\, $70 (online after 09/20 
 or onsite)\n- Student Registration: $40 (with online registration by 09/20
 )\, $50 (online after 09/20 or onsite)\n- IEEE or IS&amp;T Membership: $40 (wi
 th online registration by 09/20)\, $50 (online after 09/20 or onsite)\n- I
 EEE or IS&amp;T Student Membership: $30 (with online registration by 09/20)\, 
 $40 (online after 09/20 or onsite)\n\nParking Instructions\n\nAny non-RIT 
 attendees are allowed to park in either Lot T or the Global Village Lot an
 d then walk to Louise Slaughter Hall (SLA Building). See the [campus map w
 ith parking information (you need to print out a parking pass and place on
  your windshield)](https://ewh.ieee.org/r1/rochester/sp/docs/IEEE_Campus_M
 ap_Parking_Permit.pdf). If you forget to print out a permit\, Non-RIT visi
 tors can stop by the RIT Welcome Center (flagpole entrance) on the day of 
 the Workshop to get a parking pass.\n\nOrganizing Committee\n\n- Ziya Arna
 vut\, SUNY Fredonia\n- Nathan Cahill\, Rochester Institute of Technology\n
 - Edgar Bernal\, University of Rochester\n- Zhiyao Duan\, University of Ro
 chester\n- Christopher Kanan\, Rochester Institute of Technology\n- Paul L
 ee\, University of Rochester\n- Cristian Linte\, Rochester Institute of Te
 chnology\n- Alexander Loui\, Rochester Institute of Technology\n- David Od
 gers\, Odgers Imaging\n- Raymond Ptucha\, Rochester Institute of Technolog
 y\n- Richard Zanibbi\, Rochester Institute of Technology\n\nSpeaker(s): Da
 vid Doermann\, Andy Gallagher\n\nAgenda: \nInvited Speakers\n\n[Cetin][Mat
 eos][Phipps][Yuan]\n\nMujdat Cetin\, Gonzalo Mateos Buckstein\, Rob Phipps
 \, and Junsong Yuan.\n\nTentative schedule:\n\n- 8:30-8:50am\, Registratio
 n\, breakfast\n- 8:50-9am\, Welcome by Chair\n- 9-9:45am\, Andrew Gallaghe
 r\n- 9:45-10am\, break\n- 10-11am\, Oral presentations (4 presentations)\n
 - 11-11:30am\, Junsong Yuan\n- 11:30am-Noon\, Mujdat Cetin\n- 10am-Noon\, 
 Deep learning tutorial by Mathwork’s Jianghao Wang (parallel track- sepa
 rate room)\n- Noon-1:30pm\, Lunch and posters\n- 1:30-2:15pm\, David Doerm
 ann\n- 2:15-2:30pm\, break\n- 2:30-3:30pm\, Oral presentations (4 presenta
 tions)\n- 3:30-4pm\, Gonzalo Mateos Buckstein\n- 4-4:30pm\, Rob Phipps\n- 
 2:30-4:30pm\, RIT Research Computing by Sidney Pendelberry (parallel track
  – separate room)\n- 4:30-4:45pm\, Last year’s Best paper presentation
  new research\n- 4:45-5pm\, Awards and wrapup\n\nSponsors\n\n[Sponsors]\n\
 nBldg: Louise Slaughter Hall (SLA)\; Building 78\, Rochester Institute of 
 Technology\, Rochester\, New York\, United States\, 14623
LOCATION:Bldg: Louise Slaughter Hall (SLA)\; Building 78\, Rochester Instit
 ute of Technology\, Rochester\, New York\, United States\, 14623
ORGANIZER:rwpeec@rit.edu
SEQUENCE:20
SUMMARY:2019 Western New York Image and Signal Processing Workshop
URL;VALUE=URI:https://events.vtools.ieee.org/m/200009
X-ALT-DESC:Description: &lt;br /&gt;&lt;p&gt;&lt;img style=&quot;float: right\;&quot; src=&quot;http://si
 tes.ieee.org/rochester/files/2019/09/word_cloud.jpg&quot; alt=&quot;&quot; width=&quot;355&quot; he
 ight=&quot;145&quot; /&gt;The Western New York Image and&amp;nbsp\;Signal Processing Worksh
 op (WNYISPW) is a venue for&amp;nbsp\;promoting image and signal processing re
 search in our area&amp;nbsp\;and for facilitating interaction between academic
 &amp;nbsp\;researchers\, industry researchers\, and students.&lt;/p&gt;\n&lt;p&gt;The work
 shop comprises both oral and poster presentations.&lt;br /&gt;&lt;br /&gt; The worksho
 p\, building off of 21 successful years of the&amp;nbsp\;Western New York Imag
 e Processing Workshop (WNYIPW)\, is&amp;nbsp\;sponsored by the Rochester chapt
 er&amp;nbsp\;of the IEEE Signal Processing Society with technical&amp;nbsp\;cooper
 ation from the Rochester chapter of the Society for&amp;nbsp\;Imaging Science 
 and Technology.&lt;br /&gt;&lt;br /&gt; The workshop will be held on Friday\, October 
 04\, 2019\, in&amp;nbsp\;Louise Slaughter Hall (Building SLA/078) at Rochester
 &amp;nbsp\;Institute of Technology in Rochester\, NY.&lt;/p&gt;\n&lt;p&gt;&lt;a href=&quot;https:/
 /ewh.ieee.org/r1/rochester/sp/WNYISPW2019.html&quot;&gt;https://ewh.ieee.org/r1/ro
 chester/sp/WNYISPW2019.html&lt;/a&gt;&lt;/p&gt;\n&lt;p&gt;&lt;strong&gt;Important Dates&lt;/strong&gt;&lt;/
 p&gt;\n&lt;table width=&quot;500&quot; align=&quot;left&quot;&gt;\n&lt;tbody&gt;\n&lt;tr&gt;\n&lt;td class=&quot;odd&quot;&gt;Paper
 /poster submission opens:&lt;/td&gt;\n&lt;td class=&quot;odd&quot;&gt;August 13\, 2019&lt;/td&gt;\n&lt;/t
 r&gt;\n&lt;tr&gt;\n&lt;td class=&quot;even&quot;&gt;Paper submission closes:&lt;/td&gt;\n&lt;td class=&quot;even&quot;
 &gt;September 13\, 2019&lt;/td&gt;\n&lt;/tr&gt;\n&lt;tr&gt;\n&lt;td class=&quot;even&quot;&gt;Poster submission
  closes:&lt;/td&gt;\n&lt;td class=&quot;even&quot;&gt;September 20\, 2019&lt;/td&gt;\n&lt;/tr&gt;\n&lt;tr&gt;\n&lt;td
  class=&quot;odd&quot;&gt;Notification of Acceptance:&lt;/td&gt;\n&lt;td class=&quot;odd&quot;&gt;September 1
 8\, 2019&lt;/td&gt;\n&lt;/tr&gt;\n&lt;tr&gt;\n&lt;td class=&quot;even&quot;&gt;Early (online) registration d
 eadline:&lt;/td&gt;\n&lt;td class=&quot;even&quot;&gt;September 20\, 2019&lt;/td&gt;\n&lt;/tr&gt;\n&lt;tr&gt;\n&lt;td
  class=&quot;odd&quot;&gt;Submission of camera-ready paper:&lt;/td&gt;\n&lt;td class=&quot;odd&quot;&gt;Octob
 er 7\, 2019&lt;/td&gt;\n&lt;/tr&gt;\n&lt;tr&gt;\n&lt;td class=&quot;even&quot;&gt;Workshop:&lt;/td&gt;\n&lt;td class=
 &quot;even&quot;&gt;October 04\, 2019&lt;/td&gt;\n&lt;/tr&gt;\n&lt;/tbody&gt;\n&lt;/table&gt;\n&lt;h3&gt;&amp;nbsp\;&lt;/h3&gt;
 \n&lt;p&gt;&amp;nbsp\;&lt;/p&gt;\n&lt;p&gt;&amp;nbsp\;&lt;/p&gt;\n&lt;p&gt;&amp;nbsp\;&lt;/p&gt;\n&lt;p&gt;&amp;nbsp\;&lt;/p&gt;\n&lt;p&gt;&amp;nbsp
 \;&lt;/p&gt;\n&lt;p&gt;&lt;strong&gt;Awards&lt;/strong&gt;&lt;/p&gt;\n&lt;p&gt;To encourage student participat
 ion\, a best student paper and best student poster award will be given.&amp;nb
 sp\; &lt;strong&gt;&lt;br /&gt;&lt;/strong&gt;&lt;/p&gt;\n&lt;p&gt;&lt;strong&gt;Registration&lt;/strong&gt;&lt;/p&gt;\n&lt;p
 &gt;Onsite registration will be also available\, with onsite registration fee
 s payable by cash or check.&amp;nbsp\; Fees enable attendance to all sessions 
 and include breakfast\, lunch\, and afternoon snack.&amp;nbsp\; Registration f
 ees are:&lt;/p&gt;\n&lt;ul&gt;\n&lt;li&gt;General Registration: $60 (with online registratio
 n by 09/20)\, $70 (online after 09/20 or onsite)&lt;/li&gt;\n&lt;li&gt;Student Registr
 ation: $40 (with online registration by 09/20)\, $50 (online after 09/20 o
 r onsite)&lt;/li&gt;\n&lt;li&gt;IEEE or IS&amp;amp\;T Membership: $40 (with online registr
 ation by 09/20)\, $50 (online after 09/20 or onsite)&lt;/li&gt;\n&lt;li&gt;IEEE or IS&amp;
 amp\;T Student Membership: $30 (with online registration by 09/20)\, $40 (
 online after 09/20 or onsite)&lt;/li&gt;\n&lt;/ul&gt;\n&lt;p&gt;&lt;strong&gt;Parking Instructions
 &lt;/strong&gt;&lt;/p&gt;\n&lt;p&gt;Any non-RIT attendees are allowed to park in either Lot 
 T or the Global Village Lot and then walk to Louise Slaughter Hall (SLA Bu
 ilding). See the &lt;a href=&quot;https://ewh.ieee.org/r1/rochester/sp/docs/IEEE_C
 ampus_Map_Parking_Permit.pdf&quot;&gt;campus map with parking information (you nee
 d to print out a parking pass and place on your windshield)&lt;/a&gt;. If you fo
 rget to print out a permit\, Non-RIT visitors can stop by the RIT Welcome 
 Center (flagpole entrance) on the day of the Workshop to get a parking pas
 s.&lt;/p&gt;\n&lt;p&gt;&lt;strong&gt;Organizing Committee&lt;/strong&gt;&lt;/p&gt;\n&lt;ul&gt;\n&lt;li&gt;Ziya Arnav
 ut\, SUNY Fredonia&lt;/li&gt;\n&lt;li&gt;Nathan Cahill\, Rochester Institute of Techno
 logy&lt;/li&gt;\n&lt;li&gt;Edgar Bernal\, University of Rochester&lt;/li&gt;\n&lt;li&gt;Zhiyao Dua
 n\, University of Rochester&lt;/li&gt;\n&lt;li&gt;Christopher Kanan\, Rochester Instit
 ute of Technology&lt;/li&gt;\n&lt;li&gt;Paul Lee\, University of Rochester&lt;/li&gt;\n&lt;li&gt;C
 ristian Linte\, Rochester Institute of Technology&lt;/li&gt;\n&lt;li&gt;Alexander Loui
 \, Rochester Institute of Technology&lt;/li&gt;\n&lt;li&gt;David Odgers\, Odgers Imagi
 ng&lt;/li&gt;\n&lt;li&gt;Raymond Ptucha\, Rochester Institute of Technology&lt;/li&gt;\n&lt;li&gt;
 Richard Zanibbi\, Rochester Institute of Technology&lt;/li&gt;\n&lt;/ul&gt;&lt;br /&gt;&lt;br /
 &gt;Agenda: &lt;br /&gt;&lt;h3 style=&quot;text-align: left\;&quot;&gt;&lt;span style=&quot;font-size: 12pt
 \;&quot;&gt;&lt;strong&gt;Invited Speakers&lt;/strong&gt;&lt;/span&gt;&lt;/h3&gt;\n&lt;p&gt;&lt;img src=&quot;http://sit
 es.ieee.org/rochester/files/2019/09/M_Cetin.jpg&quot; alt=&quot;Cetin&quot; height=&quot;120&quot; 
 /&gt;&lt;img src=&quot;http://sites.ieee.org/rochester/files/2019/09/G_Mateos.jpg&quot; al
 t=&quot;Mateos&quot; height=&quot;120&quot; /&gt;&lt;img src=&quot;http://sites.ieee.org/rochester/files/
 2019/09/R_Phipps.jpg&quot; alt=&quot;Phipps&quot; height=&quot;120&quot; /&gt;&lt;img src=&quot;http://sites.i
 eee.org/rochester/files/2019/09/J_Yuan.jpg&quot; alt=&quot;Yuan&quot; height=&quot;120&quot; /&gt;&lt;/p&gt;
 \n&lt;p&gt;Mujdat Cetin\, Gonzalo Mateos Buckstein\, Rob Phipps\, and Junsong Yu
 an.&lt;/p&gt;\n&lt;p&gt;Tentative schedule:&lt;/p&gt;\n&lt;ul&gt;\n&lt;li&gt;8:30-8:50am\, Registration\
 , breakfast&lt;/li&gt;\n&lt;li&gt;8:50-9am\, Welcome by Chair&lt;/li&gt;\n&lt;li&gt;9-9:45am\, And
 rew Gallagher&lt;/li&gt;\n&lt;li&gt;9:45-10am\, break&lt;/li&gt;\n&lt;li&gt;10-11am\, Oral present
 ations (4 presentations)&lt;/li&gt;\n&lt;li&gt;11-11:30am\, Junsong Yuan&lt;/li&gt;\n&lt;li&gt;11:
 30am-Noon\, Mujdat Cetin&amp;nbsp\;&lt;/li&gt;\n&lt;li&gt;10am-Noon\, Deep learning tutori
 al by Mathwork&amp;rsquo\;s Jianghao Wang (parallel track- separate room)&lt;/li&gt;
 \n&lt;li&gt;Noon-1:30pm\, Lunch and posters&lt;/li&gt;\n&lt;li&gt;1:30-2:15pm\, David Doerma
 nn&amp;nbsp\;&lt;/li&gt;\n&lt;li&gt;2:15-2:30pm\, break&lt;/li&gt;\n&lt;li&gt;2:30-3:30pm\, Oral prese
 ntations (4 presentations)&lt;/li&gt;\n&lt;li&gt;3:30-4pm\, Gonzalo Mateos Buckstein&lt;/
 li&gt;\n&lt;li&gt;4-4:30pm\, Rob Phipps&lt;/li&gt;\n&lt;li&gt;2:30-4:30pm\, RIT Research Comput
 ing by Sidney Pendelberry (parallel track &amp;ndash\; separate room)&lt;/li&gt;\n&lt;l
 i&gt;4:30-4:45pm\, Last year&amp;rsquo\;s Best paper presentation new research&lt;/l
 i&gt;\n&lt;li&gt;4:45-5pm\, Awards and wrapup&lt;/li&gt;\n&lt;/ul&gt;\n&lt;h3 style=&quot;text-align: l
 eft\;&quot;&gt;&lt;strong&gt;Sponsors &lt;/strong&gt;&lt;/h3&gt;\n&lt;p&gt;&lt;img src=&quot;http://sites.ieee.org
 /rochester/files/2019/09/sponsors.png&quot; alt=&quot;Sponsors&quot; height=&quot;140&quot; /&gt;&lt;/p&gt;
END:VEVENT
END:VCALENDAR

