BEGIN:VCALENDAR
VERSION:2.0
PRODID:IEEE vTools.Events//EN
CALSCALE:GREGORIAN
BEGIN:VTIMEZONE
TZID:Canada/Eastern
BEGIN:DAYLIGHT
DTSTART:20190310T030000
TZOFFSETFROM:-0500
TZOFFSETTO:-0400
RRULE:FREQ=YEARLY;BYDAY=2SU;BYMONTH=3
TZNAME:EDT
END:DAYLIGHT
BEGIN:STANDARD
DTSTART:20191103T010000
TZOFFSETFROM:-0400
TZOFFSETTO:-0500
RRULE:FREQ=YEARLY;BYDAY=1SU;BYMONTH=11
TZNAME:EST
END:STANDARD
END:VTIMEZONE
BEGIN:VEVENT
DTSTAMP:20190712T151314Z
UID:BE6C24DC-9090-4CB7-9FB3-466BC2597BED
DTSTART;TZID=Canada/Eastern:20190711T180000
DTEND;TZID=Canada/Eastern:20190711T190000
DESCRIPTION:The Department of Electrical Engineering at the École de Techn
 ologie Supérieure and the Power Electronics Society (PELS)\, Electromagne
 tic Compatibility Society\, and the Electronics Packaging Society Chapters
  in collaboration with the Industrial Electronics Society (IES)\, Industry
  Applications Society\, and Power &amp; Energy Society Chapters in the IEEE Mo
 ntreal Section cordially invites you to a seminar presented by Dr. Amy Pin
 chuk\, President and founder of InField Scientific Inc. Please register us
 ing the link provided below.\n\nSeminar Abstract\n\nElectromagnetic enviro
 nmental effects (E3) analysis for environments such as naval military ship
 s is computationally and pragmatically complex. E3 attempts to solve probl
 ems related to the shipboard topside design\, antenna coverage\, radar arc
 s\, EMC/EMI between systems\, and RF Radiation hazards to personnel\, fuel
  and ordnance. The evolution of computational electromagnetic modelling (C
 EM) has progressed substantially over the past few decades. This progressi
 on has allowed us to model and analyse increasingly more complex platforms
  and systems\; however\, are we converging on solving these real world pro
 blems? This talk explores the E3 requirements\, CEM evolution\, and CEM va
 lidity for complex real-life problems.\n\nSpeaker(s): Dr. Amy Pinchuk\, \n
 \nRoom: A-1340\, Bldg: A\, 1100 Notre-Dame St West\, Montreal\, Quebec\, C
 anada\, H3C 1K3
LOCATION:Room: A-1340\, Bldg: A\, 1100 Notre-Dame St West\, Montreal\, Queb
 ec\, Canada\, H3C 1K3
ORGANIZER:m.sleiman@ieee.org
SEQUENCE:16
SUMMARY:Computational Electromagnetics for Complex Environments
URL;VALUE=URI:https://events.vtools.ieee.org/m/200210
X-ALT-DESC:Description: &lt;br /&gt;&lt;p&gt;&amp;nbsp\;&lt;span style=&quot;font-size: 12pt\;&quot;&gt;The
 &lt;strong&gt;&lt;span style=&quot;color: #ff0000\;&quot;&gt; Department of Electrical Engineeri
 ng &lt;/span&gt;&lt;/strong&gt;&lt;span style=&quot;color: #000000\;&quot;&gt;at the&lt;/span&gt;&lt;strong&gt;&lt;sp
 an style=&quot;color: #ff0000\;&quot;&gt; &amp;Eacute\;cole de Technologie Sup&amp;eacute\;rieu
 re&amp;nbsp\;&lt;/span&gt;&lt;/strong&gt;and the&amp;nbsp\;&lt;span style=&quot;color: #ff0000\;&quot;&gt;&lt;str
 ong&gt;Power Electronics&amp;nbsp\;Society (PELS)\,&lt;/strong&gt;&lt;/span&gt;&amp;nbsp\;&lt;span s
 tyle=&quot;color: #008000\;&quot;&gt;&lt;strong&gt;Electromagnetic Compatibility Society\,&lt;/s
 trong&gt;&lt;/span&gt; and&amp;nbsp\;&lt;span style=&quot;color: #000000\;&quot;&gt;the&lt;/span&gt;&lt;strong&gt; 
 &lt;span style=&quot;color: #0000ff\;&quot;&gt;Electronics Packaging Society&lt;/span&gt; &lt;span 
 style=&quot;color: #000000\;&quot;&gt;Chapters&lt;/span&gt;&amp;nbsp\;&lt;/strong&gt;in collaboration w
 ith the &lt;span style=&quot;color: #ff9900\;&quot;&gt;&lt;strong&gt;Industrial Electronics Soci
 ety (IES)\,&amp;nbsp\;&lt;span style=&quot;color: #008000\;&quot;&gt;Industry Applications Soc
 iety\,&lt;/span&gt;&amp;nbsp\;&lt;/strong&gt;&lt;span style=&quot;color: #000000\;&quot;&gt;and&lt;/span&gt; &lt;st
 rong&gt;&lt;span style=&quot;color: #99cc00\;&quot;&gt;Power &amp;amp\; Energy Society&lt;/span&gt; &lt;sp
 an style=&quot;color: #000000\;&quot;&gt;Chapters&lt;/span&gt;&lt;/strong&gt;&lt;/span&gt;&amp;nbsp\;in the&amp;n
 bsp\;&lt;span style=&quot;color: #0000ff\;&quot;&gt;&lt;strong&gt;IEEE Montreal Section&lt;/strong&gt;
 &lt;/span&gt;&amp;nbsp\;cordially&amp;nbsp\;invites you to a seminar presented by &lt;span 
 style=&quot;color: #000000\;&quot;&gt;&lt;strong&gt;Dr. Amy Pinchuk&lt;/strong&gt;&lt;/span&gt;\, Preside
 nt and founder of InField Scientific Inc.&lt;/span&gt;&lt;span style=&quot;font-size: 12
 pt\;&quot;&gt;&amp;nbsp\;&lt;em&gt;Please register using the link provided below.&lt;/em&gt;&lt;/span
 &gt;&lt;/p&gt;\n&lt;p&gt;&lt;span style=&quot;font-size: 12pt\;&quot;&gt;&lt;strong&gt;Seminar Abstract&lt;br /&gt;&lt;/
 strong&gt;&lt;/span&gt;&lt;/p&gt;\n&lt;p&gt;Electromagnetic environmental effects (E3) analysis
  for environments such as naval military ships is computationally and prag
 matically complex.&amp;nbsp\; E3 attempts to solve problems related to the shi
 pboard topside design\, antenna coverage\, radar arcs\, EMC/EMI between sy
 stems\, and RF Radiation hazards to personnel\, fuel and ordnance. The evo
 lution of computational electromagnetic modelling (CEM) has progressed sub
 stantially over the past few decades.&amp;nbsp\; This progression has allowed 
 us to model and analyse increasingly more complex platforms and systems\; 
 however\, are we converging on solving these real world problems? This tal
 k explores the E3 requirements\, CEM evolution\, and CEM validity for comp
 lex real-life problems.&lt;/p&gt;
END:VEVENT
END:VCALENDAR

