BEGIN:VCALENDAR
VERSION:2.0
PRODID:IEEE vTools.Events//EN
CALSCALE:GREGORIAN
BEGIN:VTIMEZONE
TZID:America/Montreal
BEGIN:DAYLIGHT
DTSTART:20190310T030000
TZOFFSETFROM:-0500
TZOFFSETTO:-0400
RRULE:FREQ=YEARLY;BYDAY=2SU;BYMONTH=3
TZNAME:EDT
END:DAYLIGHT
BEGIN:STANDARD
DTSTART:20191103T010000
TZOFFSETFROM:-0400
TZOFFSETTO:-0500
RRULE:FREQ=YEARLY;BYDAY=1SU;BYMONTH=11
TZNAME:EST
END:STANDARD
END:VTIMEZONE
BEGIN:VEVENT
DTSTAMP:20201018T102932Z
UID:017BF01C-7AEB-47AF-9185-A6B201B79965
DTSTART;TZID=America/Montreal:20190618T100000
DTEND;TZID=America/Montreal:20190618T120000
DESCRIPTION:The Montreal Chapter of the IEEE Systems\, Man &amp; Cybernetics So
 ciety cordially invites you to attend the following talk\, to be given by 
 Dr. Freddy Lecue\, Chief Artificial Intelligence (AI) Scientist at CortAIx
  (Centre of Research &amp; Technology in Artificial Intelligence eXpertise) at
  Thales in Montreal - Canada\, on Tuesday\, June 18th\, 2019\, from 10h00a
 m to 12h00pm at Concordia University (EV Building\, Room EV002.260).\n\nSp
 eaker(s): Dr. Freddy Lecue\, \n\nRoom: EV002.260\, Bldg: EV Building\, Con
 cordia University\, 1515 St.Catherine Street West\, Montreal\, Quebec\, Ca
 nada\, H3G 2W1
LOCATION:Room: EV002.260\, Bldg: EV Building\, Concordia University\, 1515 
 St.Catherine Street West\, Montreal\, Quebec\, Canada\, H3G 2W1
ORGANIZER:jiayuan.yu@concordia.ca
SEQUENCE:7
SUMMARY:XAI - The story so far
URL;VALUE=URI:https://events.vtools.ieee.org/m/200278
X-ALT-DESC:Description: &lt;br /&gt;&lt;p class=&quot;p1&quot;&gt;The Montreal Chapter of the IEE
 E Systems\, Man &amp;amp\; Cybernetics Society&amp;nbsp\;cordially invites you to 
 attend the following talk\, to be given by &lt;strong&gt;Dr. Freddy Lecue&lt;/stron
 g&gt;\, Chief Artificial Intelligence (AI) Scientist at CortAIx (Centre of Re
 search &amp;amp\; Technology in Artificial Intelligence eXpertise) at Thales i
 n Montreal - Canada\, on Tuesday\, June 18th\, 2019\, from 10h00am to 12h0
 0pm at Concordia University (EV Building\, Room EV002.260).&lt;/p&gt;
END:VEVENT
END:VCALENDAR

