BEGIN:VCALENDAR
VERSION:2.0
PRODID:IEEE vTools.Events//EN
CALSCALE:GREGORIAN
BEGIN:VTIMEZONE
TZID:Asia/Kolkata
BEGIN:STANDARD
DTSTART:19451014T230000
TZOFFSETFROM:+0630
TZOFFSETTO:+0530
TZNAME:IST
END:STANDARD
END:VTIMEZONE
BEGIN:VEVENT
DTSTAMP:20190628T133716Z
UID:AAC9CABE-1C8A-44FF-ABE4-F446657EAD10
DTSTART;TZID=Asia/Kolkata:20190624T093000
DTEND;TZID=Asia/Kolkata:20190624T170000
DESCRIPTION:The major focus during the workshop will be on “Antenna Desig
 n” with modeling and simulation of sets of antennas especially Wire Ante
 nnas. We may also demonstrate few scattering problems considering basic sh
 apes which can be covered under “RADAR Cross Section Analysis”\nhaving
  applications in Defense and Military purpose.\n\nAfter the technical disc
 ussion on design &amp; simulation methods in “Full Control Mode”\, we will
  move forward for creating/managing contents (Push/Pull requests) and vers
 ion control tools. We will also demonstrate few case studies which are pre
 pared for “Companion Mode”. In the end\, if time preserves\, we can di
 scuss report generation and understanding the format of reports which are 
 in a well-known LaTeX formatted. Due to time constraints\, we would not be
  able to demonstrate “Hardware Integration Mode” which are dedicated f
 or measurements that majorly involves measurements.\n\nCo-sponsored by: MT
 T-S UP Chapter- MTT17\n\nSpeaker(s): Swapnil Gaul\, \n\nBldg: New Core Lab
 s (NCL)\, CC-01 Windows Lab\, Indian Institute of Technology Kanpur\, Kanp
 ur\, Uttar Pradesh\, India\, 208016
LOCATION:Bldg: New Core Labs (NCL)\, CC-01 Windows Lab\, Indian Institute o
 f Technology Kanpur\, Kanpur\, Uttar Pradesh\, India\, 208016
ORGANIZER:pkvarsh@iitk.ac.in
SEQUENCE:2
SUMMARY:One day workshop on “TaraNG:19.0” Software
URL;VALUE=URI:https://events.vtools.ieee.org/m/200492
X-ALT-DESC:Description: &lt;br /&gt;&lt;p&gt;The major focus during the workshop will b
 e on &amp;ldquo\;Antenna Design&amp;rdquo\; with modeling and simulation of sets o
 f antennas especially Wire Antennas. We may also demonstrate few scatterin
 g problems considering basic shapes which can be covered under &amp;ldquo\;RAD
 AR Cross Section Analysis&amp;rdquo\;&lt;br /&gt;having applications in Defense and 
 Military purpose.&lt;/p&gt;\n&lt;p&gt;After the technical discussion on design &amp;amp\; 
 simulation methods in &amp;ldquo\;Full Control Mode&amp;rdquo\;\, we will move for
 ward for creating/managing contents (Push/Pull requests) and version contr
 ol tools. We will also demonstrate few case studies which are prepared for
  &amp;ldquo\;Companion Mode&amp;rdquo\;. In the end\, if time preserves\, we can d
 iscuss report generation and understanding the format of reports which are
  in a well-known LaTeX formatted. Due to time constraints\, we would not b
 e able to demonstrate &amp;ldquo\;Hardware Integration Mode&amp;rdquo\; which are 
 dedicated for measurements that majorly involves measurements.&lt;/p&gt;
END:VEVENT
END:VCALENDAR

