BEGIN:VCALENDAR
VERSION:2.0
PRODID:IEEE vTools.Events//EN
CALSCALE:GREGORIAN
BEGIN:VTIMEZONE
TZID:Asia/Calcutta
BEGIN:STANDARD
DTSTART:19451014T230000
TZOFFSETFROM:+0630
TZOFFSETTO:+0530
TZNAME:IST
END:STANDARD
END:VTIMEZONE
BEGIN:VEVENT
DTSTAMP:20190627T115307Z
UID:B95F5ABB-FE47-4444-B7BA-FC0E42697BC6
DTSTART;TZID=Asia/Calcutta:20190624T085000
DTEND;TZID=Asia/Calcutta:20190624T163000
DESCRIPTION:The V-One is a 3 axis machine\, about the same size as a laptop
  and can fit on our desk.\n\nIt is equipped with a heated platform used to
  cure conductive ink and to reflow solder paste.\n\nImport your Gerber fil
 e into the Voltera software\, press print\, and the V-­One will bring you
 r board to life.\n\nNeed to use the solder paste dispensing and reflow fea
 tures to mount components onto our printed board\, or mount components on 
 a prefabricated board with ease.\n\nCo-sponsored by: Technology Business I
 ncubator @ Kongu Engineering College\n\nSpeaker(s): Mr. Prasanth Mohan\, I
 EEE Extreme Chair\, IEEE YP MAS Execom\, \n\nTechnology Business Incubator
  @ Kongu Engineering College\, Kongu Engineering College Campus\, Erode\, 
 Tamil Nadu\, India\, 638060
LOCATION:Technology Business Incubator @ Kongu Engineering College\, Kongu 
 Engineering College Campus\, Erode\, Tamil Nadu\, India\, 638060
ORGANIZER:nithyavathy@ieee.org
SEQUENCE:0
SUMMARY:Hands-on Training in PCB Printer - Voltera V One : For Faculty and 
 TBI Vendors
URL;VALUE=URI:https://events.vtools.ieee.org/m/200759
X-ALT-DESC:Description: &lt;br /&gt;&lt;p data-reactid=&quot;54&quot;&gt;The V-One is a 3 axis ma
 chine\, about the same size as a laptop and can fit on our desk.&lt;/p&gt;\n&lt;p d
 ata-reactid=&quot;55&quot;&gt;It is equipped with a heated platform used to cure conduc
 tive ink and to reflow solder paste.&lt;/p&gt;\n&lt;p data-reactid=&quot;55&quot;&gt;Import your
  Gerber file into the Voltera software\, press print\, and the V-&amp;shy\;One
  will bring your board to life.&lt;/p&gt;\n&lt;p data-reactid=&quot;55&quot;&gt;Need to use the 
 solder paste dispensing and reflow features to mount components onto our p
 rinted board\, or mount components on a prefabricated board with ease.&lt;/p&gt;
END:VEVENT
END:VCALENDAR

