BEGIN:VCALENDAR
VERSION:2.0
PRODID:IEEE vTools.Events//EN
CALSCALE:GREGORIAN
BEGIN:VTIMEZONE
TZID:Asia/Kolkata
BEGIN:STANDARD
DTSTART:19451014T230000
TZOFFSETFROM:+0630
TZOFFSETTO:+0530
TZNAME:IST
END:STANDARD
END:VTIMEZONE
BEGIN:VEVENT
DTSTAMP:20190726T035443Z
UID:FC41B7AF-7ADA-4B5A-8E9D-F38F9866681F
DTSTART;TZID=Asia/Kolkata:20190715T023000
DTEND;TZID=Asia/Kolkata:20190715T053000
DESCRIPTION:Greetings !!!\n\nIEEE Microwave Theory &amp; Techniques Society (MT
 T-S) Student Branch Chapter (SBC) IIT BHU Varanasi is going to organize a 
 one day workshop on &quot;TARANG:19.0&quot; software as per the following schedule:\
 n\nName of the Talk: “Tarang 19.0”\nThe theme of the Talk: Design and 
 analysis of Antenna and RCS study.\nSpeaker: Mr. Swapnil Gaul.\nDate: 15 J
 uly 2019 (Monday).\nTime: 14:30 Hours.\nVenue: Committee Room\, Department
  of Electronic Engineering IIT (BHU).\n\nThe major focus during the worksh
 op will be on “Antenna Design” with modeling and simulation of sets of
  antennas especially Wire Antennas. We may also demonstrate few scattering
  problems considering basic shapes which can be covered under “RADAR Cro
 ss Section Analysis” having applications in Defense and Military purpose
 .\n\nDepartment of Electronics Engineering\, Indian Institute of Technolog
 y (BHU)\, Varanasi\, Uttar Pradesh\, India\, 221005
LOCATION:Department of Electronics Engineering\, Indian Institute of Techno
 logy (BHU)\, Varanasi\, Uttar Pradesh\, India\, 221005
ORGANIZER:somakbhattacharyya.ece@iitbhu.ac.in
SEQUENCE:1
SUMMARY:One day workshop on &quot;TARANG:19.0&quot; software 
URL;VALUE=URI:https://events.vtools.ieee.org/m/201286
X-ALT-DESC:Description: &lt;br /&gt;&lt;div dir=&quot;auto&quot;&gt;Greetings !!!&lt;/div&gt;\n&lt;div dir
 =&quot;auto&quot;&gt;&amp;nbsp\;&lt;/div&gt;\n&lt;div dir=&quot;auto&quot;&gt;IEEE Microwave Theory &amp;amp\; Techni
 ques Society (MTT-S) Student Branch Chapter (SBC) IIT BHU Varanasi is goin
 g to organize a one day workshop on &quot;TARANG:19.0&quot; software as per the foll
 owing schedule:&lt;/div&gt;\n&lt;div dir=&quot;auto&quot;&gt;&amp;nbsp\;&amp;nbsp\;&lt;/div&gt;\n&lt;div dir=&quot;aut
 o&quot;&gt;Name of the Talk: &amp;ldquo\;Tarang 19.0&amp;rdquo\;&lt;/div&gt;\n&lt;div dir=&quot;auto&quot;&gt;Th
 e theme of the Talk: Design and analysis of Antenna and RCS study.&lt;/div&gt;\n
 &lt;div dir=&quot;auto&quot;&gt;Speaker: Mr. Swapnil Gaul.&lt;/div&gt;\n&lt;div dir=&quot;auto&quot;&gt;Date: 15
  July 2019 (Monday).&lt;/div&gt;\n&lt;div dir=&quot;auto&quot;&gt;Time: 14:30 Hours.&lt;/div&gt;\n&lt;div
  dir=&quot;auto&quot;&gt;Venue: Committee Room\, Department of Electronic Engineering I
 IT (BHU).&lt;/div&gt;\n&lt;div dir=&quot;auto&quot;&gt;&amp;nbsp\;&lt;/div&gt;\n&lt;div dir=&quot;auto&quot;&gt;The major 
 focus during the workshop will be on &amp;ldquo\;Antenna Design&amp;rdquo\; with m
 odeling and simulation of sets of antennas especially Wire Antennas. We ma
 y also demonstrate few scattering problems considering basic shapes which 
 can be covered under &amp;ldquo\;RADAR Cross Section Analysis&amp;rdquo\; having a
 pplications in Defense and Military purpose. &amp;nbsp\;&lt;/div&gt;
END:VEVENT
END:VCALENDAR

