BEGIN:VCALENDAR
VERSION:2.0
PRODID:IEEE vTools.Events//EN
CALSCALE:GREGORIAN
BEGIN:VTIMEZONE
TZID:Europe/Budapest
BEGIN:DAYLIGHT
DTSTART:20190331T030000
TZOFFSETFROM:+0100
TZOFFSETTO:+0200
RRULE:FREQ=YEARLY;BYDAY=-1SU;BYMONTH=3
TZNAME:CEST
END:DAYLIGHT
BEGIN:STANDARD
DTSTART:20191027T020000
TZOFFSETFROM:+0200
TZOFFSETTO:+0100
RRULE:FREQ=YEARLY;BYDAY=-1SU;BYMONTH=10
TZNAME:CET
END:STANDARD
END:VTIMEZONE
BEGIN:VEVENT
DTSTAMP:20190718T164008Z
UID:2B3FD883-20B8-4665-9108-49A8150E35C1
DTSTART;TZID=Europe/Budapest:20190701T110000
DTEND;TZID=Europe/Budapest:20190703T180000
DESCRIPTION:The 2019 42nd International Conference on Telecommunications an
 d Signal Processing (TSP – IEEE Conference Record #46676) was held durin
 g July 1-3\, 2019\, in Budapest\, Hungary. In cooperation with the IEEE Re
 gion 8 (Europe\, Middle East and Africa)\, IEEE Hungary Section\, IEEE Cze
 choslovakia Section\, IEEE Czechoslovakia Section SP/CAS/COM Joint Chapter
 \, and Scientific Association for Infocommunications\, a Sister Society of
  the IEEE and the IEEE Communications Society\, the TSP 2019 is organized 
 by eighteen universities from Czech Republic\, Hungary\, Turkey\, Croatia\
 , Taiwan\, Japan\, Slovak Republic\, Spain\, Bulgaria\, France\, Romania\,
  Slovenia\, Greece\, and Poland\, for academics\, researchers\, and develo
 pers and it serves as a premier annual international forum to promote the 
 exchange of the latest advances in telecommunication technology and signal
  processing.\n\nCo-sponsored by: Norbert Herencsar\n\nAgenda: \nhttps://ts
 p.vutbr.cz/tsp2019/openconf/modules/request.php?module=oc_program&amp;action=p
 rogram.php&amp;p=at_a_glance\n\nRadisson Blu Béke Hotel **** Superior\, Budap
 est\, Budapest Fovaros\, Hungary
LOCATION:Radisson Blu Béke Hotel **** Superior\, Budapest\, Budapest Fovar
 os\, Hungary
ORGANIZER:herencsn@ieee.org
SEQUENCE:0
SUMMARY:2019 42nd International Conference on Telecommunications and Signal
  Processing (TSP)
URL;VALUE=URI:https://events.vtools.ieee.org/m/201542
X-ALT-DESC:Description: &lt;br /&gt;&lt;p&gt;The 2019 42nd International Conference on 
 Telecommunications and Signal Processing (TSP &amp;ndash\; IEEE Conference Rec
 ord #46676) was held during July 1-3\, 2019\, in Budapest\, Hungary. In co
 operation with the IEEE Region 8 (Europe\, Middle East and Africa)\, IEEE 
 Hungary Section\, IEEE Czechoslovakia Section\, IEEE Czechoslovakia Sectio
 n SP/CAS/COM Joint Chapter\, and Scientific Association for Infocommunicat
 ions\, a Sister Society of the IEEE and the IEEE Communications Society\, 
 the TSP 2019 is organized by eighteen universities from Czech Republic\, H
 ungary\, Turkey\, Croatia\, Taiwan\, Japan\, Slovak Republic\, Spain\, Bul
 garia\, France\, Romania\, Slovenia\, Greece\, and Poland\, for academics\
 , researchers\, and developers and it serves as a premier annual internati
 onal forum to promote the exchange of the latest advances in telecommunica
 tion technology and signal processing.&lt;/p&gt;&lt;br /&gt;&lt;br /&gt;Agenda: &lt;br /&gt;&lt;p&gt;&lt;a 
 href=&quot;https://tsp.vutbr.cz/tsp2019/openconf/modules/request.php?module=oc_
 program&amp;amp\;action=program.php&amp;amp\;p=at_a_glance&quot;&gt;https://tsp.vutbr.cz/t
 sp2019/openconf/modules/request.php?module=oc_program&amp;amp\;action=program.
 php&amp;amp\;p=at_a_glance&lt;/a&gt;&lt;/p&gt;
END:VEVENT
END:VCALENDAR

