BEGIN:VCALENDAR
VERSION:2.0
PRODID:IEEE vTools.Events//EN
CALSCALE:GREGORIAN
BEGIN:VTIMEZONE
TZID:Europe/Paris
BEGIN:DAYLIGHT
DTSTART:20190331T030000
TZOFFSETFROM:+0100
TZOFFSETTO:+0200
RRULE:FREQ=YEARLY;BYDAY=-1SU;BYMONTH=3
TZNAME:CEST
END:DAYLIGHT
BEGIN:STANDARD
DTSTART:20191027T020000
TZOFFSETFROM:+0200
TZOFFSETTO:+0100
RRULE:FREQ=YEARLY;BYDAY=-1SU;BYMONTH=10
TZNAME:CET
END:STANDARD
END:VTIMEZONE
BEGIN:VEVENT
DTSTAMP:20191007T142340Z
UID:5604CDC8-2D53-4D0D-BD52-007ED38BEC7E
DTSTART;TZID=Europe/Paris:20191004T083000
DTEND;TZID=Europe/Paris:20191004T173000
DESCRIPTION:Symposium on Schottky Barrier MOS (SB-MOS) devices at the Amphi
  Bloch at Orme des merisiers (Route de l&#39;Orme\, Saint-Aubin)\, France. Thi
 s is the third meeting of an enthusiastic group of Schottky barrier resear
 chers and this year it is sponsored by LabexNanoSaclay\, the IEED EDS Fren
 ch chapter\, IEEE Young Professionals Germany\, the Robert Bosch GmbH and 
 Silvaco Inc. This year the theme of the symposium is “Towards neuromorph
 ic and quantum computing applications”.\n\nFurther information available
  at https://ssbmos.blogspot.com/\n\nCo-sponsored by: LabexNanoSaclay\, IEE
 D EDS French chapter\, Robert Bosch GmbH\, Silvaco Inc.\n\nRoute de l&#39;Orme
 \, Saint-Aubin\, Ile-de-France\, France\, 91190
LOCATION:Route de l&#39;Orme\, Saint-Aubin\, Ile-de-France\, France\, 91190
ORGANIZER:mike.schwarz1980@googlemail.com
SEQUENCE:8
SUMMARY:Symposium on Schottky barrier MOS devices
URL;VALUE=URI:https://events.vtools.ieee.org/m/202198
X-ALT-DESC:Description: &lt;br /&gt;&lt;p&gt;Symposium on Schottky Barrier MOS (SB-MOS)
  devices at the &lt;strong&gt;Amphi Bloch at Orme des merisiers&lt;/strong&gt; (Route 
 de l&#39;Orme\, Saint-Aubin)\, France. This is the third meeting of an enthusi
 astic group of Schottky barrier researchers and this year it is sponsored 
 by LabexNanoSaclay\, the IEED EDS French chapter\, IEEE Young Professional
 s Germany\, the Robert Bosch GmbH and Silvaco Inc. This year the theme of 
 the symposium is &amp;ldquo\;Towards neuromorphic and quantum computing applic
 ations&amp;rdquo\;.&lt;/p&gt;\n&lt;p&gt;Further information available at https://ssbmos.bl
 ogspot.com/&lt;/p&gt;
END:VEVENT
END:VCALENDAR

