BEGIN:VCALENDAR
VERSION:2.0
PRODID:IEEE vTools.Events//EN
CALSCALE:GREGORIAN
BEGIN:VTIMEZONE
TZID:US/Eastern
BEGIN:DAYLIGHT
DTSTART:20190310T030000
TZOFFSETFROM:-0500
TZOFFSETTO:-0400
RRULE:FREQ=YEARLY;BYDAY=2SU;BYMONTH=3
TZNAME:EDT
END:DAYLIGHT
BEGIN:STANDARD
DTSTART:20191103T010000
TZOFFSETFROM:-0400
TZOFFSETTO:-0500
RRULE:FREQ=YEARLY;BYDAY=1SU;BYMONTH=11
TZNAME:EST
END:STANDARD
END:VTIMEZONE
BEGIN:VEVENT
DTSTAMP:20200305T232958Z
UID:7C28533B-CD2C-4F98-BD87-1F5D8491B2A0
DTSTART;TZID=US/Eastern:20190813T160000
DTEND;TZID=US/Eastern:20190813T170000
DESCRIPTION:Abstract: Hardware Trojan or spyware circuits operating as hard
 ware backdoors can be implemented and integrated into computer chips\, sma
 rt-cards\, and other crypto processors. Hardware Trojan circuits inside a 
 chip is generally harmless in normal operation until they get triggered by
  a preset internal or external signal to steal data or override and even c
 ontrol the system. Detection of hardware Trojans is very difficult as they
  are normally in nano-scale sizes and integrated into ICs with high comple
 xity system inside and a huge number of gates. Therefore\, Trojan inspecti
 on through destructive reverse engineering may not ensure the absence of h
 ardware Trojans. In this talk\, I present a demonstration to non-invasivel
 y detect hardware Trojan\, analyze and identify vulnerable portions of cry
 ptographic chips based on magnetic sensing towards cybersecurity applicati
 ons.\n\nSpeaker Biography: Dr. Mai-Khanh is currently is an assistant prof
 essor at VLSI Design and Education Center (VDEC)\, the University of Tokyo
 \, Japan. He received the Ph.D. degree in Electrical Engineering and Infor
 mation Systems\, The University of Tokyo\, Japan in 2011. He was a lecture
 r of Faculty of Electrical and Electronic Engineering\, University of Tech
 nology\, National University\, Vietnam from 2006 to 2013. Dr. Mai-Khanh wo
 rked as a post-doctoral researcher in from 2011 to 2013 in VDEC. His resea
 rch interests include integrated RF/mm-Wave circuits\, and magnetic sensin
 g. He is a recipient of Best Paper Awards of the Asian Symposium on Qualit
 y Electronic Design Symp. in 2010\, the third rank of the 9th IEEE NEWCAS 
 2011\, and of IEEE NEWCAS 2017. He servered as a TPC chair of Vietnam-Japa
 n Science and Technology Symp. 2019\, The First Int’l Workshop on Hardwa
 re Oriented Cybersecurity 2018\, and Vietnam-­Japan Scientific Exchange M
 eeting 2017 and also a TPC member of Intl. Conf. on Integrated Circuits\, 
 Design\, and Verification 2017.\n\nCo-sponsored by: Professor Hua Wang\n\n
 Speaker(s): Professor Mai-Khanh N. Nguyen\, \n\n85 5th Street NW\, TSRB 50
 9\, Atlanta\, Georgia\, United States\, 30308
LOCATION:85 5th Street NW\, TSRB 509\, Atlanta\, Georgia\, United States\, 
 30308
ORGANIZER:hua.wang@ece.gatech.edu
SEQUENCE:1
SUMMARY:Near-Field Integrated Magnetic Sensing System for Hardware Security
URL;VALUE=URI:https://events.vtools.ieee.org/m/202674
X-ALT-DESC:Description: &lt;br /&gt;&lt;p&gt;&lt;strong&gt;Abstract:&lt;/strong&gt; Hardware Trojan
  or spyware circuits operating as hardware backdoors can be implemented an
 d integrated into computer chips\, smart-cards\, and other crypto processo
 rs. Hardware Trojan circuits inside a chip is generally harmless in normal
  operation until they get triggered by a preset internal or external signa
 l to steal data or override and even control the system. Detection of hard
 ware Trojans is very difficult as they are normally in nano-scale sizes an
 d integrated into ICs with high complexity system inside and a huge number
  of gates. Therefore\, Trojan inspection through destructive reverse engin
 eering may not ensure the absence of hardware Trojans. In this talk\, I pr
 esent a demonstration to non-invasively detect hardware Trojan\, analyze a
 nd identify vulnerable portions of cryptographic chips based on magnetic s
 ensing towards cybersecurity applications.&lt;/p&gt;\n&lt;p&gt;&lt;strong&gt;Speaker Biograp
 hy: &lt;/strong&gt;Dr. Mai-Khanh is currently is an assistant professor at VLSI 
 Design and Education Center (VDEC)\, the University of Tokyo\, Japan. He r
 eceived the Ph.D. degree in Electrical Engineering and Information Systems
 \, The University of Tokyo\, Japan in 2011. He was a lecturer of Faculty o
 f Electrical and Electronic Engineering\, University of Technology\, Natio
 nal University\, Vietnam from 2006 to 2013. Dr. Mai-Khanh worked as a post
 -doctoral researcher in from 2011 to 2013 in VDEC. His research interests 
 include integrated RF/mm-Wave circuits\, and magnetic sensing. He is a rec
 ipient of Best Paper Awards of the Asian Symposium on Quality Electronic D
 esign Symp. in 2010\, the third rank of the 9th IEEE NEWCAS 2011\, and of 
 IEEE NEWCAS 2017. He servered as a TPC chair of Vietnam-Japan Science and 
 Technology Symp. 2019\, The First Int&amp;rsquo\;l Workshop on Hardware Orient
 ed Cybersecurity 2018\, and Vietnam-&amp;shy\;Japan Scientific Exchange Meetin
 g 2017 and also a TPC member of Intl. Conf. on Integrated Circuits\, Desig
 n\, and Verification 2017.&lt;/p&gt;
END:VEVENT
END:VCALENDAR

