BEGIN:VCALENDAR
VERSION:2.0
PRODID:IEEE vTools.Events//EN
CALSCALE:GREGORIAN
BEGIN:VTIMEZONE
TZID:Asia/Kolkata
BEGIN:STANDARD
DTSTART:19451014T230000
TZOFFSETFROM:+0630
TZOFFSETTO:+0530
TZNAME:IST
END:STANDARD
END:VTIMEZONE
BEGIN:VEVENT
DTSTAMP:20190822T060108Z
UID:A172686A-42F3-4901-AB97-40B7D91394E1
DTSTART;TZID=Asia/Kolkata:20190810T090000
DTEND;TZID=Asia/Kolkata:20190812T170000
DESCRIPTION:The IEEE CIS membership drive was held at Indian Institute of I
 nformation Technology Allahabad\, India from August 10th\, 2019 to August 
 12th\, 2019 IEEE CIS Summer School 2019 on “Big Data Analytics and Strea
 m Processing (BDASP): Tools\, Techniques and Application”.\n\nThe progra
 m started with a welcome address by Prof. P. Nagabhushan\, Director\, Indi
 an Institute of Information Technology Allahabad\, India. Prof. Nishchal K
 . Verma\, Chairman\, IEEE UP Section CIS Chapter &amp; Professor\, Dept. of El
 ectrical Engineering\, Indian Institute of Technology Kanpur\, India gave 
 an introduction about IEEE and IEEE Computational Intelligence Society (CI
 S). He encouraged and motivated students for becoming a member of the IEEE
  CIS community by highlighting the membership benefits. Around 65 particip
 ants including faculties\, UG\, and PG students have attended the event. T
 he expert lecture was followed by an interactive session with executive co
 mmittee members of IEEE UP Section CIS Chapter where students asked their 
 doubts and explored the possibilities of computational intelligence (CI) i
 n their own work.\n\nFor membership drive\, a booth was also set up at the
  venue to promote IEEE CIS membership and related activities.\n\nIndian In
 stitute of Information Technology Allahabad\, Prayagraj\, Uttar Pradesh\, 
 India\, Prayagraj\, Uttar Pradesh\, India\, 211015
LOCATION:Indian Institute of Information Technology Allahabad\, Prayagraj\,
  Uttar Pradesh\, India\, Prayagraj\, Uttar Pradesh\, India\, 211015
ORGANIZER:nishchal@iitk.ac.in
SEQUENCE:0
SUMMARY:IEEE CIS MEMBERSHIP DRIVE
URL;VALUE=URI:https://events.vtools.ieee.org/m/203569
X-ALT-DESC:Description: &lt;br /&gt;&lt;p&gt;The IEEE CIS membership drive was held at 
 Indian Institute of Information Technology Allahabad\, India from August 1
 0&lt;sup&gt;th&lt;/sup&gt;\, 2019 to August 12&lt;sup&gt;th&lt;/sup&gt;\, 2019 IEEE CIS Summer Sch
 ool 2019 on &amp;ldquo\;Big Data Analytics and Stream Processing (BDASP):&amp;nbsp
 \;Tools\, Techniques and Application&amp;rdquo\;.&lt;/p&gt;\n&lt;p&gt;The program started 
 with a welcome address by Prof. P. Nagabhushan&lt;strong&gt;\,&lt;/strong&gt; &lt;em&gt;Dire
 ctor\, Indian Institute of Information Technology Allahabad\, India&lt;/em&gt;.&amp;
 nbsp\;Prof. Nishchal K. Verma\, &lt;em&gt;Chairman\, IEEE UP Section CIS Chapter
  &amp;amp\; Professor\, Dept. of Electrical Engineering\, Indian Institute of 
 Technology Kanpur\, India&lt;/em&gt; gave an introduction about IEEE and IEEE Co
 mputational Intelligence Society (CIS). He encouraged and motivated studen
 ts for becoming a member of the IEEE CIS community by highlighting the mem
 bership benefits. Around 65 participants including faculties\, UG\, and PG
  students have attended the event. The expert lecture was followed by an i
 nteractive session with executive committee members of IEEE UP Section CIS
  Chapter where students asked their doubts and explored the possibilities 
 of computational intelligence (CI) in their own work.&lt;/p&gt;\n&lt;p&gt;For membersh
 ip drive\, a booth was also set up at the venue to promote IEEE CIS member
 ship and related&amp;nbsp\;activities.&lt;/p&gt;
END:VEVENT
END:VCALENDAR

