BEGIN:VCALENDAR
VERSION:2.0
PRODID:IEEE vTools.Events//EN
CALSCALE:GREGORIAN
BEGIN:VTIMEZONE
TZID:US/Eastern
BEGIN:DAYLIGHT
DTSTART:20190310T030000
TZOFFSETFROM:-0500
TZOFFSETTO:-0400
RRULE:FREQ=YEARLY;BYDAY=2SU;BYMONTH=3
TZNAME:EDT
END:DAYLIGHT
BEGIN:STANDARD
DTSTART:20191103T010000
TZOFFSETFROM:-0400
TZOFFSETTO:-0500
RRULE:FREQ=YEARLY;BYDAY=1SU;BYMONTH=11
TZNAME:EST
END:STANDARD
END:VTIMEZONE
BEGIN:VEVENT
DTSTAMP:20190923T171048Z
UID:C11D75BE-0BBB-438C-8C4D-66523121D645
DTSTART;TZID=US/Eastern:20190924T180000
DTEND;TZID=US/Eastern:20190924T203000
DESCRIPTION:The Philadelphia Section wants to increase the number of IEEE S
 enior Members in our section. We want to bring attention to IEEE Women in 
 Engineering for Senior Membership also. Many of our women in technology in
  the Philadelphia Section need to take advantage of this next level. We ar
 e setting up a workshop for the purpose of signing up new Senior Members. 
 We gain\, and you gain by advancing. What does it mean to be a Senior Memb
 er of the IEEE? The Senior Member grade is a way for IEEE members to recei
 ve recognition for their professional experience and significant performan
 ce in Electrical and Electronics Engineering and related fields\, includin
 g: Computer Science and Information Technology\, Physical Sciences\, Biolo
 gical and Medical Sciences\, Mathematics\, Technical Communications\, Educ
 ation\, Management\, Law\, and Policy.\n\nIf you meet the experience requi
 rements\, come to the workshop. If you have at least 10 years of relevant 
 industry experience or educational accomplishments in IEEE designated area
 s\, you can be eligible for an upgrade to Senior Member grade. If needed\,
  we will help with the references\, and the rest of the paperwork. Most of
  the Executive Committee\, who are Senior Members or Fellows will be there
  and can serve as reference persons.\n\nWe need also volunteers from the r
 anks of Senior Members and Fellows to be mentors. Address your questions t
 o: Sec.philadelphia@ieee.org\n\nSenior Member advancement provides IEEE me
 mbers with significant and distinct benefits:\n\n1. Recognition: The profe
 ssional recognition of your peers for technical and professional excellenc
 e.\n\n2. Senior Member Plaque: Since January 1999\, all newly elevated Sen
 ior Members have received an engraved Senior Member plaque to be proudly d
 isplayed for colleagues\, clients and employers to see. The plaque\, in an
  attractive fine wood with bronze engraving\, is sent within six to eight 
 weeks after elevation.\n\n3. US$25 Coupon: IEEE will recognize all newly e
 levated Senior Members with a coupon worth up to US$25. This coupon can be
  used to join one new IEEE Society. The coupon expires on 31 December of t
 he year in which it is received.\n\n4. Letter of Commendation: If you indi
 cate that you would like one\, a letter of commendation will be sent to yo
 ur employer on the achievement of Senior Member grade.\n\n5. Announcements
 : Announcement of elevation can be made in Section/Society and/or local ne
 wsletters\, newspapers and notices.\n\n6. Leadership Eligibility: Senior M
 embers are eligible to hold executive IEEE volunteer positions.\n\n7. Abil
 ity to Refer Other Candidates: Senior Members can serve as a reference for
  other applicants for Senior Membership.\n\n8. Review Panel: Senior Member
 s are invited to be on the panel to review Senior Member applications.\n\n
 Sheraton University City\, 3549 Chestnut St.\, Philadelphia\, Pennsylvania
 \, United States\, 19104
LOCATION:Sheraton University City\, 3549 Chestnut St.\, Philadelphia\, Penn
 sylvania\, United States\, 19104
ORGANIZER:Sec.philadelphia@ieee.org
SEQUENCE:2
SUMMARY:Senior Membership Workshop 
URL;VALUE=URI:https://events.vtools.ieee.org/m/203581
X-ALT-DESC:Description: &lt;br /&gt;&lt;p&gt;The Philadelphia Section wants to increase
  the number of IEEE Senior Members in our section. We want to bring attent
 ion to IEEE Women in Engineering for Senior Membership also. Many of our w
 omen in technology in the Philadelphia Section need to take advantage of t
 his next level. We are setting up a workshop for the purpose of signing up
  new Senior Members. We gain\, and you gain by advancing. What does it mea
 n to be a Senior Member of the IEEE? The Senior Member grade is a way for 
 IEEE members to receive recognition for their professional experience and 
 significant performance in Electrical and Electronics Engineering and rela
 ted fields\, including: Computer Science and Information Technology\, Phys
 ical Sciences\, Biological and Medical Sciences\, Mathematics\, Technical 
 Communications\, Education\, Management\, Law\, and Policy.&lt;/p&gt;\n&lt;p&gt;&lt;br /&gt;
 If you meet the experience requirements\, come to the workshop. If you hav
 e at least 10 years of relevant industry experience or educational accompl
 ishments in IEEE designated areas\, you can be eligible for an upgrade to 
 Senior Member grade. If needed\, we will help with the references\, and th
 e rest of the paperwork. Most of the Executive Committee\, who are Senior 
 Members or Fellows will be there and can serve as reference persons.&lt;/p&gt;\n
 &lt;p&gt;We need also volunteers from the ranks of Senior Members and Fellows to
  be mentors. Address your questions to:&amp;nbsp\;&lt;a href=&quot;mailto:Sec.philadel
 phia@ieee.org&quot;&gt;Sec.philadelphia@ieee.org&lt;/a&gt;&amp;nbsp\;&lt;/p&gt;\n&lt;p&gt;&lt;em&gt;Senior Mem
 ber advancement provides IEEE members with significant and distinct benefi
 ts:&lt;/em&gt;&lt;/p&gt;\n&lt;p&gt;&lt;em&gt;1. Recognition: The professional recognition of your 
 peers for technical and professional excellence.&lt;/em&gt;&lt;/p&gt;\n&lt;p&gt;&lt;em&gt;2. Senio
 r Member Plaque: Since January 1999\, all newly elevated Senior Members ha
 ve received an engraved Senior Member plaque to be proudly displayed for c
 olleagues\, clients and employers to see. The plaque\, in an attractive fi
 ne wood with bronze engraving\, is sent within six to eight weeks after el
 evation.&lt;/em&gt;&lt;/p&gt;\n&lt;p&gt;&lt;em&gt;3. US$25 Coupon: IEEE will recognize all newly e
 levated Senior Members with a coupon worth up to US$25. This coupon can be
  used to join one new IEEE Society. The coupon expires on 31 December of t
 he year in which it is received.&lt;/em&gt;&lt;/p&gt;\n&lt;p&gt;&lt;em&gt;4. Letter of Commendatio
 n: If you indicate that you would like one\, a letter of commendation will
  be sent to your employer on the achievement of Senior Member grade.&lt;/em&gt;&lt;
 /p&gt;\n&lt;p&gt;&lt;em&gt;5. Announcements: Announcement of elevation can be made in Sec
 tion/Society and/or local newsletters\, newspapers and notices.&lt;/em&gt;&lt;/p&gt;\n
 &lt;p&gt;&lt;em&gt;6. Leadership Eligibility: Senior Members are eligible to hold exec
 utive IEEE volunteer positions.&lt;/em&gt;&lt;/p&gt;\n&lt;p&gt;&lt;em&gt;7. Ability to Refer Other
  Candidates: Senior Members can serve as a reference for other applicants 
 for Senior Membership.&lt;/em&gt;&lt;/p&gt;\n&lt;p&gt;&lt;em&gt;8. Review Panel: Senior Members ar
 e invited to be on the panel to review Senior Member applications.&lt;/em&gt;&lt;/p
 &gt;
END:VEVENT
END:VCALENDAR

