BEGIN:VCALENDAR
VERSION:2.0
PRODID:IEEE vTools.Events//EN
CALSCALE:GREGORIAN
BEGIN:VTIMEZONE
TZID:Asia/Kolkata
BEGIN:STANDARD
DTSTART:19451014T230000
TZOFFSETFROM:+0630
TZOFFSETTO:+0530
TZNAME:IST
END:STANDARD
END:VTIMEZONE
BEGIN:VEVENT
DTSTAMP:20190903T064927Z
UID:4B145542-994F-4E83-AE4D-296A2A154AF3
DTSTART;TZID=Asia/Kolkata:20190701T080000
DTEND;TZID=Asia/Kolkata:20190705T170000
DESCRIPTION:Various other advanced topics such as smart grid\, microgrid\, 
 energy storage\, MATLAB modelling and simulation of hybrid microgrid\, app
 lication etc. have also been discussed by students on dated 03rd and 04th 
 July 2019. An industrial visit to NATIONAL INSTITUE OF SOLAR ENERGY (NISE)
  GURUGRAM has also been organized by the department for students along wit
 h faculty members on dated 05th July 2019. The experts from OPAL-RT\, Mr. 
 Biswjeet Rout and Mr. K. Hema Sekhar\, Field Application Engineers has giv
 en guest talks on the application of real-time simulations in power engine
 ering applications on dates 08th and 09th July 2019.\n\nVarious assignment
 s\, tutorials and quizzes have also been conducted in the event. The stude
 nts were benefited from these sessions and top three students have also be
 en identified by these assignments\, tutorials and quizzes. By the last da
 y of the event dated 09th July 2019\, the Valedictory Session has organize
 d. Dr. Brijesh Singh\, Convener of the Internship\, has informed that even
 t was successfully conducted by organizing committee under the banner of I
 EEE PES/IAS Joint Chapter Uttar Pradesh Section in association with OPAL-R
 T Technologies. Dr. Singh informs that the participants were learned the v
 arious advanced topic and hand-on experience on different power engineerin
 g application tools and instruments. The participants have also understood
  that how to start some relevant project activities. The students have sha
 red a number of project ideas in the field of renewable energy application
 s and decided to work in this area as per international standards such as 
 IEEE. The internship certificates have been awarded to all participants an
 d additional certificate of appreciation have been awarded to top three st
 udents of the event. Mr. Shashwat Dwivedi has achieved the First Position 
 in the merit. Ms. Pragati Singh and Mr. Shubham Kumar Patel achieves Secon
 d and Third position in the event respectively. The certificates have been
  awarded by Dr. Neeraj Kumar Gupta\, Head EN and Dr. Arvind Kumar Sharma\,
  Additional Head EN. The programme has ended with vote of thanks to all pa
 rticipants and guests. Prof. Yaduveer Singh\, Dr. Nitin Kumar Saxena\, Mr.
  Anil Kushwaha and Mr. S. C. Sharma were also present at the event. The in
 ternship programme was coordinated by Prof. Kapil Gandhi\, Department of E
 lectrical and Electronics Engineering.\n\nCo-sponsored by: IEEE Student Br
 anch KIET Uttar Pradesh Section\n\nElectrical Engineering Department\, KIE
 T\, Ghaziabad\, Uttar Pradesh\, India\, 201206
LOCATION:Electrical Engineering Department\, KIET\, Ghaziabad\, Uttar Prade
 sh\, India\, 201206
ORGANIZER:apgupta1809@ieee.org
SEQUENCE:0
SUMMARY:Summer Internship Programme On Advance Power Engineering Technologi
 es\, Instruments and Green Energy- Forth Week
URL;VALUE=URI:https://events.vtools.ieee.org/m/204132
X-ALT-DESC:Description: &lt;br /&gt;&lt;p&gt;Various other advanced topics such as smar
 t grid\, microgrid\, energy storage\, MATLAB modelling and simulation of h
 ybrid microgrid\, application etc. have also been discussed by students on
  dated 03rd and 04th July 2019. An industrial visit to NATIONAL INSTITUE O
 F SOLAR ENERGY (NISE) GURUGRAM has also been organized by the department f
 or students along with faculty members on dated 05th July 2019.&amp;nbsp\;The 
 experts from OPAL-RT\, Mr. Biswjeet Rout and Mr. K. Hema Sekhar\, Field Ap
 plication Engineers has given guest talks on the application of real-time 
 simulations in power engineering applications on dates 08th and 09th July 
 2019.&lt;/p&gt;\n&lt;p&gt;Various assignments\, tutorials and quizzes have also been c
 onducted in the event. The students were benefited from these sessions and
  top three students have also been identified by these assignments\, tutor
 ials and quizzes. By the last day of the event dated 09th July 2019\, the 
 Valedictory Session has organized. Dr. Brijesh Singh\, Convener of the Int
 ernship\, has informed that event was successfully conducted by organizing
  committee under the banner of IEEE PES/IAS Joint Chapter Uttar Pradesh Se
 ction in association with OPAL-RT Technologies. Dr. Singh informs that the
  participants were learned the various advanced topic and hand-on experien
 ce on different power engineering application tools and instruments. The p
 articipants have also understood that how to start some relevant project a
 ctivities. The students have shared a number of project ideas in the field
  of renewable energy applications and decided to work in this area as per 
 international standards such as IEEE. The internship certificates have bee
 n awarded to all participants and additional certificate of appreciation h
 ave been awarded to top three students of the event. Mr. Shashwat Dwivedi 
 has achieved the First Position in the merit. Ms. Pragati Singh and Mr. Sh
 ubham Kumar Patel achieves Second and Third position in the event respecti
 vely. The certificates have been awarded by Dr. Neeraj Kumar Gupta\, Head 
 EN and Dr. Arvind Kumar Sharma\, Additional Head EN. The programme has end
 ed with vote of thanks to all participants and guests. Prof. Yaduveer Sing
 h\, Dr. Nitin Kumar Saxena\, Mr. Anil Kushwaha and Mr. S. C. Sharma were a
 lso present at the event. The internship programme was coordinated by Prof
 . Kapil Gandhi\, Department of Electrical and Electronics Engineering.&lt;/p&gt;
END:VEVENT
END:VCALENDAR

