BEGIN:VCALENDAR
VERSION:2.0
PRODID:IEEE vTools.Events//EN
CALSCALE:GREGORIAN
BEGIN:VTIMEZONE
TZID:Canada/Eastern
BEGIN:DAYLIGHT
DTSTART:20190310T030000
TZOFFSETFROM:-0500
TZOFFSETTO:-0400
RRULE:FREQ=YEARLY;BYDAY=2SU;BYMONTH=3
TZNAME:EDT
END:DAYLIGHT
BEGIN:STANDARD
DTSTART:20191103T010000
TZOFFSETFROM:-0400
TZOFFSETTO:-0500
RRULE:FREQ=YEARLY;BYDAY=1SU;BYMONTH=11
TZNAME:EST
END:STANDARD
END:VTIMEZONE
BEGIN:VEVENT
DTSTAMP:20191007T185255Z
UID:AE677465-0762-4BEE-8BA8-66398CC29CA7
DTSTART;TZID=Canada/Eastern:20191001T173000
DTEND;TZID=Canada/Eastern:20191001T210000
DESCRIPTION:---------------------------------------------------------------
 --------------------------------------------------------------------------
 ----------------------------------------\n\nIEEE Montréal Section is invi
 ting you to celebrate the 10th anniversary of IEEE Day\, a day commemorati
 ng the first time IEEE members gathered to share their technical ideas in 
 1884. Come join us for a conference gathering bright minds from academia a
 nd industry where keynote speakers will share their ideas on how to levera
 ge technology for a better tomorrow. Meet Montréal’s active IEEE studen
 t branches and affinity groups\, check out their exciting projects and act
 ivities\, and listen to successful IEEE members from academia and industry
  share their experience. This FREE event is open to all students\, young p
 rofessionals\, and IEEE members. It offers a unique opportunity to expand 
 your social and professional network\, and get involved in your university
 ’s IEEE student branch\, while enjoying free food and soft drinks. IEEE 
 members will receive a FREE IEEE Day T-shirt (while quantities last -- if 
 you are an IEEE member\, make sure to enter your IEEE membership number du
 ring registration).\n\nParticipating IEEE student branches: ÉTS\, Polytec
 hnique Montréal\, and McGill University.\n\nParticipating IEEE affinity g
 roups: Young Professionals\, Women in Engineering\, and SIGHT: Special Int
 erest Group on Humanitarian Technology.\n\nLa Section IEEE Montréal vous 
 invite à célébrer la Journée IEEE\, une journée commémorant la premi
 ère rencontre des membres de l&#39;IEEE pour partager leurs idées techniques
  en 1884. Venez nous joindre pour une conférence réunissant des chercheu
 res et des professionnelles brillantes qui partageront leurs idées sur la
  façon de tirer profit de la technologie pour un meilleur avenir. Rencont
 rer les organisations étudiantes et les groupes d’affinité de l’IEEE
  de Montréal\, découvrir leurs passionnants projets et activités et éc
 outer les membres de l’IEEE de l’université et de l’industrie parta
 ger leurs expériences. Cet événement GRATUIT est ouvert à tous les ét
 udiants\, jeunes professionnels et membres de l&#39;IEEE. Il offre une opportu
 nité unique d’élargir votre réseau social et professionnel et de vous
  impliquer dans la branche étudiante IEEE de votre université\, tout en 
 profitant de la nourriture et des boissons non alcoolisées gratuites. Les
  membres de l&#39;IEEE recevront un t-shirt journée IEEE GRATUIT (dans la lim
 ite des stocks disponibles - si vous êtes membre d&#39; IEEE\, n&#39;oubliez pas 
 de vous inscrire en utilisant votre numéro d&#39;adhésion à IEEE).\n\nBranc
 hes d&#39;étudiants IEEE participantes: ÉTS\, Polytechnique Montréal\, et U
 niversité McGill.\n\nGroupes d&#39;affinité IEEE participants: Young Profess
 ionals\, Women in Engineering\, et SIGHT: Special Interest Group on Humani
 tarian Technology.\n\nCo-sponsored by: IEEE Montréal Section\, ÉTS\, Cen
 tech ÉTS\, and STARaCom: Centre for Systems\, Technologies and Applicatio
 ns for Radiofrequency and Communication\n\nSpeaker(s): Invited Speakers:\,
  \n\nAgenda: \n17:30 -- 18:00 Registration and refreshments\n\n18:00 -- 18
 :15 Opening remarks - Introduction to IEEE: Dr. Saida Maaroufi\n\n18:15 --
  18:30 Invited speaker: Prof. Federico Rosei\n\n18:30 -- 18:45 Invited spe
 aker: Prasun Lala\n\n18:45 -- 19:00 Invited speaker: Maxime Julien\n\n19:0
 0 -- 19:30 Panel\n\n19:30 -- 21:00 Networking and food\n\nRoom: Salon des 
 Diplômés ÉTS Vidéotron\, Bldg: Pavillon E\, Maison des étudiants\, 2e
  étage\, École de Technologie Supérieure (ÉTS)\, 1220 Notre-dame Ouest
 \, Montréal\, Quebec\, Canada\, H3C 1K5
LOCATION:Room: Salon des Diplômés ÉTS Vidéotron\, Bldg: Pavillon E\, Ma
 ison des étudiants\, 2e étage\, École de Technologie Supérieure (ÉTS)
 \, 1220 Notre-dame Ouest\, Montréal\, Quebec\, Canada\, H3C 1K5
ORGANIZER:elnasser@ieee.org
SEQUENCE:22
SUMMARY:IEEE Day 2019
URL;VALUE=URI:https://events.vtools.ieee.org/m/204532
X-ALT-DESC:Description: &lt;br /&gt;&lt;p&gt;&amp;nbsp\;&lt;/p&gt;\n&lt;p&gt;&amp;nbsp\;&lt;/p&gt;\n&lt;p&gt;&amp;nbsp\;&lt;/p
 &gt;\n&lt;p&gt;&amp;nbsp\;&lt;/p&gt;\n&lt;p&gt;&amp;nbsp\;&lt;/p&gt;\n&lt;p&gt;&amp;nbsp\;&lt;/p&gt;\n&lt;p&gt;&amp;nbsp\;&lt;/p&gt;\n&lt;p&gt;&amp;nbs
 p\;&lt;/p&gt;\n&lt;p&gt;&amp;nbsp\;&lt;/p&gt;\n&lt;p&gt;&amp;nbsp\;&lt;/p&gt;\n&lt;p&gt;&amp;nbsp\;&lt;/p&gt;\n&lt;p&gt;&amp;nbsp\;&lt;/p&gt;\n&lt;
 p&gt;&amp;nbsp\;&lt;/p&gt;\n&lt;p&gt;&amp;nbsp\;&lt;/p&gt;\n&lt;p&gt;&amp;nbsp\;&lt;/p&gt;\n&lt;p&gt;&amp;nbsp\;&lt;/p&gt;\n&lt;p&gt;&amp;nbsp\;&lt;
 /p&gt;\n&lt;p&gt;&amp;nbsp\;&lt;/p&gt;\n&lt;p&gt;&amp;nbsp\;&lt;/p&gt;\n&lt;p&gt;&amp;nbsp\;&lt;/p&gt;\n&lt;p&gt;&amp;nbsp\;&lt;/p&gt;\n&lt;p&gt;&amp;n
 bsp\;---------------------------------------------------------------------
 --------------------------------------------------------------------------
 ----------------------------------&lt;/p&gt;\n&lt;p&gt;&amp;nbsp\;&lt;/p&gt;\n&lt;p style=&quot;text-ali
 gn: justify\;&quot;&gt;&lt;span style=&quot;font-size: 12pt\;&quot;&gt;&lt;span style=&quot;color: #3366ff
 \;&quot;&gt;&lt;strong&gt;IEEE Montr&amp;eacute\;al Section&lt;/strong&gt;&lt;/span&gt; is inviting you 
 to celebrate the 10th anniversary of &lt;span style=&quot;color: #0000ff\;&quot;&gt;&lt;stron
 g&gt;IEEE Day&lt;/strong&gt;&lt;/span&gt;\, a day commemorating the first time IEEE membe
 rs gathered to share their technical ideas in 1884. Come join us for a con
 ference gathering bright minds from academia and industry where keynote sp
 eakers will share their ideas on how to leverage technology for a better t
 omorrow. Meet Montr&amp;eacute\;al&amp;rsquo\;s active IEEE student branches and a
 ffinity groups\, check out their exciting projects and activities\, and li
 sten to successful IEEE members from academia and industry share their exp
 erience. This &lt;strong&gt;FREE&lt;/strong&gt; event is open to all students\, young 
 professionals\, and IEEE members. It offers a unique opportunity to expand
  your social and professional network\, and get involved in your universit
 y&amp;rsquo\;s IEEE student branch\, while enjoying free food and soft drinks.
  &lt;strong&gt;&lt;span style=&quot;color: #3366ff\;&quot;&gt;IEEE &lt;/span&gt;members will receive a
  FREE &lt;span style=&quot;color: #0000ff\;&quot;&gt;IEEE Day&lt;/span&gt; T-shirt&lt;/strong&gt; (whi
 le quantities last -- if you are an IEEE member\, make sure to enter your 
 IEEE membership number during registration). &lt;br /&gt;&lt;/span&gt;&lt;/p&gt;\n&lt;p style=&quot;
 text-align: justify\;&quot;&gt;&lt;span style=&quot;font-size: 12pt\;&quot;&gt;Participating IEEE 
 student branches: &lt;span style=&quot;color: #ff0000\;&quot;&gt;&lt;strong&gt;&amp;Eacute\;TS&lt;/stro
 ng&gt;&lt;/span&gt;\, &lt;span style=&quot;color: #000000\;&quot;&gt;&lt;strong&gt;&lt;span class=&quot;js-about-
 module-abstr&quot;&gt;Polytechnique Montr&amp;eacute\;al&lt;/span&gt;&lt;/strong&gt;&lt;/span&gt;\, and 
 &lt;span style=&quot;color: #ff0000\;&quot;&gt;&lt;strong&gt;McGill University&lt;/strong&gt;&lt;/span&gt;.&lt;
 br /&gt;&lt;/span&gt;&lt;/p&gt;\n&lt;p style=&quot;text-align: justify\;&quot;&gt;&lt;span style=&quot;font-size:
  12pt\;&quot;&gt;Participating IEEE affinity groups: &lt;span style=&quot;color: #ff9900\;
 &quot;&gt;&lt;strong&gt;Young&lt;/strong&gt; &lt;/span&gt;&lt;span style=&quot;color: #339966\;&quot;&gt;&lt;strong&gt;Pro
 fessionals&lt;/strong&gt;&lt;/span&gt;\, &lt;span style=&quot;color: #800080\;&quot;&gt;&lt;strong&gt;Women 
 in Engineering&lt;/strong&gt;&lt;/span&gt;\, and &lt;span style=&quot;color: #ff6600\;&quot;&gt;&lt;stron
 g&gt;SIGHT&lt;/strong&gt;&lt;/span&gt;: &lt;strong&gt;Special Interest Group on Humanitarian Te
 chnology&lt;/strong&gt;.&lt;br /&gt;&lt;/span&gt;&lt;/p&gt;\n&lt;p style=&quot;text-align: justify\;&quot;&gt;&amp;nbs
 p\;&lt;/p&gt;\n&lt;p style=&quot;text-align: justify\;&quot;&gt;&lt;span style=&quot;font-size: 12pt\;&quot;&gt;
 &lt;strong&gt;La &lt;/strong&gt;&lt;span style=&quot;color: #3366ff\;&quot;&gt;&lt;strong&gt;Section&lt;/strong
 &gt;&lt;/span&gt;&lt;strong&gt;&lt;span style=&quot;color: #3366ff\;&quot;&gt; IEEE Montr&amp;eacute\;al&lt;/spa
 n&gt; vous invite &amp;agrave\; c&amp;eacute\;l&amp;eacute\;brer la &lt;span style=&quot;color: #
 0000ff\;&quot;&gt;Journ&amp;eacute\;e IEEE&lt;/span&gt;&lt;/strong&gt;\, une journ&amp;eacute\;e comm&amp;
 eacute\;morant la premi&amp;egrave\;re rencontre des&amp;nbsp\;membres de l&#39;IEEE p
 our partager leurs id&amp;eacute\;es techniques en 1884. &lt;/span&gt;&lt;span style=&quot;f
 ont-size: 12pt\;&quot;&gt;Venez nous joindre pour une conf&amp;eacute\;rence r&amp;eacute\
 ;unissant des chercheures et des professionnelles brillantes qui partagero
 nt leurs id&amp;eacute\;es sur la fa&amp;ccedil\;on de tirer profit de la technolo
 gie pour un meilleur avenir. Rencontrer les organisations&amp;nbsp\;&amp;eacute\;t
 udiantes et les groupes d&amp;rsquo\;affinit&amp;eacute\; de l&amp;rsquo\;IEEE de Mont
 r&amp;eacute\;al\, d&amp;eacute\;couvrir leurs passionnants&amp;nbsp\;projets et activ
 it&amp;eacute\;s &amp;nbsp\;et &amp;eacute\;couter les membres de l&amp;rsquo\;IEEE de l&amp;r
 squo\;universit&amp;eacute\; et de l&amp;rsquo\;industrie partager leurs exp&amp;eacut
 e\;riences. Cet &amp;eacute\;v&amp;eacute\;nement &lt;strong&gt;GRATUIT&lt;/strong&gt; est ouv
 ert &amp;agrave\; tous les &amp;eacute\;tudiants\, jeunes professionnels et membre
 s de l&#39;IEEE. Il offre une opportunit&amp;eacute\; unique d&amp;rsquo\;&amp;eacute\;lar
 gir votre r&amp;eacute\;seau social et professionnel et de vous impliquer dans
  la branche &amp;eacute\;tudiante IEEE de votre universit&amp;eacute\;\, tout en p
 rofitant de la nourriture et des boissons non alcoolis&amp;eacute\;es gratuite
 s. Les membres de l&#39;&lt;span style=&quot;color: #0000ff\;&quot;&gt;&lt;strong&gt;IEEE&lt;/strong&gt; &lt;
 /span&gt;recevront un t-shirt &lt;span style=&quot;color: #0000ff\;&quot;&gt;&lt;strong&gt;journ&amp;ea
 cute\;e&amp;nbsp\;IEEE&lt;/strong&gt;&lt;/span&gt;&lt;strong&gt; GRATUIT&lt;/strong&gt; (dans la limit
 e des stocks disponibles - si vous &amp;ecirc\;tes membre d&#39; IEEE\, n&#39;oubliez 
 pas de vous inscrire en utilisant votre num&amp;eacute\;ro d&#39;adh&amp;eacute\;sion 
 &amp;agrave\; IEEE).&lt;/span&gt;&lt;/p&gt;\n&lt;p style=&quot;text-align: justify\;&quot;&gt;&lt;span style=
 &quot;font-size: 12pt\;&quot;&gt;Branches d&#39;&amp;eacute\;tudiants IEEE participantes: &lt;span
  style=&quot;color: #ff0000\;&quot;&gt;&lt;strong&gt;&amp;Eacute\;TS&lt;/strong&gt;&lt;/span&gt;\, &lt;strong&gt;Po
 lytechnique Montr&amp;eacute\;al&lt;/strong&gt;\, et &lt;span style=&quot;color: #ff0000\;&quot;&gt;
 &lt;strong&gt;Universit&amp;eacute\;&lt;/strong&gt; &lt;strong&gt;McGill&lt;/strong&gt;&lt;/span&gt;.&amp;nbsp\;
 &amp;nbsp\;&amp;nbsp\;&amp;nbsp\;&lt;/span&gt;&lt;/p&gt;\n&lt;p style=&quot;text-align: justify\;&quot;&gt;&lt;span s
 tyle=&quot;font-size: 12pt\;&quot;&gt;Groupes d&#39;affinit&amp;eacute\; IEEE participants: &lt;st
 rong&gt;&lt;span style=&quot;color: #ff9900\;&quot;&gt;Young &lt;/span&gt;&lt;span style=&quot;color: #3399
 66\;&quot;&gt;Professionals&lt;/span&gt;\, &lt;span style=&quot;color: #800080\;&quot;&gt;Women in Engin
 eering&lt;/span&gt;\, &lt;/strong&gt;et&lt;strong&gt; &lt;span style=&quot;color: #ff6600\;&quot;&gt;SIGHT&lt;/
 span&gt;: Special Interest Group on Humanitarian Technology.&lt;/strong&gt;&lt;/span&gt;&lt;
 /p&gt;\n&lt;p style=&quot;text-align: justify\;&quot;&gt;&amp;nbsp\;&lt;/p&gt;&lt;br /&gt;&lt;br /&gt;Agenda: &lt;br /
 &gt;&lt;p&gt;&lt;span style=&quot;font-size: 10pt\;&quot;&gt;&lt;strong&gt;17:30 -- 18:00 &amp;nbsp\; &lt;/stron
 g&gt;Registration and refreshments&lt;strong&gt;&lt;br /&gt;&lt;/strong&gt;&lt;/span&gt;&lt;/p&gt;\n&lt;p&gt;&lt;spa
 n style=&quot;font-size: 10pt\;&quot;&gt;&lt;strong&gt;18:00 -- 18:15 &amp;nbsp\; &lt;/strong&gt;Openin
 g remarks - Introduction to IEEE: Dr. Saida Maaroufi&lt;br /&gt;&lt;/span&gt;&lt;/p&gt;\n&lt;p&gt;
 &lt;span style=&quot;font-size: 10pt\;&quot;&gt;&lt;strong&gt;18:15 -- 18:30&amp;nbsp\;&amp;nbsp\; &lt;/str
 ong&gt;Invited speaker: Prof. Federico Rosei&lt;strong&gt;&lt;br /&gt;&lt;/strong&gt;&lt;/span&gt;&lt;/p
 &gt;\n&lt;p&gt;&lt;span style=&quot;font-size: 10pt\;&quot;&gt;&lt;strong&gt;18:30 -- 18:45 &amp;nbsp\; &lt;/str
 ong&gt;Invited speaker: Prasun Lala&lt;br /&gt;&lt;/span&gt;&lt;/p&gt;\n&lt;p&gt;&lt;span style=&quot;font-si
 ze: 10pt\;&quot;&gt;&lt;strong&gt;18:45 -- 19:00&amp;nbsp\;&amp;nbsp\; &lt;/strong&gt;Invited speaker:
  Maxime Julien&lt;br /&gt;&lt;/span&gt;&lt;/p&gt;\n&lt;p&gt;&lt;span style=&quot;font-size: 10pt\;&quot;&gt;&lt;stron
 g&gt;19:00 -- 19:30&amp;nbsp\;&amp;nbsp\; &lt;/strong&gt;Panel&lt;strong&gt;&lt;br /&gt;&lt;/strong&gt;&lt;/span
 &gt;&lt;/p&gt;\n&lt;p&gt;&lt;span style=&quot;font-size: 10pt\;&quot;&gt;&lt;strong&gt;19:30 -- 21:00&amp;nbsp\;&amp;nb
 sp\; &lt;/strong&gt;Networking and food&lt;br /&gt;&lt;/span&gt;&lt;/p&gt;
END:VEVENT
END:VCALENDAR

