BEGIN:VCALENDAR
VERSION:2.0
PRODID:IEEE vTools.Events//EN
CALSCALE:GREGORIAN
BEGIN:VEVENT
DTSTAMP:20191002T131246Z
UID:58C391AD-EB33-42D4-8721-E0BA11CF7A64
DTSTART;TZID=Etc/GMT-5:20191001T160000
DTEND;TZID=Etc/GMT-5:20191001T180000
DESCRIPTION:La rama estudiantil UP tiene como primera actividad realizar un
  Taller Técnico\, en el cual se utilizarán Blue-Bot robots programables 
 infantiles\, la actividad se llevará a cabo en la Fundación Espacio Crea
 tivo el día 1º de octubre del presente año\, esta actividad tendrá com
 o objetivo enseñar a niños entre las edades de 9 a 13 años\, de una for
 ma dinámica y divertida la programación.\n\nCo-sponsored by: SENACYT\n\n
 Panamá \, Santa Ana\, Avenida B   Edificio Huertematte - Panamá\, Panam
 á \, Panama\, Panama
LOCATION:Panamá \, Santa Ana\, Avenida B   Edificio Huertematte - Panamá\
 , Panamá \, Panama\, Panama
ORGANIZER:sb.ramaup@ieee.org
SEQUENCE:2
SUMMARY:Taller Técnico para niños con Blue-Bot
URL;VALUE=URI:https://events.vtools.ieee.org/m/205161
X-ALT-DESC:Description: &lt;br /&gt;&lt;p&gt;La rama estudiantil UP tiene como primera 
 actividad realizar un Taller T&amp;eacute\;cnico\, en el cual se utilizar&amp;aacu
 te\;n Blue-Bot robots programables infantiles\, la actividad se llevar&amp;aac
 ute\; a cabo en la Fundaci&amp;oacute\;n Espacio Creativo el d&amp;iacute\;a 1&amp;ord
 m\; de octubre del presente a&amp;ntilde\;o\, esta actividad tendr&amp;aacute\; co
 mo objetivo ense&amp;ntilde\;ar a ni&amp;ntilde\;os entre las edades de 9 a 13 a&amp;n
 tilde\;os\, de una forma din&amp;aacute\;mica y divertida la programaci&amp;oacute
 \;n.&lt;/p&gt;
END:VEVENT
END:VCALENDAR

