BEGIN:VCALENDAR
VERSION:2.0
PRODID:IEEE vTools.Events//EN
CALSCALE:GREGORIAN
BEGIN:VTIMEZONE
TZID:US/Michigan
BEGIN:DAYLIGHT
DTSTART:20190310T030000
TZOFFSETFROM:-0500
TZOFFSETTO:-0400
RRULE:FREQ=YEARLY;BYDAY=2SU;BYMONTH=3
TZNAME:EDT
END:DAYLIGHT
BEGIN:STANDARD
DTSTART:20191103T010000
TZOFFSETFROM:-0400
TZOFFSETTO:-0500
RRULE:FREQ=YEARLY;BYDAY=1SU;BYMONTH=11
TZNAME:EST
END:STANDARD
END:VTIMEZONE
BEGIN:VEVENT
DTSTAMP:20200106T131945Z
UID:878397AE-782C-4BB4-9084-4C3E8D26F324
DTSTART;TZID=US/Michigan:20191017T173000
DTEND;TZID=US/Michigan:20191017T193000
DESCRIPTION:Southeastern Michigan IEEE EMC Chapter technical meeting.\n\nFo
 od Sponsor: Teledyne LeCroy www.Teledyne.com\n\nSlides: https://drive.goog
 le.com/open?id=1hucnraaLmcDmUFKLtDIiY3QGGPgCdxvL\n\nhttps://www.emcsociety
 .org/Shielding_Enclosure_Metrics_DL_1hour%20-%20US19.pptx\n\n[][]\n\nSpeak
 er(s): Andy Marvin\, \n\nAgenda: \n5:30 Pizza and Salad\n\n6:00 Presentati
 on\n\nBldg: Teledyne LeCroy Automotive\, 27007 Hills Tech Ct\, Farmington 
 Hills\, Michigan\, United States\,  48331
LOCATION:Bldg: Teledyne LeCroy Automotive\, 27007 Hills Tech Ct\, Farmingto
 n Hills\, Michigan\, United States\,  48331
ORGANIZER:scott@emcsociety.org
SEQUENCE:10
SUMMARY:Shielded Enclosure Metrics
URL;VALUE=URI:https://events.vtools.ieee.org/m/205431
X-ALT-DESC:Description: &lt;br /&gt;&lt;p&gt;Southeastern Michigan IEEE EMC Chapter tec
 hnical meeting.&lt;/p&gt;\n&lt;p&gt;&lt;span style=&quot;color: #ff0000\; font-size: 18pt\;&quot;&gt;F
 ood Sponsor: Teledyne LeCroy &amp;nbsp\;&lt;a href=&quot;http://www.Teledyne.com&quot;&gt;&lt;str
 ong&gt;www.Teledyne.com&lt;/strong&gt;&lt;/a&gt;&lt;/span&gt;&lt;/p&gt;\n&lt;p&gt;&lt;span style=&quot;color: #ff00
 00\; font-size: 18pt\;&quot;&gt;&lt;strong&gt;Slides:&amp;nbsp\;&lt;a href=&quot;https://drive.googl
 e.com/open?id=1hucnraaLmcDmUFKLtDIiY3QGGPgCdxvL&quot;&gt;https://drive.google.com/
 open?id=1hucnraaLmcDmUFKLtDIiY3QGGPgCdxvL&lt;/a&gt;&lt;/strong&gt;&lt;/span&gt;&lt;/p&gt;\n&lt;p&gt;&amp;nbs
 p\;&lt;/p&gt;\n&lt;p&gt;&lt;span style=&quot;color: #ff0000\; font-size: 18pt\;&quot;&gt;&lt;strong&gt;&amp;nbsp
 \;&lt;a href=&quot;https://www.emcsociety.org/Shielding_Enclosure_Metrics_DL_1hour
 %20-%20US19.pptx&quot;&gt;https://www.emcsociety.org/Shielding_Enclosure_Metrics_D
 L_1hour%20-%20US19.pptx&lt;/a&gt;&lt;/strong&gt;&lt;/span&gt;&lt;/p&gt;\n&lt;p&gt;&amp;nbsp\;&lt;/p&gt;\n&lt;p&gt;&lt;span 
 style=&quot;color: #ff0000\; font-size: 18pt\;&quot;&gt;&lt;img src=&quot;http://www.emcsociety
 .org/wp/wp-content/uploads/2017/10/Teledyne_Lecroy.jpg&quot; /&gt;&lt;/span&gt;&lt;/p&gt;\n&lt;p&gt;
 &amp;nbsp\;&lt;/p&gt;\n&lt;p&gt;&amp;nbsp\;&lt;/p&gt;\n&lt;p&gt;&lt;img src=&quot;http://www.emcsociety.org/big_ie
 e.jpg&quot; alt=&quot;&quot; width=&quot;100&quot; height=&quot;100&quot; /&gt;&lt;img src=&quot;http://www.emcsociety.o
 rg/emcsociety.jpg&quot; alt=&quot;&quot; width=&quot;200&quot; height=&quot;100&quot; /&gt;&lt;/p&gt;&lt;br /&gt;&lt;br /&gt;Agend
 a: &lt;br /&gt;&lt;p&gt;5:30&amp;nbsp\; Pizza and Salad&lt;/p&gt;\n&lt;p&gt;6:00 Presentation&lt;/p&gt;
END:VEVENT
END:VCALENDAR

