BEGIN:VCALENDAR
VERSION:2.0
PRODID:IEEE vTools.Events//EN
CALSCALE:GREGORIAN
BEGIN:VTIMEZONE
TZID:America/Panama
BEGIN:STANDARD
DTSTART:19080422T001936
TZOFFSETFROM:-0640
TZOFFSETTO:-0500
TZNAME:EST
END:STANDARD
END:VTIMEZONE
BEGIN:VEVENT
DTSTAMP:20191104T174053Z
UID:C081F5F1-4B57-414C-A7FC-D4F065540017
DTSTART;TZID=America/Panama:20191018T170000
DTEND;TZID=America/Panama:20191020T170000
DESCRIPTION:Estimados amigos:\n\nDesde 2013\, Panamá ha participado en la 
 prestigiosa Hackathon “International Space Apps Challenge” que nuestra
  Sección IEEE apoya a través del Capítulo de Robotics Association Socie
 ty &amp; Control System Society (RAS &amp; CSS).\n\nJunto con el IEEE\, las univer
 sidades e instituciones participantes invitan a Estudiantes y Profesionale
 s de la Sección IEEE a concursar de este emocionante evento en 25 retos s
 obre la tierra y el espacio.\n\nMás información del evento:\n\nhttps://2
 019.spaceappschallenge.org/locations/panama-city-panama/\n\nLos [Retos](ht
 tps://2019.spaceappschallenge.org/challenges/) se encuentran publicados en
  cada una de las 5 categorías publicados en el siguiente enlace\n\nhttps:
 //2019.spaceappschallenge.org/challenges/\n\nEl evento es apoyado por:\n\n
 - La [Universidad Latina de Panamá](http://www.ulat.ac.pa/)\n- La [Univer
 sidad de Panamá](http://www.up.ac.pa/PortalUp/index.aspx)\n- La [Universi
 dad Tecnológica de Panamá](http://www.utp.ac.pa/).\n- La [Universidad In
 teramericana de Panamá.](http://mercadeo.uip.edu.pa/campus/?utm_source=SE
 ARCH&amp;utm_medium=CPC&amp;utm_campaign=UIP&amp;utm_term=universidades)\n- La [Univer
 sidad Santa María La Antigua](https://usma.ac.pa/)\, y\n- La [Universidad
  Especializada de las Américas](http://www.udelas.ac.pa/).\n\n[Registro](
 https://2019.spaceappschallenge.org/auth/signup?location=panama-city-panam
 a) al evento:\n\nhttps://2019.spaceappschallenge.org/auth/signup?location=
 panama-city-panama\n\nAgenda: \nViernes\, 18 de Octubre de 2019\n\n5:00 pm
 : Inicio del Evento\n\nDomingo\, 20 de Octubre\n\n5:00 pm: Fin del Evento\
 n\nBldg: Facultad de Ingeniería\, Vía Ricardo J. Alfaro 87-877\, Panama\
 , Panama\, Panama
LOCATION:Bldg: Facultad de Ingeniería\, Vía Ricardo J. Alfaro 87-877\, Pa
 nama\, Panama\, Panama
ORGANIZER:ieeepma@ieee.org
SEQUENCE:7
SUMMARY:NASA SPACE APPS CHALLENGE PANAMA 2019
URL;VALUE=URI:https://events.vtools.ieee.org/m/205757
X-ALT-DESC:Description: &lt;br /&gt;&lt;p&gt;&lt;span style=&quot;font-size: 12pt\;&quot;&gt;&lt;strong&gt;Es
 timados amigos: &lt;/strong&gt;&lt;/span&gt;&lt;/p&gt;\n&lt;p&gt;Desde 2013\, Panam&amp;aacute\; ha pa
 rticipado en la prestigiosa Hackathon &lt;strong&gt;&amp;ldquo\;&lt;/strong&gt;&lt;em&gt;&lt;strong
 &gt;International Space Apps Challenge&lt;/strong&gt;&amp;rdquo\;&lt;/em&gt; que nuestra Secc
 i&amp;oacute\;n IEEE apoya a trav&amp;eacute\;s del Cap&amp;iacute\;tulo de &lt;strong&gt;Ro
 botics Association Society &amp;amp\; Control System Society&lt;/strong&gt; (RAS &amp;am
 p\; CSS).&lt;/p&gt;\n&lt;p&gt;Junto con el IEEE\, las universidades e instituciones pa
 rticipantes &amp;nbsp\;invitan a Estudiantes y Profesionales de la Secci&amp;oacut
 e\;n IEEE a concursar de este emocionante evento en 25 retos sobre la tier
 ra y el espacio.&lt;/p&gt;\n&lt;p&gt;M&amp;aacute\;s informaci&amp;oacute\;n del evento:&lt;/p&gt;\n
 &lt;p&gt;&lt;strong&gt;https://2019.spaceappschallenge.org/locations/panama-city-panam
 a/&lt;/strong&gt;&lt;/p&gt;\n&lt;p&gt;&amp;nbsp\;Los &lt;a href=&quot;https://2019.spaceappschallenge.or
 g/challenges/&quot;&gt;Retos&lt;/a&gt; se encuentran publicados en cada una de las 5 cat
 egor&amp;iacute\;as publicados en el siguiente enlace&lt;/p&gt;\n&lt;p&gt;&lt;strong&gt;https://
 2019.spaceappschallenge.org/challenges/&lt;/strong&gt;&lt;/p&gt;\n&lt;p&gt;El evento es apoy
 ado por:&lt;/p&gt;\n&lt;ul&gt;\n&lt;li&gt;La&amp;nbsp\;&lt;a href=&quot;http://www.ulat.ac.pa/&quot;&gt;Universi
 dad Latina de Panam&amp;aacute\;&lt;/a&gt;&lt;/li&gt;\n&lt;li&gt;La &lt;a href=&quot;http://www.up.ac.pa
 /PortalUp/index.aspx&quot;&gt;Universidad de Panam&amp;aacute\;&lt;/a&gt;&lt;/li&gt;\n&lt;li&gt;La&amp;nbsp\
 ;&lt;a href=&quot;http://www.utp.ac.pa/&quot;&gt;Universidad Tecnol&amp;oacute\;gica de Panam&amp;
 aacute\;&lt;/a&gt;.&lt;/li&gt;\n&lt;li&gt;La&amp;nbsp\;&lt;a href=&quot;http://mercadeo.uip.edu.pa/campu
 s/?utm_source=SEARCH&amp;amp\;utm_medium=CPC&amp;amp\;utm_campaign=UIP&amp;amp\;utm_te
 rm=universidades&quot;&gt;Universidad Interamericana de Panam&amp;aacute\;.&lt;/a&gt;&lt;/li&gt;\n
 &lt;li&gt;La&amp;nbsp\;&lt;a href=&quot;https://usma.ac.pa/&quot;&gt;Universidad Santa Mar&amp;iacute\;a
  La Antigua&lt;/a&gt;\, y&lt;/li&gt;\n&lt;li&gt;La&amp;nbsp\;&lt;a href=&quot;http://www.udelas.ac.pa/&quot;&gt;
 Universidad Especializada de las Am&amp;eacute\;ricas&lt;/a&gt;.&lt;/li&gt;\n&lt;/ul&gt;\n&lt;p&gt;&lt;a 
 href=&quot;https://2019.spaceappschallenge.org/auth/signup?location=panama-city
 -panama&quot;&gt;Registro&lt;/a&gt; al evento:&lt;/p&gt;\n&lt;p&gt;&lt;a href=&quot;https://2019.spaceappsch
 allenge.org/auth/signup?location=panama-city-panama&quot;&gt;https://2019.spaceapp
 schallenge.org/auth/signup?location=panama-city-panama&lt;/a&gt;&lt;/p&gt;\n&lt;p&gt;&amp;nbsp\;
 &lt;/p&gt;&lt;br /&gt;&lt;br /&gt;Agenda: &lt;br /&gt;&lt;div&gt;\n&lt;h5&gt;Viernes\, 18 de Octubre de 2019&lt;/
 h5&gt;\n&lt;h5&gt;&amp;nbsp\; &amp;nbsp\;5:00 pm: Inicio del Evento&lt;/h5&gt;\n&lt;h5&gt;Domingo\, 20 
 de Octubre&lt;/h5&gt;\n&lt;/div&gt;\n&lt;div&gt;\n&lt;div&gt;\n&lt;h5&gt;&amp;nbsp\; 5:00 pm: Fin del Evento
 &lt;/h5&gt;\n&lt;h5&gt;&amp;nbsp\;&lt;/h5&gt;\n&lt;/div&gt;\n&lt;/div&gt;
END:VEVENT
END:VCALENDAR

