BEGIN:VCALENDAR
VERSION:2.0
PRODID:IEEE vTools.Events//EN
CALSCALE:GREGORIAN
BEGIN:VTIMEZONE
TZID:America/Los_Angeles
BEGIN:DAYLIGHT
DTSTART:20190310T030000
TZOFFSETFROM:-0800
TZOFFSETTO:-0700
RRULE:FREQ=YEARLY;BYDAY=2SU;BYMONTH=3
TZNAME:PDT
END:DAYLIGHT
BEGIN:STANDARD
DTSTART:20191103T010000
TZOFFSETFROM:-0700
TZOFFSETTO:-0800
RRULE:FREQ=YEARLY;BYDAY=1SU;BYMONTH=11
TZNAME:PST
END:STANDARD
END:VTIMEZONE
BEGIN:VEVENT
DTSTAMP:20191030T154235Z
UID:BF417662-52E9-45D6-9268-A11E941561A2
DTSTART;TZID=America/Los_Angeles:20191010T180000
DTEND;TZID=America/Los_Angeles:20191010T200000
DESCRIPTION:IEEE Orange County Section Executive Committee Monthly meeting 
 - occurs every 2nd thursday of the month.\n\nAll IEEE OC Committee/Chapter
 /Affinity/SIG Chair/Key Volunteers (or their proxy) are requested to atten
 d. Other IEEE members are also welcome to attend. Please RVSP here to ensu
 re adequate food is ordered. Routine attendance is required to qualify for
  your chapter annual IEEE rebate.\n\nAgenda: \nIEEE OC Section R60027 ExCo
 m Agenda will be sent out to the OC ExCom ListServ\n\nTIME: 6:00pm – 6:3
 0pm : Networking/Dinner\n\n6:30pm - 8:30pm : ExCom Meeting\n\n8:30pm - 9
 :00pm : More Networking!\n\n41 Tesla\, Irvine\, Irvine\, California\, Unit
 ed States\, 92782
LOCATION:41 Tesla\, Irvine\, Irvine\, California\, United States\, 92782
ORGANIZER:NickMassetti@ieee.org
SEQUENCE:1
SUMMARY:IEEE OC Section ExCom Meeting - October 10\, 2019
URL;VALUE=URI:https://events.vtools.ieee.org/m/206000
X-ALT-DESC:Description: &lt;br /&gt;&lt;p&gt;IEEE Orange County Section Executive Commi
 ttee Monthly meeting - occurs every 2nd thursday of the month.&lt;/p&gt;\n&lt;p&gt;All
  IEEE OC Committee/Chapter/Affinity/SIG Chair/Key Volunteers&amp;nbsp\;(or the
 ir proxy) are requested to attend. Other IEEE members are also welcome to 
 attend. Please RVSP here to ensure adequate food is ordered. Routine atten
 dance is required to qualify for your chapter annual IEEE rebate.&lt;/p&gt;\n&lt;p&gt;
 &amp;nbsp\;&lt;/p&gt;&lt;br /&gt;&lt;br /&gt;Agenda: &lt;br /&gt;&lt;p&gt;&lt;span style=&quot;font-size: 12pt\;&quot;&gt;IE
 EE OC Section R60027 ExCom Agenda will be sent out &amp;nbsp\;to the OC ExCom 
 ListServ&lt;/span&gt;&lt;/p&gt;\n&lt;p&gt;&lt;span style=&quot;font-size: 12pt\;&quot;&gt;TIME: &lt;/span&gt;&lt;span
  style=&quot;font-size: 12pt\;&quot;&gt;6:00pm &amp;ndash\; 6:30pm : Networking/Dinner&amp;nbsp
 \;&lt;/span&gt;&lt;/p&gt;\n&lt;p&gt;&lt;span style=&quot;font-size: 12pt\;&quot;&gt;6:30pm - 8:30pm : ExCo
 m Meeting&lt;/span&gt;&lt;/p&gt;\n&lt;p&gt;&lt;span style=&quot;font-size: 12pt\;&quot;&gt;8:30pm - 9:00pm :
  More Networking!&lt;/span&gt;&lt;/p&gt;\n&lt;p&gt;&amp;nbsp\;&lt;/p&gt;\n&lt;p&gt;&amp;nbsp\;&lt;/p&gt;
END:VEVENT
END:VCALENDAR

