BEGIN:VCALENDAR
VERSION:2.0
PRODID:IEEE vTools.Events//EN
CALSCALE:GREGORIAN
BEGIN:VTIMEZONE
TZID:US/Pacific
BEGIN:DAYLIGHT
DTSTART:20200308T030000
TZOFFSETFROM:-0800
TZOFFSETTO:-0700
RRULE:FREQ=YEARLY;BYDAY=2SU;BYMONTH=3
TZNAME:PDT
END:DAYLIGHT
BEGIN:STANDARD
DTSTART:20191103T010000
TZOFFSETFROM:-0700
TZOFFSETTO:-0800
RRULE:FREQ=YEARLY;BYDAY=1SU;BYMONTH=11
TZNAME:PST
END:STANDARD
END:VTIMEZONE
BEGIN:VEVENT
DTSTAMP:20191220T011714Z
UID:360D8F3D-1463-45C0-B081-34942DFE2C70
DTSTART;TZID=US/Pacific:20191121T173000
DTEND;TZID=US/Pacific:20191121T210000
DESCRIPTION:Please plan to attend this meeting of the Industry Applications
  Society. The speaker will be Arpit Reja\, Protection Application Engineer
 \, SEL.\n\nAnalyzing relay event data is a challenge for most engineers. T
 he speaker will demonstrate the use of relay event analysis software\, SEL
 -5601-2 synchroWAVe Event Software\, to analyze real-world events and to q
 uickly identify the source of power system problems. Topics will include t
 he following:\n\n- Event report triggers\n- Types of event reports\n- Even
 t report retrieval\n- Overview of synchroWAVe Event\n- Analysis of real-wo
 rld events\n\nSpeaker(s): Arpit Reja\, \n\nZio Fraedo&#39;s\, 611 Gregory Lane
 \, Pleasant Hill\, California\, United States
LOCATION:Zio Fraedo&#39;s\, 611 Gregory Lane\, Pleasant Hill\, California\, Uni
 ted States
ORGANIZER:lmsq@pge.com
SEQUENCE:4
SUMMARY:Event Analysis using SEL-5601-2 synchroWAVe Event
URL;VALUE=URI:https://events.vtools.ieee.org/m/206262
X-ALT-DESC:Description: &lt;br /&gt;&lt;p&gt;Please plan to attend this meeting of the 
 Industry Applications Society. The speaker will be Arpit Reja\, Protection
  Application Engineer\, SEL.&lt;/p&gt;\n&lt;p&gt;&amp;nbsp\;&lt;/p&gt;\n&lt;p&gt;Analyzing relay event
  data is a challenge for most engineers. The speaker will demonstrate the 
 use of relay event analysis software\, SEL-5601-2 synchroWAVe Event Softwa
 re\, to analyze real-world events and to quickly identify the source of po
 wer system problems. Topics will include the following:&lt;/p&gt;\n&lt;p&gt;&amp;nbsp\;&lt;/p
 &gt;\n&lt;ul&gt;\n&lt;li&gt;Event report triggers&lt;/li&gt;\n&lt;li&gt;Types of event reports&lt;/li&gt;\n
 &lt;li&gt;Event report retrieval&lt;/li&gt;\n&lt;li&gt;Overview of synchroWAVe Event&lt;/li&gt;\n&lt;
 li&gt;Analysis of real-world events&lt;/li&gt;\n&lt;/ul&gt;
END:VEVENT
END:VCALENDAR

