BEGIN:VCALENDAR
VERSION:2.0
PRODID:IEEE vTools.Events//EN
CALSCALE:GREGORIAN
BEGIN:VTIMEZONE
TZID:US/Pacific
BEGIN:DAYLIGHT
DTSTART:20190310T030000
TZOFFSETFROM:-0800
TZOFFSETTO:-0700
RRULE:FREQ=YEARLY;BYDAY=2SU;BYMONTH=3
TZNAME:PDT
END:DAYLIGHT
BEGIN:STANDARD
DTSTART:20191103T010000
TZOFFSETFROM:-0700
TZOFFSETTO:-0800
RRULE:FREQ=YEARLY;BYDAY=1SU;BYMONTH=11
TZNAME:PST
END:STANDARD
END:VTIMEZONE
BEGIN:VEVENT
DTSTAMP:20191224T190810Z
UID:092C57B6-E8AC-4421-A29D-AA808A5F43FB
DTSTART;TZID=US/Pacific:20191016T150000
DTEND;TZID=US/Pacific:20191016T163000
DESCRIPTION:Led by Chris Piland\, an SFSU senior and EE major\, this solder
 ing workshop will teach you the basics and how to be proficient with a sol
 dering iron. If you have little to no soldering experience\, this event is
  perfect for your beginning steps to improve your technical skills. We enc
 ourage you to attend with a willingness to learn and a desire to enjoy the
  soldering aesthetics with us!\n\nPlease feel free to share or forward thi
 s email to your engineering friends. If you have any questions\, you may c
 ompose a new email and send them to:\n\njdelfin@mail.sfsu.edu\n\nThank you
  for your time and take care!\n\nV/R\,\n\nJonathan Delfin\n\nInternal Dire
 ctor of IEEE @ SFSU\n\nRoom: 111\, Bldg: Science\, 1600 Holloway Ave\, San
  Francisco\, California\, United States\, 94132
LOCATION:Room: 111\, Bldg: Science\, 1600 Holloway Ave\, San Francisco\, Ca
 lifornia\, United States\, 94132
ORGANIZER:jdelfin@mail.sfsu.edu
SEQUENCE:3
SUMMARY:Soldering Workshop
URL;VALUE=URI:https://events.vtools.ieee.org/m/206682
X-ALT-DESC:Description: &lt;br /&gt;&lt;p&gt;&lt;span style=&quot;font-weight: 400\;&quot;&gt;Led by Ch
 ris Piland\, an SFSU senior and EE major\, this soldering workshop will te
 ach you the basics and how to be proficient with a soldering iron. If you 
 have little to no soldering experience\, this event is perfect for your be
 ginning steps to improve your technical skills. We encourage you to attend
  with a willingness to learn and a desire to enjoy the soldering aesthetic
 s with us!&lt;/span&gt;&lt;/p&gt;\n&lt;p&gt;&lt;span style=&quot;font-weight: 400\;&quot;&gt;&amp;nbsp\;&lt;/span&gt;&lt;
 /p&gt;\n&lt;p&gt;&lt;span style=&quot;font-weight: 400\;&quot;&gt;Please feel free to share or forw
 ard this email to your engineering friends. If you have any questions\, yo
 u may compose a new email and send them to:&lt;/span&gt;&lt;/p&gt;\n&lt;p&gt;&lt;span style=&quot;fo
 nt-weight: 400\;&quot;&gt;jdelfin@mail.sfsu.edu&lt;/span&gt;&lt;/p&gt;\n&lt;p&gt;&lt;span style=&quot;font-w
 eight: 400\;&quot;&gt;Thank you for your time and take care!&lt;/span&gt;&lt;/p&gt;\n&lt;p&gt;&lt;span 
 style=&quot;font-weight: 400\;&quot;&gt;&amp;nbsp\;&lt;/span&gt;&lt;/p&gt;\n&lt;p&gt;&lt;span style=&quot;font-weight
 : 400\;&quot;&gt;V/R\,&lt;/span&gt;&lt;/p&gt;\n&lt;p&gt;&lt;span style=&quot;font-weight: 400\;&quot;&gt;Jonathan De
 lfin&lt;/span&gt;&lt;/p&gt;\n&lt;p&gt;&lt;span style=&quot;font-weight: 400\;&quot;&gt;Internal Director of 
 IEEE @ SFSU&lt;/span&gt;&lt;/p&gt;
END:VEVENT
END:VCALENDAR

