BEGIN:VCALENDAR
VERSION:2.0
PRODID:IEEE vTools.Events//EN
CALSCALE:GREGORIAN
BEGIN:VTIMEZONE
TZID:Asia/Calcutta
BEGIN:STANDARD
DTSTART:19451014T230000
TZOFFSETFROM:+0630
TZOFFSETTO:+0530
TZNAME:IST
END:STANDARD
END:VTIMEZONE
BEGIN:VEVENT
DTSTAMP:20191009T082034Z
UID:B487CB92-87AA-4FDB-B947-FD06A06A7040
DTSTART;TZID=Asia/Calcutta:20190619T150000
DTEND;TZID=Asia/Calcutta:20190619T163000
DESCRIPTION:The Student Branch inauguration was done by Prof N. Deepika Ran
 i\, Vice-Chair IEEE Vizag Bay Sub Section.\n\nFollowed by an Invited talk 
 :\n&quot;Running an IEEE SB&quot; by Lakshminarayana Sadasivuni\n\nDate: 19-6-2019\n
 Time: 15:00 - 16:30 hrs\nVenue: GVP College of Engineering for Women\, Vis
 akhapatnam.\n\nTotal IEEE Student members attended: 80\nTotal IEEE Profess
 ional Members: 8\n\nSpeaker(s): Prof N. Deepika Rani\, Vice-Chair IEEE Viz
 ag Bay Sub Section\, Dr. Lakshminarayana Sadasivuni\n\nAgenda: \n1. The in
 auguration of SB by Prof N. Deepika Rani\, Vice-Chair IEEE Vizag Bay Sub S
 ection.\n2. Invited talk : &quot;Running an IEEE SB&quot; by Lakshminarayana Sadasiv
 uni\n\nGVP College of Engineering for Women\, Visakhapatnam.\, visakhapatn
 am \, Andhra Pradesh\, India\, 530041
LOCATION:GVP College of Engineering for Women\, Visakhapatnam.\, visakhapat
 nam \, Andhra Pradesh\, India\, 530041
ORGANIZER:chisti@ieee.org
SEQUENCE:0
SUMMARY:Student Branch Inaugural -GVP College of Engineering for Women -IEE
 E Vizag Bay Sub Section
URL;VALUE=URI:https://events.vtools.ieee.org/m/206723
X-ALT-DESC:Description: &lt;br /&gt;&lt;div&gt;&amp;nbsp\;&lt;/div&gt;\n&lt;div&gt;&amp;nbsp\;&lt;/div&gt;\n&lt;div&gt;
 The Student Branch inauguration was done by Prof N. Deepika Rani\, Vice-Ch
 air IEEE Vizag Bay Sub Section.&lt;/div&gt;\n&lt;div&gt;&amp;nbsp\;&lt;/div&gt;\n&lt;div&gt;Followed b
 y an Invited talk :&lt;/div&gt;\n&lt;div&gt;&quot;Running an IEEE SB&quot; by Lakshminarayana Sa
 dasivuni&lt;/div&gt;\n&lt;div&gt;&amp;nbsp\;&lt;/div&gt;\n&lt;div&gt;Date: 19-6-2019&lt;/div&gt;\n&lt;div&gt;Time:
  15:00 - 16:30 hrs&lt;/div&gt;\n&lt;div&gt;Venue: GVP College of Engineering for Women
 \, Visakhapatnam.&lt;/div&gt;\n&lt;div&gt;&amp;nbsp\;&lt;/div&gt;\n&lt;div&gt;\n&lt;div&gt;Total IEEE Studen
 t members attended: 80&lt;/div&gt;\n&lt;div&gt;Total IEEE Professional Members: 8&lt;/div
 &gt;\n&lt;/div&gt;&lt;br /&gt;&lt;br /&gt;Agenda: &lt;br /&gt;&lt;div&gt;1. The inauguration of SB by&amp;nbsp\
 ;Prof N. Deepika Rani\, Vice-Chair IEEE Vizag Bay Sub Section.&lt;/div&gt;\n&lt;div
 &gt;2. Invited talk : &quot;Running an IEEE SB&quot; by Lakshminarayana Sadasivuni&lt;/div
 &gt;
END:VEVENT
END:VCALENDAR

