BEGIN:VCALENDAR
VERSION:2.0
PRODID:IEEE vTools.Events//EN
CALSCALE:GREGORIAN
BEGIN:VTIMEZONE
TZID:Asia/Calcutta
BEGIN:STANDARD
DTSTART:19451014T230000
TZOFFSETFROM:+0630
TZOFFSETTO:+0530
TZNAME:IST
END:STANDARD
END:VTIMEZONE
BEGIN:VEVENT
DTSTAMP:20191009T094538Z
UID:B6A7F0C3-2D7A-41AB-BD44-6A018B3B25E8
DTSTART;TZID=Asia/Calcutta:20190913T093000
DTEND;TZID=Asia/Calcutta:20190914T170000
DESCRIPTION:IEEE Professional Communication Workshop organized by IEEE Viza
 g Bay Sub Section and Sasi Institute of Technology &amp; Engineering.\n\nShri 
 K. V. Sriram\, Executive Director of Andhra Electronics\, Kakinada and Cha
 ir\,\nIEEE Vizag Sub Section was the chief guest for this workshop. This e
 vent was conceived and\nsupposed by Mr. A. Aravindhan\, Global Young Profe
 ssional Representative\, IEEE\nProfessional Communication Society. This wo
 rkshop is cosponsored by IEEE YP\, IEEE\nProfessional Communication Societ
 y\, R10 Young Professionals along with SPAA\, this\nworkshop was successfu
 lly conducted at Sasi Institute of Technology &amp; Engineering\,\nTadepalligu
 dem by SITE IEEE Student Chapter.\n\nChief Guest for this workshop Honorab
 le\, Shri K. V. Sriram\, Chair\, IEEE Vizag Bay\nSub Section\, Executive D
 irector\, Andhra Electronics\, Kakinada\, acclaimed all the volunteers\nan
 d the participants of this workshop. He advised all the participants that 
 being an engineer\nthe nature of curiosity\, experimentation and teaching 
 model should be inculcated with in the\nstudent. As the technology changes
  for every five years he suggested the students to develop\na sense of ‘
 I WANT TO CHANGE’ and it would help the student to think new and explore
 \nthings. He stated that the communication is very important but it is bei
 ng neglected in India.\nHe advised the students to develop a healthy commu
 nications and importance of networking.\nMs A. Nitisha delivered vote of t
 hanks to end the inaugural session.\n\nDay 1 - Session I\nSpeaker : Mr. K.
  Ramneek\, Wipro Ltd\, Bangalore\nTopic : Content Writing\n\nSession II\nS
 peaker : Mr. John Benedict\, Vice Chair\, Young Professional\, IEEE R10\nT
 opic : Social Media Marketing\n\nSession III\nSpeaker : Mr. P. Sivakumar\,
  SB Counselor\, SITE IEEE Student Chapter\nTopic : Benefits of IEEE Member
 ship &amp; Importance of Community Networking\n\nDay 2 – Session I\nSpeaker 
 : Dr. B. Chitti Babu\, IIITDM\, Kanchipuram\nTopic : Technical Writing\n\n
 Session II\nSpeaker : Mr. Aravindhan\, YP Representative\, IEEE Procomm So
 ciety\nTopic : Importance of Professional Communication\n\nSession III\nSp
 eaker : Mr. Aswanth Narayanan\, TCS Chennai\nTopic : Web Designing\n\nSess
 ion IV\nSpeaker : Mr. Aravindhan\, YP Representative\, IEEE Procomm Societ
 y\nTopic : 21\nst Century Resume Writing\n\nSpeaker(s): Shri K. V. Sriram\
 , Executive Director of Andhra Electronics\, Kakinada\, Mr. A. Aravindhan\
 , Global Young Professional Representative\, IEEE Professional Communicati
 on Society\n\nAgenda: \nAgenda: Talk by the following members:\n\nDr. B. C
 hitti Babu : Associate Professor\, IIIT DM Kanchipuram\nMr. John Benedict 
 : Vice Chair at IEEEXtreme 13.0\nMr. A. Aravindhan : Global YP representat
 ive\, IEEE ProComm Society\nMr. B. Ashvanth Narayan : IEEE Young Professio
 nal\, TCS Chennai\nMr. K. Ramneek : IEEE Brand Ambassador\, Wipro Ltd\, Ba
 ngalore\nMr. P. Sivakumar : SB Counselor\, SITE IEEE Student Chapter\n\nSa
 si Institute of Technology &amp; Engineering (Autonomous) Tadepalligudem\, And
 hra Pradesh\, India-534101\, Tadepalligudem\, Andhra Pradesh\, India\, 534
 101
LOCATION:Sasi Institute of Technology &amp; Engineering (Autonomous) Tadepallig
 udem\, Andhra Pradesh\, India-534101\, Tadepalligudem\, Andhra Pradesh\, I
 ndia\, 534101
ORGANIZER:chisti@ieee.org
SEQUENCE:0
SUMMARY:Sasi Institute of Technology &amp; Engineering-IEEE Professional Commun
 ication Workshop- IEEE Vizag Bay Sub Section
URL;VALUE=URI:https://events.vtools.ieee.org/m/206734
X-ALT-DESC:Description: &lt;br /&gt;&lt;p&gt;IEEE Professional Communication Workshop o
 rganized by IEEE Vizag Bay Sub Section and Sasi Institute of Technology &amp;a
 mp\; Engineering.&lt;/p&gt;\n&lt;p&gt;Shri K. V. Sriram\, Executive Director of Andhra
  Electronics\, Kakinada and Chair\,&lt;br /&gt;IEEE Vizag Sub Section was the ch
 ief guest for this workshop. This event was conceived and&lt;br /&gt;supposed by
  Mr. A. Aravindhan\, Global Young Professional Representative\, IEEE&lt;br /&gt;
 Professional Communication Society. This workshop is cosponsored by IEEE Y
 P\, IEEE&lt;br /&gt;Professional Communication Society\, R10 Young Professionals
  along with SPAA\, this&lt;br /&gt;workshop was successfully conducted at Sasi I
 nstitute of Technology &amp;amp\; Engineering\,&lt;br /&gt;Tadepalligudem by SITE IE
 EE Student Chapter.&lt;/p&gt;\n&lt;p&gt;Chief Guest for this workshop Honorable\, Shri
  K. V. Sriram\, Chair\, IEEE Vizag Bay&lt;br /&gt;Sub Section\, Executive Direct
 or\, Andhra Electronics\, Kakinada\, acclaimed all the volunteers&lt;br /&gt;and
  the participants of this workshop. He advised all the participants that b
 eing an engineer&lt;br /&gt;the nature of curiosity\, experimentation and teachi
 ng model should be inculcated with in the&lt;br /&gt;student. As the technology 
 changes for every five years he suggested the students to develop&lt;br /&gt;a s
 ense of &amp;lsquo\;I WANT TO CHANGE&amp;rsquo\; and it would help the student to 
 think new and explore&lt;br /&gt;things. He stated that the communication is ver
 y important but it is being neglected in India.&lt;br /&gt;He advised the studen
 ts to develop a healthy communications and importance of networking.&lt;br /&gt;
 Ms A. Nitisha delivered vote of thanks to end the inaugural session.&lt;/p&gt;\n
 &lt;p&gt;Day 1 - Session I&lt;br /&gt;Speaker : Mr. K. Ramneek\, Wipro Ltd\, Bangalore
 &lt;br /&gt;Topic : Content Writing&lt;/p&gt;\n&lt;p&gt;Session II&lt;br /&gt;Speaker : Mr. John B
 enedict\, Vice Chair\, Young Professional\, IEEE R10&lt;br /&gt;Topic : Social M
 edia Marketing&lt;/p&gt;\n&lt;p&gt;Session III&lt;br /&gt;Speaker : Mr. P. Sivakumar\, SB Co
 unselor\, SITE IEEE Student Chapter&lt;br /&gt;Topic : Benefits of IEEE Membersh
 ip &amp;amp\; Importance of Community Networking&lt;/p&gt;\n&lt;p&gt;Day 2 &amp;ndash\; Sessio
 n I&lt;br /&gt;Speaker : Dr. B. Chitti Babu\, IIITDM\, Kanchipuram&lt;br /&gt;Topic : 
 Technical Writing&lt;/p&gt;\n&lt;p&gt;Session II&lt;br /&gt;Speaker : Mr. Aravindhan\, YP Re
 presentative\, IEEE Procomm Society&lt;br /&gt;Topic : Importance of Professiona
 l Communication&lt;/p&gt;\n&lt;p&gt;Session III&lt;br /&gt;Speaker : Mr. Aswanth Narayanan\,
  TCS Chennai&lt;br /&gt;Topic : Web Designing&lt;/p&gt;\n&lt;p&gt;Session IV&lt;br /&gt;Speaker : 
 Mr. Aravindhan\, YP Representative\, IEEE Procomm Society&lt;br /&gt;Topic : 21&lt;
 br /&gt;st Century Resume Writing&lt;/p&gt;\n&lt;p&gt;&amp;nbsp\;&lt;/p&gt;&lt;br /&gt;&lt;br /&gt;Agenda: &lt;br 
 /&gt;&lt;p&gt;Agenda: Talk by the following members:&lt;/p&gt;\n&lt;p&gt;&lt;br /&gt;Dr. B. Chitti Ba
 bu : Associate Professor\, IIIT DM Kanchipuram&lt;br /&gt;Mr. John Benedict : Vi
 ce Chair at IEEEXtreme 13.0&lt;br /&gt;Mr. A. Aravindhan : Global YP representat
 ive\, IEEE ProComm Society&lt;br /&gt;Mr. B. Ashvanth Narayan : IEEE Young Profe
 ssional\, TCS Chennai&lt;br /&gt;Mr. K. Ramneek : IEEE Brand Ambassador\, Wipro 
 Ltd\, Bangalore&lt;br /&gt;Mr. P. Sivakumar : SB Counselor\, SITE IEEE Student C
 hapter&lt;/p&gt;
END:VEVENT
END:VCALENDAR

