BEGIN:VCALENDAR
VERSION:2.0
PRODID:IEEE vTools.Events//EN
CALSCALE:GREGORIAN
BEGIN:VTIMEZONE
TZID:Asia/Kolkata
BEGIN:STANDARD
DTSTART:19451014T230000
TZOFFSETFROM:+0630
TZOFFSETTO:+0530
TZNAME:IST
END:STANDARD
END:VTIMEZONE
BEGIN:VEVENT
DTSTAMP:20191009T120554Z
UID:96BD02D7-BD0F-4A94-BAC8-EEB3EE8E5A11
DTSTART;TZID=Asia/Kolkata:20191001T183000
DTEND;TZID=Asia/Kolkata:20191001T193000
DESCRIPTION:The Executive Committee Meeting was held at 107\, ACES Building
 \, Dept. of Electrical Engineering\, Indian Institute of Technology\, Kanp
 ur\, India on October 1st\, 2019 from 06:30 PM to 07:30 PM IST.\n\nMember(
 s) Present:\n\n(a) IEEE CIS Member(s)\n\n- A. K. Ghosh (on call)\n- Vrijen
 dra Singh (on call)\n- R. K. Misra (on call)\n- Nishchal K. Verma\n- Vikas
  Singh\n- Teena Sharma\n- Sonal Dixit\n- Pankaj Mishra\n- Mayank Pandey\n-
  Aparna Dixit\n\n(b) Non-IEEE CIS Member(s)\n\n- Arun Kumar Sharma\n- Seet
 aram Maurya\n\nNext Meeting: To be announced through email.\n\nMinutes Pre
 pared by: Ms. Teena Sharma\n\nThe meeting was adjourned with a vote of tha
 nks at 07:30 PM IST.\n\nWebsite: http://iitk.ac.in/idea/IEEECIS11/\n\nEmai
 l: ieeecis11@gmail.com\n\nAgenda: \nWelcome and Announcements:\n\nChairman
 \, Vice Chairman\, and Secretary welcomed all the members present in the m
 eeting.\n\nAgenda Item #1: Ratification of minutes of the previous meeting
 .\n\nDiscussion: The minutes of the previous meeting were read by Mr. Maya
 nk Pandey\, Vice Convener\, CIS Membership Activities\, CIS Chapter\, IEEE
  UP Section (CIS11) and with the consent of all the members present\, minu
 tes were approved.\n\nAgenda Item #2: IEEE CIS membership drives held duri
 ng the technical co-sponsored events in India.\n\nDiscussion: As per the A
 genda Item #3\, of previous meeting\, Chairman announced about the members
 hip drives conducted in India by the Executive Committee Team of the chapt
 er. The membership drives have been successfully conducted as per the foll
 owing details:\n\n- International Conference on Computing Applications in 
 Electrical and Electronics Engineering (ICCAEEE 2019)\, August 30th- 31st\
 , 2019\, Rajkiya Engineering College\, Sonbhadra\, Uttar Pradesh\, India (
 [https://iccaeee.in](https://iccaeee.in/))\n- IEEE CIS Summer School 2019 
 on Big Data Analytics and Stream Processing: Tools\, Techniques and Applic
 ation (BDASP 2019\, August 10th- 14th\, 2019\, Indian Institute of Informa
 tion Technology\, Allahabad\, Prayagraj\, Uttar Pradesh\, India ([https://
 bdasp.iiita.ac.in](https://bdasp.iiita.ac.in/))\n\nThe technical report of
  membership drives held was read by Ms. Teena Sharma.\n\nAction Item: The 
 report of the events has been received and uploaded on the chapter’s web
 page at http://iitk.ac.in/idea/IEEECIS11/support.html. Moreover\, the tech
 nical event report of membership drives held must be reported to IEEE.\n\n
 Agenda Item #3: Technical support for the events.\n\nDiscussion: Chairman 
 suggested to provide technical co-sponsorship to the events such as confer
 ences\, workshops\, summer/ winter schools\, faculty development programs\
 , etc.\, which are going to be held in the future. This will help to expan
 d the awareness about CIS among the research community. Chairman also sugg
 ested about the technical sponsorship\, resource persons\, and certificate
  to encourage and motivate the CIS activities among the researchers.\n\nAc
 tion Item: Dr. Aparna Dixit\, Convener\, CIS Membership Activities\, CIS C
 hapter\, IEEE UP Section (CIS11) took the initiative to communicate and co
 nduct the further events in colleges of Uttar Pradesh and Delhi NCR to rai
 se the awareness. Moreover\, Prof. Vrijendra Singh\, Vice Chairman\, CIS C
 hapter\, IEEE UP Section (CIS11) will provide the list of resource persons
 .\n\nRoom: 107\, Bldg: ACES Building\, DEPT. OF ELECTRICAL ENGINEERING\, I
 IT KANPUR\, KANPUR\, Uttar Pradesh\, India\, 208016
LOCATION:Room: 107\, Bldg: ACES Building\, DEPT. OF ELECTRICAL ENGINEERING\
 , IIT KANPUR\, KANPUR\, Uttar Pradesh\, India\, 208016
ORGANIZER:nishchal@iitk.ac.in
SEQUENCE:0
SUMMARY:Executive Committee Meeting
URL;VALUE=URI:https://events.vtools.ieee.org/m/206741
X-ALT-DESC:Description: &lt;br /&gt;&lt;p&gt;The Executive Committee Meeting was held a
 t 107\, ACES Building\, Dept. of Electrical Engineering\, Indian Institute
  of Technology\, Kanpur\, India on October 1&lt;sup&gt;st&lt;/sup&gt;\, 2019 from 06:3
 0 PM to 07:30 PM IST.&lt;/p&gt;\n&lt;p&gt;&lt;strong&gt;&amp;nbsp\;&lt;/strong&gt;&lt;/p&gt;\n&lt;p&gt;&lt;strong&gt;Mem
 ber(s) Present:&lt;/strong&gt;&lt;/p&gt;\n&lt;p&gt;&lt;strong&gt;(a) IEEE CIS Member(s)&lt;/strong&gt;&lt;/
 p&gt;\n&lt;ul&gt;\n&lt;li&gt;A. K. Ghosh (on call)&lt;/li&gt;\n&lt;li&gt;Vrijendra Singh (on call)&lt;/l
 i&gt;\n&lt;li&gt;R. K. Misra (on call)&lt;/li&gt;\n&lt;li&gt;Nishchal K. Verma&lt;/li&gt;\n&lt;li&gt;Vikas 
 Singh&lt;/li&gt;\n&lt;li&gt;Teena Sharma&lt;/li&gt;\n&lt;li&gt;Sonal Dixit&lt;/li&gt;\n&lt;li&gt;Pankaj Mishra
 &lt;/li&gt;\n&lt;li&gt;Mayank Pandey&lt;/li&gt;\n&lt;li&gt;Aparna Dixit&lt;/li&gt;\n&lt;/ul&gt;\n&lt;p&gt;&lt;strong&gt;(b
 ) Non-IEEE CIS Member(s)&lt;/strong&gt;&lt;/p&gt;\n&lt;ul&gt;\n&lt;li&gt;Arun Kumar Sharma&lt;/li&gt;\n&lt;
 li&gt;Seetaram Maurya&lt;/li&gt;\n&lt;/ul&gt;\n&lt;p&gt;&amp;nbsp\;&lt;/p&gt;\n&lt;p&gt;&lt;strong&gt;Next Meeting&lt;/s
 trong&gt;: To be announced through email.&lt;/p&gt;\n&lt;p&gt;&lt;strong&gt;Minutes Prepared by
 :&lt;/strong&gt;&amp;nbsp\;Ms. Teena Sharma&lt;/p&gt;\n&lt;p&gt;The meeting was adjourned with a
  vote of thanks at 07:30&amp;nbsp\;PM IST.&lt;/p&gt;\n&lt;p&gt;Website:&amp;nbsp\;&lt;a href=&quot;htt
 p://iitk.ac.in/idea/IEEECIS11/&quot;&gt;http://iitk.ac.in/idea/IEEECIS11/&lt;/a&gt;&lt;/p&gt;\
 n&lt;p&gt;Email:&amp;nbsp\;&lt;a href=&quot;mailto:ieeecis11@gmail.com&quot;&gt;ieeecis11@gmail.com&lt;
 /a&gt;&lt;/p&gt;&lt;br /&gt;&lt;br /&gt;Agenda: &lt;br /&gt;&lt;p&gt;&lt;strong&gt;Welcome and Announcements:&lt;/st
 rong&gt;&lt;/p&gt;\n&lt;p&gt;Chairman\, Vice Chairman\, and Secretary welcomed all the me
 mbers present in the meeting.&lt;/p&gt;\n&lt;p&gt;&amp;nbsp\;&lt;/p&gt;\n&lt;p&gt;&amp;nbsp\;&lt;/p&gt;\n&lt;p&gt;&lt;str
 ong&gt;Agenda Item #1&lt;/strong&gt;: Ratification of minutes of the previous meeti
 ng.&lt;/p&gt;\n&lt;p&gt;&lt;strong&gt;Discussion:&lt;/strong&gt;&amp;nbsp\;The minutes of the previous
  meeting were read by Mr. Mayank Pandey\,&amp;nbsp\;&lt;em&gt;Vice Convener\, CIS Me
 mbership Activities\, CIS Chapter\, IEEE UP Section (CIS11)&lt;/em&gt; and with 
 the consent of all the members present\, minutes were approved.&lt;/p&gt;\n&lt;p&gt;&amp;n
 bsp\;&lt;/p&gt;\n&lt;p&gt;&lt;strong&gt;Agenda Item #2:&lt;/strong&gt;&lt;strong&gt;&amp;nbsp\;IEEE CIS &lt;/st
 rong&gt;membership drives held during the technical co-sponsored events in In
 dia.&lt;/p&gt;\n&lt;p&gt;&lt;strong&gt;Discussion:&lt;/strong&gt;&amp;nbsp\;As per the Agenda Item #3\
 , of previous meeting\, Chairman announced about the membership drives con
 ducted in India by the Executive Committee Team of the chapter. The member
 ship drives have been successfully conducted as per the following details:
 &lt;/p&gt;\n&lt;ul&gt;\n&lt;li&gt;International Conference on Computing Applications in Elec
 trical and Electronics Engineering (ICCAEEE 2019)\, August 30&lt;sup&gt;th&lt;/sup&gt;
 - 31&lt;sup&gt;st&lt;/sup&gt;\, 2019\, Rajkiya Engineering College\, Sonbhadra\, Uttar
  Pradesh\, India (&lt;a href=&quot;https://iccaeee.in/&quot;&gt;https://iccaeee.in&lt;/a&gt;)&lt;/l
 i&gt;\n&lt;li&gt;IEEE CIS Summer School 2019 on Big Data Analytics and Stream Proce
 ssing: Tools\, Techniques and Application (BDASP 2019\, August 10&lt;sup&gt;th&lt;/
 sup&gt;- 14&lt;sup&gt;th&lt;/sup&gt;\, 2019\, Indian Institute of Information Technology\
 , Allahabad\, Prayagraj\, Uttar Pradesh\, India (&lt;a href=&quot;https://bdasp.ii
 ita.ac.in/&quot;&gt;https://bdasp.iiita.ac.in&lt;/a&gt;)&lt;/li&gt;\n&lt;/ul&gt;\n&lt;p&gt;The technical r
 eport of membership drives held was read by Ms. Teena Sharma.&lt;/p&gt;\n&lt;p&gt;&lt;str
 ong&gt;Action Item:&lt;/strong&gt;&amp;nbsp\;The report of the events has been received
  and uploaded on the chapter&amp;rsquo\;s webpage at &lt;a href=&quot;http://iitk.ac.i
 n/idea/IEEECIS11/support.html&quot;&gt;http://iitk.ac.in/idea/IEEECIS11/support.ht
 ml&lt;/a&gt;. Moreover\, the technical event report of membership drives held mu
 st be reported to IEEE.&lt;/p&gt;\n&lt;p&gt;&amp;nbsp\;&lt;/p&gt;\n&lt;p&gt;&lt;strong&gt;Agenda Item #3:&lt;/s
 trong&gt;&lt;strong&gt;&amp;nbsp\;&lt;/strong&gt;Technical support for the events.&lt;/p&gt;\n&lt;p&gt;&lt;s
 trong&gt;Discussion: &lt;/strong&gt;Chairman suggested to provide technical co-spon
 sorship to the events such as conferences\, workshops\, summer/ winter sch
 ools\, faculty development programs\, etc.\, which are going to be held in
  the future. This will help to expand the awareness about CIS among the re
 search community. Chairman also suggested about the technical sponsorship\
 , resource persons\, and certificate to encourage and motivate the CIS act
 ivities among the researchers.&lt;/p&gt;\n&lt;p&gt;&lt;strong&gt;Action Item:&lt;/strong&gt;&amp;nbsp\
 ;Dr. Aparna Dixit\, Convener\, &lt;em&gt;CIS Membership Activities\, CIS Chapter
 \, IEEE UP Section (CIS11)&lt;/em&gt; took the initiative to communicate and con
 duct the further events in colleges of Uttar Pradesh and Delhi NCR to rais
 e the awareness. Moreover\, Prof. Vrijendra Singh\, &lt;em&gt;Vice Chairman\,&lt;/e
 m&gt; &lt;em&gt;CIS Chapter\, IEEE UP Section (CIS11)&lt;/em&gt; will provide the list of
  resource persons.&lt;/p&gt;
END:VEVENT
END:VCALENDAR

