BEGIN:VCALENDAR
VERSION:2.0
PRODID:IEEE vTools.Events//EN
CALSCALE:GREGORIAN
BEGIN:VTIMEZONE
TZID:America/Denver
BEGIN:DAYLIGHT
DTSTART:20200308T030000
TZOFFSETFROM:-0700
TZOFFSETTO:-0600
RRULE:FREQ=YEARLY;BYDAY=2SU;BYMONTH=3
TZNAME:MDT
END:DAYLIGHT
BEGIN:STANDARD
DTSTART:20191103T010000
TZOFFSETFROM:-0600
TZOFFSETTO:-0700
RRULE:FREQ=YEARLY;BYDAY=1SU;BYMONTH=11
TZNAME:MST
END:STANDARD
END:VTIMEZONE
BEGIN:VEVENT
DTSTAMP:20191113T224913Z
UID:60DA9E0F-03B4-4773-8015-E674E389085C
DTSTART;TZID=America/Denver:20191112T173000
DTEND;TZID=America/Denver:20191112T193000
DESCRIPTION:Professionals and Students\, welcome to an opportunity to netwo
 rk and review recent research by our Distinguished Lecturer\, Dr. David G.
  Long\, Director of BYU Center for Remote Sensing and Professor of Electri
 cal and Computer Engineering at Brigham Young University.\n\nSpeaker(s): D
 avid G. Long\, \n\nAgenda: \nThe meeting with have a short discussion of u
 pcoming activities and include a snack.\n\nRoom: 200\, Bldg: Engineering\,
  ECCR\, Boulder\, Colorado\, United States\, 80309
LOCATION:Room: 200\, Bldg: Engineering\, ECCR\, Boulder\, Colorado\, United
  States\, 80309
ORGANIZER:w.neill.kefauver@lmco.com
SEQUENCE:2
SUMMARY:Fall Meeting IEEE GRSS\, Joint Chapter Front Range
URL;VALUE=URI:https://events.vtools.ieee.org/m/206869
X-ALT-DESC:Description: &lt;br /&gt;&lt;p&gt;Professionals and Students\, welcome to an
  opportunity to network and review recent research by our Distinguished Le
 cturer\, Dr. David G. Long\, Director of BYU Center for Remote Sensing and
  Professor of Electrical and Computer Engineering at Brigham Young Univers
 ity.&lt;/p&gt;&lt;br /&gt;&lt;br /&gt;Agenda: &lt;br /&gt;&lt;p&gt;The meeting with have a short discuss
 ion of upcoming activities and include a snack.&lt;/p&gt;
END:VEVENT
END:VCALENDAR

