BEGIN:VCALENDAR
VERSION:2.0
PRODID:IEEE vTools.Events//EN
CALSCALE:GREGORIAN
BEGIN:VTIMEZONE
TZID:Asia/Kolkata
BEGIN:STANDARD
DTSTART:19451014T230000
TZOFFSETFROM:+0630
TZOFFSETTO:+0530
TZNAME:IST
END:STANDARD
END:VTIMEZONE
BEGIN:VEVENT
DTSTAMP:20191019T073200Z
UID:C7E7F70D-1F24-49A1-B8C4-AFB8F5F75330
DTSTART;TZID=Asia/Kolkata:20190426T100000
DTEND;TZID=Asia/Kolkata:20190426T170000
DESCRIPTION:An event &quot;Project Exhibition&quot; was held by the IEEE Student Bran
 ch of Shivalik College of Engineering on 26th of April.In this event almos
 t 55 students participated amongst which 15 were IEEE Student members and 
 15 from students from different colleges participated.\n\nThey displayed t
 heir ideas in the form of projects made by them .Out of these 3 best proje
 cts were chosen and awarded with cash prizes and certificates.\n\nCo-spons
 ored by: IEEE UP Section\n\nAgenda: \nThis event was held to make the stud
 ents realise how far they can think and implement their ideas in real life
  projects\,making them believe that every illusion could be made a reality
 .\n\nShivalik College of Engineering\,Sihniwala\, Shimla Road P.O Sherpur\
 , Dehradun\, Uttaranchal\, India\, 248001
LOCATION:Shivalik College of Engineering\,Sihniwala\, Shimla Road P.O Sherp
 ur\, Dehradun\, Uttaranchal\, India\, 248001
ORGANIZER:surmadhur.pant@ieee.org
SEQUENCE:1
SUMMARY:Project Exhibition
URL;VALUE=URI:https://events.vtools.ieee.org/m/207687
X-ALT-DESC:Description: &lt;br /&gt;&lt;p&gt;An event &quot;Project Exhibition&quot; was held by 
 the IEEE Student Branch of Shivalik College of Engineering on 26th of Apri
 l.In this event almost 55 students participated amongst which 15 were IEEE
  Student members and 15 from students from different colleges participated
 .&lt;/p&gt;\n&lt;p&gt;They displayed their ideas in the form of projects made by them 
 .Out of these 3 best projects were chosen and awarded with cash prizes and
  certificates.&lt;/p&gt;&lt;br /&gt;&lt;br /&gt;Agenda: &lt;br /&gt;&lt;p&gt;This event was held to make
  the students realise how far they can think and implement their ideas in 
 real life projects\,making them believe that every illusion could be made 
 a reality.&lt;/p&gt;
END:VEVENT
END:VCALENDAR

