BEGIN:VCALENDAR
VERSION:2.0
PRODID:IEEE vTools.Events//EN
CALSCALE:GREGORIAN
BEGIN:VTIMEZONE
TZID:Europe/London
BEGIN:DAYLIGHT
DTSTART:20200329T020000
TZOFFSETFROM:+0000
TZOFFSETTO:+0100
RRULE:FREQ=YEARLY;BYDAY=-1SU;BYMONTH=3
TZNAME:BST
END:DAYLIGHT
BEGIN:STANDARD
DTSTART:20191027T010000
TZOFFSETFROM:+0100
TZOFFSETTO:+0000
RRULE:FREQ=YEARLY;BYDAY=-1SU;BYMONTH=10
TZNAME:GMT
END:STANDARD
END:VTIMEZONE
BEGIN:VEVENT
DTSTAMP:20200624T163711Z
UID:9208C2DA-B27C-4DA7-A89E-83E06BC2B9A6
DTSTART;TZID=Europe/London:20191106T150000
DTEND;TZID=Europe/London:20191106T160000
DESCRIPTION:This talk is a high-level overview of the Naval Research Labora
 tory organization structure and then highlights some of the activities in 
 the NRL Plasma Physics Division. The technical content of this talk is low
 .\n\nSpeaker(s): Frank Hegeler\, \n\nRoom: 1083\, Bldg: 6\, University of 
 Southampton\, Highfield Campus\, Southampton\, England\, United Kingdom\, 
 SO17 1BJ
LOCATION:Room: 1083\, Bldg: 6\, University of Southampton\, Highfield Campu
 s\, Southampton\, England\, United Kingdom\, SO17 1BJ
ORGANIZER:t.andritsch@soton.ac.uk
SEQUENCE:2
SUMMARY:Brief Overview of the US Naval Research Laboratory (NRL) and the NR
 L Plasma Physics Division
URL;VALUE=URI:https://events.vtools.ieee.org/m/207992
X-ALT-DESC:Description: &lt;br /&gt;&lt;p&gt;This talk is a high-level overview of the 
 Naval Research Laboratory organization structure and then highlights some 
 of the activities in the NRL Plasma Physics Division. The technical conten
 t of this talk is low.&lt;/p&gt;
END:VEVENT
END:VCALENDAR

