BEGIN:VCALENDAR
VERSION:2.0
PRODID:IEEE vTools.Events//EN
CALSCALE:GREGORIAN
BEGIN:VTIMEZONE
TZID:America/Chicago
BEGIN:DAYLIGHT
DTSTART:20200308T030000
TZOFFSETFROM:-0600
TZOFFSETTO:-0500
RRULE:FREQ=YEARLY;BYDAY=2SU;BYMONTH=3
TZNAME:CDT
END:DAYLIGHT
BEGIN:STANDARD
DTSTART:20191103T010000
TZOFFSETFROM:-0500
TZOFFSETTO:-0600
RRULE:FREQ=YEARLY;BYDAY=1SU;BYMONTH=11
TZNAME:CST
END:STANDARD
END:VTIMEZONE
BEGIN:VEVENT
DTSTAMP:20191028T141248Z
UID:60C6468E-DC0A-4916-B0F1-BAF0DEB659C3
DTSTART;TZID=America/Chicago:20200201T120300
DTEND;TZID=America/Chicago:20200201T230000
DESCRIPTION:Student Branch Annual Plan (Due February 1st)\n\nTo help you ke
 ep track of your yearly activities\, your Student Branch is required to su
 bmit the Student Branch Annual Plan. It also serves as a valuable historic
 al document to aid future executives in their planning and records financi
 al statements so it is important that the Student Branch Treasurer is invo
 lved in the preparation of the report. The due date for filing your Annual
  Plan is on or before 1 February annually.\n\nCo-sponsored by: Sean White\
 n\nHouston\, Texas\, United States
LOCATION:Houston\, Texas\, United States
ORGANIZER:sjwhite@ieee.org
SEQUENCE:0
SUMMARY:Student Branch Reporting
URL;VALUE=URI:https://events.vtools.ieee.org/m/208678
X-ALT-DESC:Description: &lt;br /&gt;&lt;p&gt;&lt;strong&gt;Student Branch Annual Plan&lt;/strong
 &gt;&amp;nbsp\;(&lt;span style=&quot;color: #ff0000\;&quot;&gt;&lt;strong&gt;Due February 1st&lt;/strong&gt;&lt;
 /span&gt;)&lt;/p&gt;\n&lt;p&gt;To help you keep track of your yearly activities\, your St
 udent Branch is required to submit the Student Branch Annual Plan. It also
  serves as a valuable historical document to aid future executives in thei
 r planning and records financial statements so it is important that the St
 udent Branch Treasurer is involved in the preparation of the report.&amp;nbsp\
 ;The due date for filing your Annual Plan is on or before 1 February annua
 lly.&lt;/p&gt;
END:VEVENT
END:VCALENDAR

